BEGIN:VCALENDAR
VERSION:2.0
PRODID:-//APS - ECPv6.15.20//NONSGML v1.0//EN
CALSCALE:GREGORIAN
METHOD:PUBLISH
X-WR-CALNAME:APS
X-ORIGINAL-URL:https://aps.pt
X-WR-CALDESC:Eventos para APS
REFRESH-INTERVAL;VALUE=DURATION:PT1H
X-Robots-Tag:noindex
X-PUBLISHED-TTL:PT1H
BEGIN:VTIMEZONE
TZID:UTC
BEGIN:STANDARD
TZOFFSETFROM:+0000
TZOFFSETTO:+0000
TZNAME:UTC
DTSTART:20230101T000000
END:STANDARD
END:VTIMEZONE
BEGIN:VEVENT
DTSTART;TZID=UTC:20241031T160000
DTEND;TZID=UTC:20241031T160000
DTSTAMP:20260422T183134
CREATED:20241022T184632Z
LAST-MODIFIED:20241022T184632Z
UID:26057-1730390400-1730390400@aps.pt
SUMMARY:Special Seminar || PUNK\, WOMEN AND SOCIAL MOVEMENTS IN THE NETHERLANDS\, 1975-1982 (AND BEYOND) | Herman de Tollenaere
DESCRIPTION:Nesta sua vinda ao Porto\, Herman dinamiza um seminário especial acerca das contraculturas\, feminismo e novos movimentos sociais.\nA apresentação e moderação do seminário estará a cargo de Paula Guerra (UPORTO/ IS-UP). A entrada é livre.
URL:https://aps.pt/event/special-seminar-punk-women-and-social-movements-in-the-netherlands-1975-1982-and-beyond-herman-de-tollenaere/
LOCATION:Porto\, Sala de Reuniões 2 da Faculdade de Letras da Universidade do Porto
END:VEVENT
BEGIN:VEVENT
DTSTART;TZID=UTC:20241031T173000
DTEND;TZID=UTC:20241031T173000
DTSTAMP:20260422T183134
CREATED:20241022T092512Z
LAST-MODIFIED:20241022T092512Z
UID:26040-1730395800-1730395800@aps.pt
SUMMARY:Conferência "O Futuro da Habitação"\, por Tom Slater (Columbia University\, Nova Iorque)
DESCRIPTION:Esta conferência integra o programa do projeto “Deslocações”\, uma parceria do Instituto de Sociologia da Universidade do Porto e do Museu da Pessoa com o INSTITUTO e paulomoreira architectures\, a Associação de Promoção Social da População do Bairro do Aleixo e a Escola Superior de Educação do Politécnico do Porto\, com o apoio da DG Artes. \nA apresentação e moderação da sessão estarão a cargo de João Queirós (ESE-P.PORTO/IS-UP). A entrada é livre
URL:https://aps.pt/event/conferencia-o-futuro-da-habitacao-por-tom-slater-columbia-university-nova-iorque/
LOCATION:Porto\, Sala de Reuniões 2 da Faculdade de Letras da Universidade do Porto
END:VEVENT
END:VCALENDAR