BEGIN:VCALENDAR
VERSION:2.0
PRODID:-//APS - ECPv6.15.20//NONSGML v1.0//EN
CALSCALE:GREGORIAN
METHOD:PUBLISH
X-ORIGINAL-URL:https://aps.pt
X-WR-CALDESC:Eventos para APS
REFRESH-INTERVAL;VALUE=DURATION:PT1H
X-Robots-Tag:noindex
X-PUBLISHED-TTL:PT1H
BEGIN:VTIMEZONE
TZID:UTC
BEGIN:STANDARD
TZOFFSETFROM:+0000
TZOFFSETTO:+0000
TZNAME:UTC
DTSTART:20230101T000000
END:STANDARD
END:VTIMEZONE
BEGIN:VEVENT
DTSTART;TZID=UTC:20241107T000000
DTEND;TZID=UTC:20241108T000000
DTSTAMP:20260422T071008
CREATED:20241029T193652Z
LAST-MODIFIED:20241029T193652Z
UID:26101-1730937600-1731024000@aps.pt
SUMMARY:16º Congresso Nacional da ADFERSIT | "A Integração Global de Portugal: Que Projetos Estratégicos?"
DESCRIPTION:Num momento em que se concluem ou iniciam no país importantes projetos em diferentes sectores dos transportes\, pareceu-nos útil e necessário proceder a esta reflexão coletiva\, que se pretende fundamentada\, mas também assertiva. Estamos num momento único de decisão e concretização de projetos\, há muito adiados ou com enormes atrasos\, para aceitarmos desperdiçar o que parece ser uma última oportunidade para pormos o nosso sistema intermodal de transportes no século XXI. Os imensos fundos financeiros disponibilizados pela União Europeia – do PRR ao Portugal 2030 – terão de proporcionar um salto qualitativo significativo. \nEste tema geral do congresso será abordado segundo duas preocupações e perspetivas complementares. Desde logo\, as das redes e sistemas de transportes\, nomeadamente as que integram as redes transeuropeias de transporte ferroviário\, em que a interoperabilidade total é um desígnio. Por outro lado\, porque disso também depende o futuro e a performance dessas redes\, é importante refletir sobre que organização territorial desejamos\, quer em termos de país\, quer no conjunto da Península Ibérica\, para que este espaço possa enfrentar melhor os desafios numa perspetiva mais sustentável e de maior justiça e coesão sociais. \nMais informações em https://16-congresso.adfersit.pt/
URL:https://aps.pt/event/16o-congresso-nacional-da-adfersit-a-integracao-global-de-portugal-que-projetos-estrategicos/
LOCATION:Lisboa\, Centro de Congressos do LNEC
END:VEVENT
BEGIN:VEVENT
DTSTART;TZID=UTC:20241107T000000
DTEND;TZID=UTC:20241108T000000
DTSTAMP:20260422T071008
CREATED:20241030T131932Z
LAST-MODIFIED:20241030T131932Z
UID:26118-1730937600-1731024000@aps.pt
SUMMARY:Water-Energy-Food Nexus at local level
DESCRIPTION:7 – 8 novembro 2024 | Instituto de Ciências Sociais da Universidade de Lisboa \nNos dias 7 e 8 de novembro\, o ICS-ULisboa recebe a conferência do projecto CitySelfy. Esta conferência tem por objetivo contribuir para uma compreensão abrangente dos desafios e oportunidades relacionadas com sistemas de água\, energia e alimentação ao nível local. \nDurante a conferência serão apresentados os principais projetos relacionados com o Water-Energy-Food nexus\, e um Speed ​​Date de investigação (mediante inscrição). \nO evento é aberto a toda a comunidade\, sendo no entanto necessária inscrição. Na Sala Maria de Sousa do ICS-ULisboa e online. \nOrganização: NOVA FCT\, Universidade NOVA de Lisboa; ICS-ULisboa; Universidade de Groningen (Rudolf Agricola School for Sustainable Development & Wubbo Ockels School for Energy and Climate) e Câmara Municipal de Cascais.
URL:https://aps.pt/event/water-energy-food-nexus-at-local-level/
LOCATION:Instituto de Ciências Sociais da Universidade de Lisboa\, Av. prof. Aníbal de Bettencourt\,\, Lisboa\, 1600-189\, Portugal
END:VEVENT
BEGIN:VEVENT
DTSTART;TZID=UTC:20241107T090000
DTEND;TZID=UTC:20241107T090000
DTSTAMP:20260422T071008
CREATED:20241029T193059Z
LAST-MODIFIED:20241029T193059Z
UID:26099-1730970000-1730970000@aps.pt
SUMMARY:Seminário "As Tecnologias Disruptivas num Contexto de Ameaças Híbridas"
DESCRIPTION:O Seminário abordará os desafios que o desenvolvimento de tecnologias disruptivas impõe em ambiente de ameaças híbridas\, relevantes para a compreensão do tema e explorará a possibilidade de desenvolvimento de estratégias de mitigação dos riscos associados. \nParticipação no evento mediante inscrição prévia através do link: https://www.idn.gov.pt/pt/Inscricoes/Paginas/Registo-Evento.aspx?Evento=67
URL:https://aps.pt/event/seminario-as-tecnologias-disruptivas-num-contexto-de-ameacas-hibridas/
LOCATION:Lisboa\, Instituto da Defesa Nacional
END:VEVENT
END:VCALENDAR