BEGIN:VCALENDAR
VERSION:2.0
PRODID:-//APS - ECPv6.15.20//NONSGML v1.0//EN
CALSCALE:GREGORIAN
METHOD:PUBLISH
X-ORIGINAL-URL:https://aps.pt
X-WR-CALDESC:Eventos para APS
REFRESH-INTERVAL;VALUE=DURATION:PT1H
X-Robots-Tag:noindex
X-PUBLISHED-TTL:PT1H
BEGIN:VTIMEZONE
TZID:UTC
BEGIN:STANDARD
TZOFFSETFROM:+0000
TZOFFSETTO:+0000
TZNAME:UTC
DTSTART:20230101T000000
END:STANDARD
END:VTIMEZONE
BEGIN:VEVENT
DTSTART;TZID=UTC:20241108T090000
DTEND;TZID=UTC:20241108T090000
DTSTAMP:20260422T052611
CREATED:20241009T202246Z
LAST-MODIFIED:20241009T202246Z
UID:25894-1731056400-1731056400@aps.pt
SUMMARY:Colóquio "Pobreza\, Exclusão Social e Políticas Públicas"
DESCRIPTION:Com organização das Secções Temáticas Pobreza\, Exclusão Social e Políticas Sociais e Famílias e Curso de Vida da Associação Portuguesa de Sociologia.\nAs problemáticas da pobreza e da exclusão social adquirem diferentes contornos e implicações diversas ao longo do curso de vida. Neste colóquio pretende-se promover a reflexão e o debate entre públicos académicos e não académicos em torno das múltiplas configurações do fenómeno da pobreza e dos processos de exclusão social\, tendo por referencial as diferentes idades e transições ao longo do curso de vida\, e ainda\, analisar a resposta das políticas públicas para enfrentar esses desafios.\nO colóquio centra-se\, assim\, na discussão dos fatores e dos efeitos\, a curto e longo prazo\, da pobreza e da exclusão social\, particularmente em relação a temas como o acesso à habitação\, as dinâmicas familiares\, o trabalho e as desigualdades de género. Será ainda abordado o papel das políticas públicas no apoio aos indivíduos em diferentes momentos das suas trajetórias de vida\, desde a infância até à velhice\, a fim de mitigar os efeitos da pobreza e da exclusão nos domínios considerados.\nPretende-se\, deste modo\, promover uma compreensão mais aprofundada destas questões e desenvolver abordagens mais eficazes para a elaboração de políticas e para a intervenção social sobre estas matérias.\nEste evento contará com transmissão em direto na página de YouTube do CICS.NOVA.UAc (@cics_nova). Entrada livre\, com inscrição obrigatória e certificação\, disponível em:\nhttps://stnr.aps.pt/pobreza-exclusao-politicas-sociais/inscricao-coloquio-st-pobreza-2024/
URL:https://aps.pt/event/coloquio-pobreza-exclusao-social-e-politicas-publicas/
LOCATION:Ponta Delgada\, Auditório VIll da Universidade dos Açores e online
END:VEVENT
END:VCALENDAR