BEGIN:VCALENDAR
VERSION:2.0
PRODID:-//APS - ECPv6.15.20//NONSGML v1.0//EN
CALSCALE:GREGORIAN
METHOD:PUBLISH
X-ORIGINAL-URL:https://aps.pt
X-WR-CALDESC:Eventos para APS
REFRESH-INTERVAL;VALUE=DURATION:PT1H
X-Robots-Tag:noindex
X-PUBLISHED-TTL:PT1H
BEGIN:VTIMEZONE
TZID:UTC
BEGIN:STANDARD
TZOFFSETFROM:+0000
TZOFFSETTO:+0000
TZNAME:UTC
DTSTART:20230101T000000
END:STANDARD
END:VTIMEZONE
BEGIN:VEVENT
DTSTART;TZID=UTC:20241114T000000
DTEND;TZID=UTC:20241116T000000
DTSTAMP:20260421T174619
CREATED:20240625T205940Z
LAST-MODIFIED:20240625T205940Z
UID:25246-1731542400-1731715200@aps.pt
SUMMARY:XVII Congresso da Sociedade Portuguesa de Ciências da Educação
DESCRIPTION:Mais informações em https://congresso-spce.eventqualia.net/pt/2024/in%C3%ADcio/
URL:https://aps.pt/event/xvii-congresso-da-sociedade-portuguesa-de-ciencias-da-educacao/
LOCATION:Porto\, FPCEUP
END:VEVENT
BEGIN:VEVENT
DTSTART;TZID=UTC:20241115T084500
DTEND;TZID=UTC:20241115T084500
DTSTAMP:20260421T174619
CREATED:20240622T204801Z
LAST-MODIFIED:20240622T204801Z
UID:25211-1731660300-1731660300@aps.pt
SUMMARY:Conferência Anual do CICS.NOVA.UÉvora 2024 | "Desafios e dilemas num mundo em (acelerada) mudança"
DESCRIPTION:O Centro Interdisciplinar de Ciências Sociais\, pólo da Universidade de Évora – CICS.NOVA.UÉvora – realiza no dia 15 de novembro a Conferência Anual “Desafios e dilemas num mundo em (acelerada) mudança”. Trata-se de uma oportunidade para discutir ideias e projetos de investigação\, em diferentes fases de desenvolvimento\, num contexto de colegialidade e partilha entre pares. \nDesde a sua génese a partir do polo de Évora do CESNOVA\, unidade de investigação interdisciplinar da Universidade de Évora posteriormente integrada no Centro Interdisciplinar de Ciências Sociais (CICS.NOVA) coordenado a nível nacional pela NOVA FCSH da UNL\, os/as seus/suas investigadores/as têm contribuído para a produção de conhecimento sobre as dinâmicas territoriais e sociais inerentes às áreas de transição e/ou territórios de baixa densidade\, assumindo compromissos no âmbito da investigação fundamental e aplicada\, da formação de investigadores/as juniores e na assessoria técnico-científica a trabalhos de extensão universitária\, com ênfase nos problemas da Região do Alentejo. \nA Conferência Anual do CICS.NOVA.UÉvora\, constitui um momento importante para\, a um tempo\, lançar um novo olhar sobre as abordagens interdisciplinares dos problemas complexos e desafios societais que emergem todos os dias\, e fortalecer a identidade e a coesão do CICS.NOVA. \nA Direção do polo da Universidade de Évora do CICS.NOVA.UÉvora convida todos/as os/as interessados/as a inscreverem-se na sua Conferência Anual e a submeterem propostas de comunicação para partilha\, criação científica\, reflexão e debate interdisciplinar\, subordinados aos seguintes temas\, eixos analíticos e/ou áreas de trabalhos dos grupos de investigação da UI&D: \n1. Desigualdades\, Cidadania e Género\n2. Organizações\, Trabalho e Emprego\n3. Dinâmicas Urbanas e Territoriais\n4. Sustentabilidade e Sistemas Sócio-Ecológicos\n5. Saúde\, população e bem-estar\n6. Educação\, Ciência e Conhecimento \nPara qualquer questão adicional\, poderá contactar o secretariado em confanual.cics.nova.ue@uevora.pt
URL:https://aps.pt/event/conferencia-anual-do-cics-nova-uevora-2024-desafios-e-dilemas-num-mundo-em-acelerada-mudanca/
LOCATION:Évora\, Universidade de Évora
END:VEVENT
BEGIN:VEVENT
DTSTART;TZID=UTC:20241115T084500
DTEND;TZID=UTC:20241115T084500
DTSTAMP:20260421T174619
CREATED:20241111T123732Z
LAST-MODIFIED:20241111T123732Z
UID:26191-1731660300-1731660300@aps.pt
SUMMARY:Conferência Anual CICS.NOVA.UÉvora | "Dilemas e desafios num mundo em (acelerada) mudança"
DESCRIPTION:Mais informações em https://www.uevora.pt
URL:https://aps.pt/event/conferencia-anual-cics-nova-uevora-dilemas-e-desafios-num-mundo-em-acelerada-mudanca/
LOCATION:Évora\, Colégio do Espírito Santo\, Universidade de Évora
END:VEVENT
BEGIN:VEVENT
DTSTART;TZID=UTC:20241115T180000
DTEND;TZID=UTC:20241115T180000
DTSTAMP:20260421T174619
CREATED:20241029T163805Z
LAST-MODIFIED:20241029T163805Z
UID:26094-1731693600-1731693600@aps.pt
SUMMARY:Lançamento do livro "DIREITO AO MUNDO DA VIDA - Esboços teóricos para políticas amplas"\, de Renato Miguel do Carmo
DESCRIPTION:Apresentação: Francisco Louçã e Sofia Aboim. \nDepois de coordenar uma trilogia dedicada a problemas específicos do mundo do trabalho em Portugal\, Direito ao Mundo da Vida é uma leitura sociológica sobre algumas das persistentes «misérias» sociais que afectam a vida de todos os dias e que\, simultaneamente\, alimentam os múltiplos ressentimentos que proliferam na contemporaneidade. \nA partir de seis temas principais — mercados\, desigualdades\, trabalho\, tempo\, territórios e morte —\, o livro explora recortes teóricos e analíticos sobre o modo como agimos e experienciamos o mundo\, mas procura sobretudo delinear caminhos de transformação social que permitam dar o salto para políticas de acção sobre o estado do mundo. Este percurso culmina com a necessidade de construção colectiva de um movimento que enfrente as continuadas e poderosas investidas da liberalização e da mercadorização nas sociedades. Traçam‑se assim esboços teóricos necessariamente incompletos\, mas suficientemente consistentes\, para inscrever as políticas de protecção e de emancipação no espaço‑tempo das cidades e de outros territórios. \nMais informações em https://tintadachina.pt/produto/direito_ao_mundo_da_vida/
URL:https://aps.pt/event/lancamento-do-livro-direito-ao-mundo-da-vida-esbocos-teoricos-para-politicas-amplas-de-renato-miguel-do-carmo/
LOCATION:Lisboa\, Casa do Comum (Rua da Rosa\, 285)
END:VEVENT
END:VCALENDAR