BEGIN:VCALENDAR
VERSION:2.0
PRODID:-//APS - ECPv6.15.20//NONSGML v1.0//EN
CALSCALE:GREGORIAN
METHOD:PUBLISH
X-ORIGINAL-URL:https://aps.pt
X-WR-CALDESC:Eventos para APS
REFRESH-INTERVAL;VALUE=DURATION:PT1H
X-Robots-Tag:noindex
X-PUBLISHED-TTL:PT1H
BEGIN:VTIMEZONE
TZID:UTC
BEGIN:STANDARD
TZOFFSETFROM:+0000
TZOFFSETTO:+0000
TZNAME:UTC
DTSTART:20230101T000000
END:STANDARD
END:VTIMEZONE
BEGIN:VEVENT
DTSTART;TZID=UTC:20241118T160000
DTEND;TZID=UTC:20241118T160000
DTSTAMP:20260421T095131
CREATED:20241112T145938Z
LAST-MODIFIED:20241112T145938Z
UID:26231-1731945600-1731945600@aps.pt
SUMMARY:Ciclo de Seminários "Biografias e Trajectórias: da vida\, aos dados\, aos resultados" | "Apresentação de Marge Unt (Institute of International Social Studies\, Tallinn University): "Investigating the Impact of Labour Market Insecurities on the Well-Being of Young People: A Mixed Methods Approach"
DESCRIPTION:A moderação estará a cargo de Magda Nico (CIES-Iscte).\nLink Zoom: https://videoconf-colibri.zoom.us/j/97482326055 \nPodem consultar mais pormenores sobre o ciclo e sobre esta ou outras sessões aqui: https://ciclo-biografias.wixsite.com/ciclo-bio
URL:https://aps.pt/event/ciclo-de-seminarios-biografias-e-trajectorias-da-vida-aos-dados-aos-resultados-apresentacao-de-marge-unt-institute-of-international-social-studies-tallinn-university-investigating-the/
LOCATION:Lisboa\, sala B326 do ISCTE-IUL e online
END:VEVENT
BEGIN:VEVENT
DTSTART;TZID=UTC:20241118T170000
DTEND;TZID=UTC:20241118T170000
DTSTAMP:20260421T095131
CREATED:20241111T123349Z
LAST-MODIFIED:20241111T123349Z
UID:26188-1731949200-1731949200@aps.pt
SUMMARY:Lançamento do livro "A Europa numa Encruzilhada - Novos Movimentos Sociais: da diversidade aos desafios e oportunidades"\, de José Filipe Pinto
DESCRIPTION:Num mundo em constante transformação\, a Europa enfrenta desafios internos e externos que moldam o seu futuro político\, económico e social. Este livro explora em profundidade a complexa teia de novos movimentos sociais que emergem face a um cenário global incerto\, onde a diversidade e as tensões internas se cruzam com as ameaças externas. \nDe que forma os novos movimentos sociais estão a influenciar os partidos políticos e a governação na Europa? Como é que a pluralidade de regimes políticos e as assimetrias económicas afetam a coesão e o futuro da União Europeia? Como é que as principais ameaças\, como o populismo\, o crime organizado e o terrorismo desafiam a estabilidade do continente? Quais as oportunidades para a Europa se reposicionar no cenário global\, numa era de múltiplas ordens e crescente competitividade? \nEste livro oferece uma análise profunda das dinâmicas contemporâneas\, expondo como a diversidade tanto pode ser uma origem de vulnerabilidades\, como também uma fonte de oportunidades. A Europa numa Encruzilhada é um convite para os leitores refletirem sobre o futuro do continente. \nDescubra as interações entre política e sociedade\, e como os novos desafios globais e regionais podem moldar a Europa contemporânea. \n1ªEdição – ISBN:978-989-561-395-3
URL:https://aps.pt/event/lancamento-do-livro-a-europa-numa-encruzilhada-novos-movimentos-sociais-da-diversidade-aos-desafios-e-oportunidades-de-jose-filipe-pinto/
LOCATION:Lisboa\, Auditório Agostinho da Silva da Universidade Lusíada Lisboa
END:VEVENT
END:VCALENDAR