BEGIN:VCALENDAR
VERSION:2.0
PRODID:-//APS - ECPv6.15.20//NONSGML v1.0//EN
CALSCALE:GREGORIAN
METHOD:PUBLISH
X-WR-CALNAME:APS
X-ORIGINAL-URL:https://aps.pt
X-WR-CALDESC:Eventos para APS
REFRESH-INTERVAL;VALUE=DURATION:PT1H
X-Robots-Tag:noindex
X-PUBLISHED-TTL:PT1H
BEGIN:VTIMEZONE
TZID:UTC
BEGIN:STANDARD
TZOFFSETFROM:+0000
TZOFFSETTO:+0000
TZNAME:UTC
DTSTART:20230101T000000
END:STANDARD
END:VTIMEZONE
BEGIN:VEVENT
DTSTART;TZID=UTC:20241120T080000
DTEND;TZID=UTC:20241122T170000
DTSTAMP:20260419T195743
CREATED:20240628T160307Z
LAST-MODIFIED:20240628T160307Z
UID:25257-1732089600-1732294800@aps.pt
SUMMARY:VI Conferência Rumos da Sociologia do Conhecimento\, da Ciência e da Tecnologia e Escola de Outono
DESCRIPTION:20 a 22 de Novembro de 2024\nNOVA FCSH\, Lisboa\nKeynote Speakers:\nMaria do Mar Pereira\, Universidade de Warwick\nTiago Saraiva\, Universidade de Drexel \nNOVA DATA PARA ENVIO DE RESUMOS: 22 de Julho de 2024 \nESCOLA DE OUTONO\n20-21 de novembro de 2024 (20 de novembro às 9h30 – 21 de novembro às 13h00)\n\nA Escola de Outono “Construir pontes em tempos de crise: Troca de conhecimento sobre ciência e tecnologia” dedica-se a promover a colaboração e a troca de conhecimentos entre estudantes de mestrado\, doutoramento\, pós-doutoramento e académicos em início de carreira que trabalham no domínio dos estudos de ciência e tecnologia e com tópicos associados ao conhecimento\, ciência e tecnologia.\nPretende ser um evento multidisciplinar que acolha investigadores com formações diversas\, incluindo estudos sociais da ciência e tecnologia\, sociologia\, antropologia\, ciência política\, geografia humana\, história\, filosofia\, estudos de comunicação e media\, economia política e avaliação de tecnologia.\nA Escola tem como objetivo fornecer uma plataforma para investigadores em início de carreira assistirem a sessões de especialistas\, apresentarem a sua investigação e receberem feedback detalhado\, estabelecerem e/ou consolidarem redes profissionais e académicas\, compartilharem perspetivas e envolverem-se em discussões com colegas em diversas fases de carreira. As sessões irão incluir temas como estratégias de publicação\, desenvolvimento de carreira dentro e fora da academia e assimetrias de poder no contexto académico.\nPretendemos discutir as potenciais articulações dos estudos estudos da ciência e tecnologia com as crises locais e globais\, à luz de temas como o clima e a biodiversidade\, a habitação\, o trabalho\, a saúde\, a educação\, a migração\, a segurança social\, o discurso público\, as democracias liberais\, a segurança e a guerra. Pretende-se ainda estimular um debate amplo com os estudos sociais da ciência e tecnologia sobre o Sul e o Norte Global. A escola pretende\, assim\, contribuir para a discussão de como os estudos sociais da ciência e tecnologia podem ter um potencial subexplorado para confrontar\, refletir criticamente e envolver-se construtivamente com processos e situações complexas decorrentes e/ou associadas a desigualdades e injustiças sociais; crises\, incertezas\, expectativas e riscos; ignorância e resignação. \nDiretrizes de submissão:\n● Os resumos deverão ser submetidos para conhecimento@aps.pt até 22 de julho de 2024 (NOVA DATA)\n● Os resumos não devem ter mais de 500 palavras e devem incluir título\, 4 palavras-chave\, nome do(s) autor(es)\, afiliação e informações de contato\n● Os artigos\, projetos de investigação de mestrado ou doutoramento ou teses/capítulos de livros (máximo 3.000-8.000 palavras) devem ser submetidos para conhecimento@aps.pt até 15 de outubro. \nDatas importantes:\n● Prazo para envio de resumos: 22 de julho de 2024 (NOVA DATA)\n● Notificação de aceitação: 26 de julho de 2024\n● Prazo de inscrição: 15 de outubro de 2024\n● Prazo para submissão de artigos: 15 de outubro de 2024 \nInformações sobre inscrição:\nHaverá uma pequena taxa de participação associada à participação na Escola. Existem bolsas disponíveis. Encorajamos os participantes a colaborar na organização do evento\, incluindo tarefas como inscrição\, preparar sessões de discussão com microfones\, etc. \n  \nVI CONFERÊNCIA RUMOS DA SOCIOLOGIA DO CONHECIMENTO\, DA CIÊNCIA E DA TECNOLOGIA\n21-22 de novembro de 2024 (21 de novembro às 14h30 – 22 de novembro às 17h00) \nA conferência pretende discutir as potenciais articulações da investigação no âmbito dos estudos sociais de ciência e tecnologia com temas associados ao conhecimento\, ciência e tecnologia. Convidamos à submissão de contribuições que dialoguem com as crises locais e globais\, à luz de temas como o clima e a biodiversidade\, a habitação\, o trabalho\, a saúde\, a educação\, a migração\, a segurança social\, o discurso público\, as democracias liberais\, a segurança e a guerra. A conferência visa ainda estimular um amplo debate sobre estudos sociais da ciência e tecnologia sobre o Sul e o Norte Global.\nA conferência visa ser um evento multidisciplinar que acolhe investigadores em todas as fases da carreira\, incluindo estudantes de mestrado e doutoramento\, e com formações diversas\, incluindo estudos sociais da ciência e tecnologia\, sociologia\, antropologia\, ciência política\, geografia humana\, história\, filosofia\, estudos de comunicação e media\, economia política e avaliação de tecnologia.\nInspirando-se nos estudos sociais da ciência e tecnologia feministas\, pós- e decoloniais e nos estudos críticos da ciência\, a conferência convida todos os investigadores a reflectir sobre i) como podemos envolver-nos de forma responsável com questões sociais\, materiais\, económicas\, ambientais e outras infra-estruturas; ii) como podemos refletir sobre os “conhecimentos situados”\, nossos e dos outros\, e vincular teorias de resistência e mudança\, esperança e cuidado; iii) como podemos ir além da crítica e imaginar futuros que queremos co-construir e dos quais queremos fazer parte; iv) como podemos intervir de forma a “permanecer com o problema” em compromissos interdisciplinares e transdisciplinares.\nPara este conferência\, apelamos\, assim\, não apenas à submissão de comunicações\, mas também de outras modalidades de produção e apresentação de conhecimento em linha com as tradições de produção de conhecimento multimodal (incluindo som\, filme\, poesia\, jogos\, mapas\, etc.) bem como sessões alternativas que permitam interagir com os participantes.\nApós a conferência\, haverá uma chamada de trabalhos para um número temático de uma revista científica. \nDiretrizes de submissão:\n● Os resumos deverão ser submetidos para conhecimento@aps.pt até 22 de julho de 2024 (NOVA DATA)\n● Os resumos não devem ultrapassar 300 palavras e devem incluir título\, 4 palavras-chave; nome do(s) autor(es)\, afiliação e informações de contato\n● No caso de modalidades alternativas de apresentação\, por favor\, especifique as possibilidades técnicas com o resumo \nDatas importantes:\n● Prazo para envio: 22 de julho de 2024 (NOVA DATA)\n● Notificação de aceitação: 26 de julho de 2024\n● Prazo de inscrição: 15 de outubro de 2024 \nInformações de registo:\nHaverá uma pequena taxa de participação\, dispensada para investigadores atualmente sem contrato ou bolsa. Existem bolsas disponíveis. \nIdioma da Escola e Conferência:\nO evento será bilíngue (português e inglês): as sessões serão organizadas em português ou inglês\, em conformidade com as propostas recebidas. \nOrganização da Escola e Conferência:\nCo-organizadoras da Secção Temática Conhecimento\, Ciência e Tecnologia da Associação Portuguesa de Sociologia (APS) Ana Ferreira\, CICS.NOVA; Nina Amelung\, ICS-UL; Rafaela Granja\, CECS-UMinho. \nComissão Científica da Escola e Conferência:\nAna Delicado\, ICS-ULisboa; Ana Ferreira\, CICS.NOVA; António Carvalho\, CES-UC; Catarina Delaunay\, CICS.NOVA; Frederico Águas\, CICS.NOVA; Nina Amelung\, ICS-ULisboa; Nuno Boavida\, CICS.NOVA; Rafaela Granja\, CECS-UMinho; Thais França\, CIES-ISCTE \nFinanciamento da Escola e Conferência:\nFundo EASST (ver aqui) e APS (ver aqui). \nInformações:\nPor favor contacte conhecimento@aps.pt
URL:https://aps.pt/event/vi-conferencia-rumos-da-sociologia-do-conhecimento-da-ciencia-e-da-tecnologia-e-escola-de-outono/
LOCATION:NOVA FCSH\, Lisboa
END:VEVENT
END:VCALENDAR