BEGIN:VCALENDAR
VERSION:2.0
PRODID:-//APS - ECPv6.15.20//NONSGML v1.0//EN
CALSCALE:GREGORIAN
METHOD:PUBLISH
X-ORIGINAL-URL:https://aps.pt
X-WR-CALDESC:Eventos para APS
REFRESH-INTERVAL;VALUE=DURATION:PT1H
X-Robots-Tag:noindex
X-PUBLISHED-TTL:PT1H
BEGIN:VTIMEZONE
TZID:UTC
BEGIN:STANDARD
TZOFFSETFROM:+0000
TZOFFSETTO:+0000
TZNAME:UTC
DTSTART:20230101T000000
END:STANDARD
END:VTIMEZONE
BEGIN:VEVENT
DTSTART;TZID=UTC:20241204T100000
DTEND;TZID=UTC:20241204T170000
DTSTAMP:20260419T145254
CREATED:20241126T143945Z
LAST-MODIFIED:20241126T143945Z
UID:26347-1733306400-1733331600@aps.pt
SUMMARY:Seminário "Da Exclusão à Utopia: Práticas Monetárias e Financeiras de Margem"
DESCRIPTION:Apresentação dos primeiros resultados do projeto “Outsiders Financeiros: A Economia Política de Trajetórias Financeiras Marginais e Alternativas”\, financiado pela FCT – Fundação para a Ciência e a Tecnologia (Ref: 2022.09141.PTDC) e acolhido pelo SOCIUS/CSG-ISEG e DINÂMIA’CET-Iscte.\nA entrada é livre\, não sendo necessária inscrição.
URL:https://aps.pt/event/seminario-da-exclusao-a-utopia-praticas-monetarias-e-financeiras-de-margem/
LOCATION:Lisboa\, ISEG – Lisbon School of Economics & Management
END:VEVENT
BEGIN:VEVENT
DTSTART;TZID=UTC:20241204T100000
DTEND;TZID=UTC:20241204T170000
DTSTAMP:20260419T145254
CREATED:20241203T195640Z
LAST-MODIFIED:20241203T195640Z
UID:26414-1733306400-1733331600@aps.pt
SUMMARY:Apresentação dos primeiros resultados do projeto "Outsiders Financeiros: A Economia Política de Trajetórias Financeiras Marginais e Alternativas"
DESCRIPTION:Projeto financiado pela FCT – Fundação para a Ciência e a Tecnologia (Ref: 2022.09141.PTDC) e acolhido pelo SOCIUS/CSG-ISEG e DINÂMIA’CET-Iscte.\nA entrada é livre\, não sendo necessária inscrição.
URL:https://aps.pt/event/apresentacao-dos-primeiros-resultados-do-projeto-outsiders-financeiros-a-economia-politica-de-trajetorias-financeiras-marginais-e-alternativas/
LOCATION:Lisboa\, ISEG – Lisbon School of Economics & Management (sala do Terraço do Edifício Novo Quelhas)
END:VEVENT
BEGIN:VEVENT
DTSTART;TZID=UTC:20241204T110000
DTEND;TZID=UTC:20241204T110000
DTSTAMP:20260419T145254
CREATED:20241203T095406Z
LAST-MODIFIED:20241203T095406Z
UID:26405-1733310000-1733310000@aps.pt
SUMMARY:Prós e Contras Inteligência Artificial | Debate | Rui Nunes e Raquel Varela
DESCRIPTION:Abertura: Guilhermina Rego – Encerramento: João Fonseca\nEntrada livre | Entrada gratuita
URL:https://aps.pt/event/pros-e-contras-inteligencia-artificial-debate-rui-nunes-e-raquel-varela/
LOCATION:Porto\, Aula Magna da Faculdade de Medicina da Universidade do Porto
END:VEVENT
BEGIN:VEVENT
DTSTART;TZID=UTC:20241204T153000
DTEND;TZID=UTC:20241204T173000
DTSTAMP:20260419T145254
CREATED:20241126T143535Z
LAST-MODIFIED:20241126T143535Z
UID:26344-1733326200-1733333400@aps.pt
SUMMARY:MESA-REDONDA : "Portugal\, o Mar e as alterações climáticas"
DESCRIPTION:Participação livre – Presencial e Zoom\nLink: https://videoconf-colibri.zoom.us/j/89843491053?pwd=SW9wL3dFK1JFUlROcUUxdWpqazdPQT09\nMais informações em https://otc.pt/wp/2024/11/19/portugal-o-mar-e-as-alteracoes-climaticas-mesa-redonda-debate/
URL:https://aps.pt/event/mesa-redonda-portugal-o-mar-e-as-alteracoes-climaticas/
LOCATION:Lisboa\, Auditório do Edifício Sede do IPMA (Rua C do Aeroporto de Lisboa)
END:VEVENT
END:VCALENDAR