BEGIN:VCALENDAR
VERSION:2.0
PRODID:-//APS - ECPv6.15.20//NONSGML v1.0//EN
CALSCALE:GREGORIAN
METHOD:PUBLISH
X-WR-CALNAME:APS
X-ORIGINAL-URL:https://aps.pt
X-WR-CALDESC:Eventos para APS
REFRESH-INTERVAL;VALUE=DURATION:PT1H
X-Robots-Tag:noindex
X-PUBLISHED-TTL:PT1H
BEGIN:VTIMEZONE
TZID:UTC
BEGIN:STANDARD
TZOFFSETFROM:+0000
TZOFFSETTO:+0000
TZNAME:UTC
DTSTART:20230101T000000
END:STANDARD
END:VTIMEZONE
BEGIN:VEVENT
DTSTART;TZID=UTC:20241212T140000
DTEND;TZID=UTC:20241213T160000
DTSTAMP:20260419T131100
CREATED:20241208T221255Z
LAST-MODIFIED:20241208T221255Z
UID:26461-1734012000-1734105600@aps.pt
SUMMARY:Conferência "O Principio do Fim: Cultura e media em Portugal de 1961 a 1874"
DESCRIPTION:Entrada livre.\nMais informações em https://www.bnportugal.gov.pt/index.php?option=com_content&view=article&id=1981%3Aconferencia-o-principio-do-fim-cultura-e-media-em-portugal-de-1961-a-1974
URL:https://aps.pt/event/conferencia-o-principio-do-fim-cultura-e-media-em-portugal-de-1961-a-1874/
LOCATION:Lisboa\, Biblioteca Nacional de Portugal (Sala de Formação)
END:VEVENT
BEGIN:VEVENT
DTSTART;TZID=UTC:20241212T170000
DTEND;TZID=UTC:20241212T170000
DTSTAMP:20260419T131100
CREATED:20241203T195328Z
LAST-MODIFIED:20241203T195328Z
UID:26411-1734022800-1734022800@aps.pt
SUMMARY:Jubilação do Professor António Sampaio da Nóvoa
DESCRIPTION:O Diretor do Instituto de Educação da Universidade de Lisboa\, Professor Doutor Luís Miguel Carvalho\, convida V. Exa. para participar na Cerimónia de Jubilação do Professor António Sampaio da Nóvoa\, no decurso da qual será atribuído\, por proposta do Instituto de Educação\, o título de Professor Emérito. \nA cerimónia realiza-se no próximo dia 12 de dezembro\, às 17 horas\, na Aula Magna da Reitoria da Universidade de Lisboa\, e será presidida por Sua Excelência o Presidente da República.\nA entrada é livre. \nMais informações em https://www.ulisboa.pt/evento/jubilacao-e-cerimonia-de-entrega-da-insignia-de-professor-emerito-antonio-sampaio-da-novoa
URL:https://aps.pt/event/jubilacao-do-professor-antonio-sampaio-da-novoa/
LOCATION:Lisboa\, Aula Magna da Reitoria da Universidade de Lisboa
END:VEVENT
BEGIN:VEVENT
DTSTART;TZID=UTC:20241212T180000
DTEND;TZID=UTC:20241212T180000
DTSTAMP:20260419T131100
CREATED:20241209T174459Z
LAST-MODIFIED:20241209T174459Z
UID:26470-1734026400-1734026400@aps.pt
SUMMARY:Conferência "MEDIAÇÃO INTERCULTURAL\, ENTRE A PREVENÇÃO E A RESOLUÇÃO: UMA PEDAGOGIA SOCIAL PARA A [CON]VIVÊNCIA E PARA A INTERCULTURALIDADE"\, por Ricardo Vieira (ESECS.IPLeiria / CICS.NOVA.IPLeiria)
DESCRIPTION:Moderação: Olga Magano\, Docente da Universidade Aberta. \nOrganização: Unidade curricular Seminário Doutoral I – Intervenção em Contextos Interculturais e Coordenação do Doutoramento em Relações Interculturais\, Universidade Aberta. \nResumo da comunicação:\nA sociedade contemporânea é hoje resultante cada vez mais de encontros e desencontros culturais\, sejam eles étnicos\, sociais\, de género\, padrões culturais\, entre outros. Tal diversidade gera choques de cultura e tensões que podem desembocar em conflitos interpessoais\, intrapessoais\, intergrupais…\nA mediação Intercultural é uma ferramenta pedagógica\, comunicacional e convivencial que pode potenciar a construção de grupos e sociedades mais interculturais a partir da ideia de “terceiro”\, “terceira cultural” e de “terceiro instruído”. \nlink de acesso: https://videoconf-colibri.zoom.us/j/95732844920
URL:https://aps.pt/event/conferencia-mediacao-intercultural-entre-a-prevencao-e-a-resolucao-uma-pedagogia-social-para-a-convivencia-e-para-a-interculturalidade-por-ricardo-vieira-esecs-ipleiria-cics-nova-ipleiria/
LOCATION:Evento online
END:VEVENT
END:VCALENDAR