BEGIN:VCALENDAR
VERSION:2.0
PRODID:-//APS - ECPv6.15.20//NONSGML v1.0//EN
CALSCALE:GREGORIAN
METHOD:PUBLISH
X-ORIGINAL-URL:https://aps.pt
X-WR-CALDESC:Eventos para APS
REFRESH-INTERVAL;VALUE=DURATION:PT1H
X-Robots-Tag:noindex
X-PUBLISHED-TTL:PT1H
BEGIN:VTIMEZONE
TZID:UTC
BEGIN:STANDARD
TZOFFSETFROM:+0000
TZOFFSETTO:+0000
TZNAME:UTC
DTSTART:20230101T000000
END:STANDARD
END:VTIMEZONE
BEGIN:VEVENT
DTSTART;TZID=UTC:20241217T193000
DTEND;TZID=UTC:20241217T193000
DTSTAMP:20260419T131324
CREATED:20241203T094937Z
LAST-MODIFIED:20241203T094937Z
UID:26403-1734463800-1734463800@aps.pt
SUMMARY:Conferência GEICS | "Assédio sexual em contexto académico"
DESCRIPTION:O encontro será dinamizado pela Professora Doutora Heloisa Buarque de Almeida (USP) e pela Doutora Daniela Neto (UC). \nO evento é gratuito\, mas carece de inscrição\, que poderá ser realizada em https://forms.gle/spuZ7D3qhTCSZhxJ7\nMediante solicitação\, poderá ser emitido certificado de participação.
URL:https://aps.pt/event/conferencia-geics-assedio-sexual-em-contexto-academico/
LOCATION:Evento online
END:VEVENT
END:VCALENDAR