BEGIN:VCALENDAR
VERSION:2.0
PRODID:-//APS - ECPv6.15.20//NONSGML v1.0//EN
CALSCALE:GREGORIAN
METHOD:PUBLISH
X-WR-CALNAME:APS
X-ORIGINAL-URL:https://aps.pt
X-WR-CALDESC:Eventos para APS
REFRESH-INTERVAL;VALUE=DURATION:PT1H
X-Robots-Tag:noindex
X-PUBLISHED-TTL:PT1H
BEGIN:VTIMEZONE
TZID:UTC
BEGIN:STANDARD
TZOFFSETFROM:+0000
TZOFFSETTO:+0000
TZNAME:UTC
DTSTART:20240101T000000
END:STANDARD
END:VTIMEZONE
BEGIN:VEVENT
DTSTART;TZID=UTC:20250117T170000
DTEND;TZID=UTC:20250117T170000
DTSTAMP:20260420T010547
CREATED:20250107T114835Z
LAST-MODIFIED:20250107T114835Z
UID:26670-1737133200-1737133200@aps.pt
SUMMARY:Apresentação do Livro "Espaço(s) com e para a(s) criança(s): olhares plurais a partir das ciências sociais\, da arquitetura e do urbanismo"
DESCRIPTION:A editora Mundos Sociais e o CIES-Iscte\, em parceria com o Palácio Nacional da Ajuda\, convida para a Apresentação do Livro “Espaço(s) com e para a(s) criança(s): olhares plurais a partir das ciências sociais\, da arquitetura e do urbanismo”\, seguido de um Peddy Paper com as crianças do bairro 2 de maio sobre o direito à cidade e sobre a relação bairro-museu-cidade. \nNo dia 17 de janeiro às 17h\, as organizadoras e co-autoras da publicação\, Maria Manuela Mendes e Florbela Samagaio\, vão apresentar o livro\, no Vestíbulo Nobre do Palácio Nacional da Ajuda. \nO evento conta com a participação de João Teixeira Lopes (Sociólogo\, coordenador do Instituto de Sociologia da Universidade do Porto e Professor Catedrático do Departamento de Sociologia da Faculdade de Letras) e de Isabel Raposo (Arquiteta-urbanista\, Professora Associada\, na FAUL\, fundadora do Gestual – Grupo de Estudos Sócio-Territoriais\, Urbanos e de Ação Local). \nAinda no âmbito desta apresentação\, no dia 18 de janeiro pelas 10h30\, está programado um Peddy Paper com as crianças do Bairro 2 de maio sobre o direito à cidade e sobre a relação bairro-museu-cidade\, com o apoio da Locals Approach e Associação Amigos b2m. \nLink: https://www.mundossociais.com/livro/espacos-com-e-para-as-criancas/139
URL:https://aps.pt/event/apresentacao-do-livro-espacos-com-e-para-as-criancas-olhares-plurais-a-partir-das-ciencias-sociais-da-arquitetura-e-do-urbanismo/
LOCATION:Lisboa\, Vestíbulo Nobre do Palácio Nacional da Ajuda
END:VEVENT
END:VCALENDAR