BEGIN:VCALENDAR
VERSION:2.0
PRODID:-//APS - ECPv6.15.20//NONSGML v1.0//EN
CALSCALE:GREGORIAN
METHOD:PUBLISH
X-WR-CALNAME:APS
X-ORIGINAL-URL:https://aps.pt
X-WR-CALDESC:Eventos para APS
REFRESH-INTERVAL;VALUE=DURATION:PT1H
X-Robots-Tag:noindex
X-PUBLISHED-TTL:PT1H
BEGIN:VTIMEZONE
TZID:UTC
BEGIN:STANDARD
TZOFFSETFROM:+0000
TZOFFSETTO:+0000
TZNAME:UTC
DTSTART:20240101T000000
END:STANDARD
END:VTIMEZONE
BEGIN:VEVENT
DTSTART;TZID=UTC:20250123T000000
DTEND;TZID=UTC:20250224T000000
DTSTAMP:20260420T125404
CREATED:20241126T152717Z
LAST-MODIFIED:20250121T102825Z
UID:26356-1737590400-1740355200@aps.pt
SUMMARY:Simpósio Internacional "Quo tenditis\, educatio? Escola e Conhecimento em Contextos Profissionais"
DESCRIPTION:O Simpósio “Quo tenditis\, educatio? Escola e Conhecimento em\nContextos Profissionais” que decorrerá nos dias 23 e 24 de janeiro de 2025\, na Universidade Lusófona\, informa que o prazo para inscrições será estendido até ao dia 21 de Janeiro de 2025. \nEsta primeira iniciativa será organizada no âmbito do projeto ACT4Wbeing – Tempos de mudança e mudança dos tempos: um  estudo das relações entre a autonomia curricular e o envolvimento e bem-estar dos professores (COFAC/ILIND/CeiED/1/2023) e terá como foco a apresentação dos seus primeiros resultados. \nMais informações em https://tinyurl.com/4za7p2ph
URL:https://aps.pt/event/simposio-internacional-quo-tenditis-educatio-escola-e-conhecimento-em-contextos-profissionais/
LOCATION:Lisboa\, Universidade Lusófona
END:VEVENT
BEGIN:VEVENT
DTSTART;TZID=UTC:20250125T090000
DTEND;TZID=UTC:20250125T180000
DTSTAMP:20260420T125404
CREATED:20250121T103128Z
LAST-MODIFIED:20250121T103128Z
UID:26746-1737795600-1737828000@aps.pt
SUMMARY:Seminário de Inteligência Emocional em Contexto Educativo
DESCRIPTION:Este evento assinala o Dia Internacional da Educação\, comemorado a 24 de Janeiro\, as inscrições que são gratuitas e decorrem até ao próximo dia 23 de janeiro. \nInscrições: https://www.cm-albufeira.pt/seminario-inspira-te-encontro-de-boas-praticas\nO Programa poderá ser consultado através do seguinte link: https://www.cm-albufeira.pt/artigo/municipio-de-albufeira-assinala-o-dia-internacional-da-educacao-com-um-seminario-sobre\nPara qualquer esclarecimento adicional contatar projeto.ser@cm-albufeira.pt
URL:https://aps.pt/event/seminario-de-inteligencia-emocional-em-contexto-educativo/
LOCATION:Albufeira\, Auditório Municipal de Albufeira
END:VEVENT
BEGIN:VEVENT
DTSTART;TZID=UTC:20250125T163000
DTEND;TZID=UTC:20250125T163000
DTSTAMP:20260420T125404
CREATED:20250127T160329Z
LAST-MODIFIED:20250127T160329Z
UID:26800-1737822600-1737822600@aps.pt
SUMMARY:Lançamento de livro "Hestnes Ferreira: Forma | Matéria | Luz"
DESCRIPTION:Os editores e investigadores do DINÂMIA’CET-Iscte\, Alexandra Saraiva\, Patricia Bento d’Almeida\, Paulo Tormenta Pinto têm o prazer de convidar para o lançamento do livro Hestnes Ferreira: Forma | Matéria | Luz\, que terá lugar no próximo dia 25 de janeiro pelas 16h30\, no auditório do museu MAC/CCB. Este evento está associado à exposição HESTNES FERREIRA – FORMA | MATÉRIA | LUZ\, patente ao público no MAC/CCB\, desde17 de outubro de 2024 até 6 de abril de 2025. \nO evento incluirá uma conversa moderada por Alexandra Saraiva\, com a presença de Alexandre Alves Costa\, Bernardo Pizarro Miranda\, Gonçalo Canto Moniz\, Luís Martinho Urbano e Michel Toussaint. \nMais informações poderão ser encontradas em https://www.ccb.pt/evento/apresentacao-do-livro-hestnes-ferreira-forma-materia-luz/
URL:https://aps.pt/event/lancamento-de-livro-hestnes-ferreira-forma-materia-luz/
LOCATION:Lisboa\, Auditório do museu MAC/CCB
END:VEVENT
END:VCALENDAR