BEGIN:VCALENDAR
VERSION:2.0
PRODID:-//APS - ECPv6.15.20//NONSGML v1.0//EN
CALSCALE:GREGORIAN
METHOD:PUBLISH
X-ORIGINAL-URL:https://aps.pt
X-WR-CALDESC:Eventos para APS
REFRESH-INTERVAL;VALUE=DURATION:PT1H
X-Robots-Tag:noindex
X-PUBLISHED-TTL:PT1H
BEGIN:VTIMEZONE
TZID:UTC
BEGIN:STANDARD
TZOFFSETFROM:+0000
TZOFFSETTO:+0000
TZNAME:UTC
DTSTART:20240101T000000
END:STANDARD
END:VTIMEZONE
BEGIN:VEVENT
DTSTART;TZID=UTC:20250123T000000
DTEND;TZID=UTC:20250224T000000
DTSTAMP:20260420T172526
CREATED:20241126T152717Z
LAST-MODIFIED:20250121T102825Z
UID:26356-1737590400-1740355200@aps.pt
SUMMARY:Simpósio Internacional "Quo tenditis\, educatio? Escola e Conhecimento em Contextos Profissionais"
DESCRIPTION:O Simpósio “Quo tenditis\, educatio? Escola e Conhecimento em\nContextos Profissionais” que decorrerá nos dias 23 e 24 de janeiro de 2025\, na Universidade Lusófona\, informa que o prazo para inscrições será estendido até ao dia 21 de Janeiro de 2025. \nEsta primeira iniciativa será organizada no âmbito do projeto ACT4Wbeing – Tempos de mudança e mudança dos tempos: um  estudo das relações entre a autonomia curricular e o envolvimento e bem-estar dos professores (COFAC/ILIND/CeiED/1/2023) e terá como foco a apresentação dos seus primeiros resultados. \nMais informações em https://tinyurl.com/4za7p2ph
URL:https://aps.pt/event/simposio-internacional-quo-tenditis-educatio-escola-e-conhecimento-em-contextos-profissionais/
LOCATION:Lisboa\, Universidade Lusófona
END:VEVENT
BEGIN:VEVENT
DTSTART;TZID=UTC:20250128T100000
DTEND;TZID=UTC:20250128T123000
DTSTAMP:20260420T172526
CREATED:20250107T193519Z
LAST-MODIFIED:20250107T193519Z
UID:26683-1738058400-1738067400@aps.pt
SUMMARY:Oficina Pré-Congresso | "O Futuro das Medidas de Acolhimento de Crianças e Jovens em Portugal͏"
DESCRIPTION:Junte-se a nós para uma oficina pré-conferência que explorará o futuro do acolhimento familiar em Portugal. Esta oficina abrirá caminho para debates enriquecedores sobre os desafios e oportunidades na construção de um sistema de acolhimento mais inclusivo e de apoio.\nNão perca a oportunidade de contribuir para o futuro do acolhimento familiar em Portugal! \nOficina: https://oficina-icca2025.eventqualia.net/pt/inicio/\nCongresso: https://icca.eventqualia.net/pt/2025/inicio/
URL:https://aps.pt/event/oficina-pre-congresso-o-futuro-das-medidas-de-acolhimento-de-criancas-e-jovens-em-portugal%cd%8f/
LOCATION:Evento online
END:VEVENT
BEGIN:VEVENT
DTSTART;TZID=UTC:20250128T150000
DTEND;TZID=UTC:20250128T150000
DTSTAMP:20260420T172526
CREATED:20241226T192032Z
LAST-MODIFIED:20241226T192032Z
UID:26577-1738076400-1738076400@aps.pt
SUMMARY:Conferência "Da imaginação dos jovens à juventude projetada: noções de futuro em tempos de crise"
DESCRIPTION:Com Alexandre Barbosa Pereira (UNIFESP) e comentários de Gabriela Leal (CICS.NOVA\, NOVA FCSH & CAU). \nNesta apresentação\, o professor Alexandre Barbosa Pereira analisa os significados do futuro para os jovens no Brasil\, a partir de investigação sobre as diversas representações que eles formulam sobre seu futuro\, por meio da noção de imaginação. Por outro lado\, as representações do futuro que as políticas públicas criam para e sobre os jovens\, a partir da noção de projeto\, são também abordadas como um aspecto importante para explicitar os limites dessa abordagem projetiva. Trata-se de uma análise sobre como esses dois âmbitos sobrepõem-se ou mesmo entram em conflito. Numa época marcada pela escalada de crises globais\, abrangendo as dimensões da saúde\, do clima\, da política e da economia\, compreender como os jovens aspiram ao seu futuro surge como uma questão central para os estudos contemporâneos sobre juventude. Portanto\, o foco desta investigação está em descrever como principalmente os jovens das camadas populares narram suas aspirações para o futuro e como as políticas públicas tentam dialogar com essas aspirações. \nSobre o conferencista:\nAlexandre Barbosa Pereira é Professor do Departamento de Ciências Sociais e do Programa de Pós-Graduação em Ciências Sociais da Universidade Federal de São Paulo (Unifesp). Doutor em Antropologia Social pela Universidade de São Paulo (USP). Coordenador do Grupo de Estudos sobre Cidade\, Educação\, Juventude e Curso da Vida (CIDEJUV). Membro fundador da Rede de Estudos sobre Experiências e Ações Juvenis (REAJ). \nEntrada livre | Não é necessária inscrição prévia
URL:https://aps.pt/event/conferencia-da-imaginacao-dos-jovens-a-juventude-projetada-nocoes-de-futuro-em-tempos-de-crise/
LOCATION:Lisboa\, NOVA FCSH – Campus Campolide (Colégio Almada Negreiros\, Sala SE1)
END:VEVENT
END:VCALENDAR