BEGIN:VCALENDAR
VERSION:2.0
PRODID:-//APS - ECPv6.15.20//NONSGML v1.0//EN
CALSCALE:GREGORIAN
METHOD:PUBLISH
X-WR-CALNAME:APS
X-ORIGINAL-URL:https://aps.pt
X-WR-CALDESC:Eventos para APS
REFRESH-INTERVAL;VALUE=DURATION:PT1H
X-Robots-Tag:noindex
X-PUBLISHED-TTL:PT1H
BEGIN:VTIMEZONE
TZID:UTC
BEGIN:STANDARD
TZOFFSETFROM:+0000
TZOFFSETTO:+0000
TZNAME:UTC
DTSTART:20240101T000000
END:STANDARD
END:VTIMEZONE
BEGIN:VEVENT
DTSTART;TZID=UTC:20250123T000000
DTEND;TZID=UTC:20250224T000000
DTSTAMP:20260420T203532
CREATED:20241126T152717Z
LAST-MODIFIED:20250121T102825Z
UID:26356-1737590400-1740355200@aps.pt
SUMMARY:Simpósio Internacional "Quo tenditis\, educatio? Escola e Conhecimento em Contextos Profissionais"
DESCRIPTION:O Simpósio “Quo tenditis\, educatio? Escola e Conhecimento em\nContextos Profissionais” que decorrerá nos dias 23 e 24 de janeiro de 2025\, na Universidade Lusófona\, informa que o prazo para inscrições será estendido até ao dia 21 de Janeiro de 2025. \nEsta primeira iniciativa será organizada no âmbito do projeto ACT4Wbeing – Tempos de mudança e mudança dos tempos: um  estudo das relações entre a autonomia curricular e o envolvimento e bem-estar dos professores (COFAC/ILIND/CeiED/1/2023) e terá como foco a apresentação dos seus primeiros resultados. \nMais informações em https://tinyurl.com/4za7p2ph
URL:https://aps.pt/event/simposio-internacional-quo-tenditis-educatio-escola-e-conhecimento-em-contextos-profissionais/
LOCATION:Lisboa\, Universidade Lusófona
END:VEVENT
BEGIN:VEVENT
DTSTART;TZID=UTC:20250130T000000
DTEND;TZID=UTC:20250131T000000
DTSTAMP:20260420T203532
CREATED:20241215T221438Z
LAST-MODIFIED:20241215T221438Z
UID:26509-1738195200-1738281600@aps.pt
SUMMARY:Conferência Internacional "Criatividades Periféricas: Juventudes\, Territórios e Políticas Públicas"
DESCRIPTION:Programa completo em https://www.google.com/url?q=https://pericreativity.iscte-iul.pt/pt/conferencias/criatividades-perifericas&source=gmail&ust=1734020726532000&usg=AOvVaw3WWyA4ELQu4wOt1gaeqMl2\nA participação é gratuita\, mas sujeita a inscrição prévia no seguinte formulário: https://docs.google.com/forms/d/e/1FAIpQLSe4-f2FVA_QL7xBxMbPSQXL4qLuiEbOOfFHhAuylmnLXl192A/viewform\nInscrições abertas até ao dia 10 de janeiro de 2025.\nA presença e contributo da sua instituição/projeto serão fundamentais para pensar os desafios dos jovens em Portugal\, tal como políticas públicas que lhe possam dar resposta.\nSerão emitidos certificados de participação.\nQualquer questão escrever para pericreativities@gmail.com
URL:https://aps.pt/event/conferencia-internacional-criatividades-perifericas-juventudes-territorios-e-politicas-publicas/
LOCATION:Porto\, Anfiteatro Nobre da Faculdade de Letras da Universidade do Porto e na Casa das Glicínias (bairro Engenheiro Machado Vaz – Contumil)
END:VEVENT
BEGIN:VEVENT
DTSTART;TZID=UTC:20250130T193000
DTEND;TZID=UTC:20250130T193000
DTSTAMP:20260420T203532
CREATED:20250121T103459Z
LAST-MODIFIED:20250121T103459Z
UID:26749-1738265400-1738265400@aps.pt
SUMMARY:Conferência GEICS | "Tempo e temporalidades: relevância para as Ciências Sociais".
DESCRIPTION:O encontro será dinamizado pela Professora Doutora Emília Rodrigues Araújo (ICS-UM e CECS). \nO evento é gratuito\, mas carece de inscrição\, que poderá ser realizada  em https://forms.gle/AJbJJH9PkrXSMhw38.\nMediante solicitação\, poderá ser emitido certificado de participação. \nPara informação adicional\, por favor\, contactar geicsuminho@gmail.com ou consultar http://cics.uminho.pt/?p=13264&preview=true&lang=pt.
URL:https://aps.pt/event/conferencia-geics-tempo-e-temporalidades-relevancia-para-as-ciencias-sociais/
LOCATION:Evento online
END:VEVENT
END:VCALENDAR