BEGIN:VCALENDAR
VERSION:2.0
PRODID:-//APS - ECPv6.15.20//NONSGML v1.0//EN
CALSCALE:GREGORIAN
METHOD:PUBLISH
X-WR-CALNAME:APS
X-ORIGINAL-URL:https://aps.pt
X-WR-CALDESC:Eventos para APS
REFRESH-INTERVAL;VALUE=DURATION:PT1H
X-Robots-Tag:noindex
X-PUBLISHED-TTL:PT1H
BEGIN:VTIMEZONE
TZID:UTC
BEGIN:STANDARD
TZOFFSETFROM:+0000
TZOFFSETTO:+0000
TZNAME:UTC
DTSTART:20240101T000000
END:STANDARD
END:VTIMEZONE
BEGIN:VEVENT
DTSTART;TZID=UTC:20250123T000000
DTEND;TZID=UTC:20250224T000000
DTSTAMP:20260421T030127
CREATED:20241126T152717Z
LAST-MODIFIED:20250121T102825Z
UID:26356-1737590400-1740355200@aps.pt
SUMMARY:Simpósio Internacional "Quo tenditis\, educatio? Escola e Conhecimento em Contextos Profissionais"
DESCRIPTION:O Simpósio “Quo tenditis\, educatio? Escola e Conhecimento em\nContextos Profissionais” que decorrerá nos dias 23 e 24 de janeiro de 2025\, na Universidade Lusófona\, informa que o prazo para inscrições será estendido até ao dia 21 de Janeiro de 2025. \nEsta primeira iniciativa será organizada no âmbito do projeto ACT4Wbeing – Tempos de mudança e mudança dos tempos: um  estudo das relações entre a autonomia curricular e o envolvimento e bem-estar dos professores (COFAC/ILIND/CeiED/1/2023) e terá como foco a apresentação dos seus primeiros resultados. \nMais informações em https://tinyurl.com/4za7p2ph
URL:https://aps.pt/event/simposio-internacional-quo-tenditis-educatio-escola-e-conhecimento-em-contextos-profissionais/
LOCATION:Lisboa\, Universidade Lusófona
END:VEVENT
BEGIN:VEVENT
DTSTART;TZID=UTC:20250210T000000
DTEND;TZID=UTC:20250214T000000
DTSTAMP:20260421T030127
CREATED:20250210T172207Z
LAST-MODIFIED:20250210T172207Z
UID:26957-1739145600-1739491200@aps.pt
SUMMARY:Data Lunch Webinars na Love Data Week – 10 a 14 de fevereiro
DESCRIPTION:Com o intuito de dar a conhecer o projeto à comunidade\, a Re.Data – Rede para a Gestão de Dados de Investigação associa-se à Love Data Week\, iniciativa internacional promovida pelo Institute for Social Research da University of Michigan\, realizando uma série de Lunch Webinars para destacar as boas práticas e serviços de Gestão e Partilha de dados de investigação. \nPrograma: \n10 fevereiro | 12h-13h | online [https://videoconf-colibri.zoom.us/meeting/register/I1fFQ-jFTlKzW0pRjHFaTg#/] \nNesta primeira sessão\, Uma cultura para os Dados\, apresentamos o projeto Re.Data e boas práticas na gestão e partilha de dados de investigação\, com Pedro Principe (UMinho | Re.Data) e os convidados Elizabete Marchante (UCoimbra) e Tiago Barbosa (IPBragança). \n11 fevereiro | 12h-13h | online [https://videoconf-colibri.zoom.us/meeting/register/QOP4MwiuRsywhloCSzhnsA#/registration] \nAcompanhe os seus dados – Bruno Almeida (NOVA FCSH | Re.Data)\, Elli Papadopoulou (ATHENA | OpenAIRE) e Alba Comino (NOVA FCSH). \n12 de fevereiro | 12h-13h | online [https://videoconf-colibri.zoom.us/meeting/register/cOcIA4d6SDKxGZtCiY88xw#/registration] \nFacilitar a organização e rastreabilidade dos dados – Catarina Domingues (UCoimbra | Re.Data)\, Nicolas Carpi (eLabFTW). \n13 fevereiro | 12h-13h | online [https://videoconf-colibri.zoom.us/meeting/register/LQ-dHuh-QG2AuBl9EZPOzw#/registration] \nArquivar\, publicar e preservar dados de investigação – Clarisse Pais (IPBragança)\, Vanessa Jorge (FIOCRUZ) e Bruno Direito (UCoimbra). \n14 fevereiro | 12h-13h | online [https://videoconf-colibri.zoom.us/meeting/register/vZPZXzEyRTeig0XtIqnW5Q#/registration] \nFinalizamos esta série com uma conversa sobre Um dia na vida de um data steward\, com Clara Boavida\, Inês Henriques\, André Vieira\, Maria Tommasino\, Salima Rehemtula\, Inês Henriques e João Castro. \nMais informações em: info@redata.pt
URL:https://aps.pt/event/data-lunch-webinars-na-love-data-week-10-a-14-de-fevereiro/
LOCATION:Evento online
END:VEVENT
BEGIN:VEVENT
DTSTART;TZID=UTC:20250212T160000
DTEND;TZID=UTC:20250212T160000
DTSTAMP:20260421T030127
CREATED:20250210T161452Z
LAST-MODIFIED:20250210T161452Z
UID:26954-1739376000-1739376000@aps.pt
SUMMARY:Ciclo de Seminários "Biografias e Trajectórias: da vida\, aos dados\, aos resultados": ""Pesquisa Biográfica da Viuvez Feminina: potencialidades\, desafios e responsabilidades"\, por Ana Rita Brás (FEUC/CES)
DESCRIPTION:Link Zoom: https://videoconf-colibri.zoom.us/j/97721942167\nPodem consultar mais pormenores sobre o ciclo e sobre esta ou outras sessões em https://ciclo-biografias.wixsite.com/ciclo-bio
URL:https://aps.pt/event/ciclo-de-seminarios-biografias-e-trajectorias-da-vida-aos-dados-aos-resultados-pesquisa-biografica-da-viuvez-feminina-potencialidades-desafios-e-responsabilidades-por-ana-rita-bras-f/
LOCATION:Lisboa\, Sala B226 (Ed. 4) do Iscte e online
END:VEVENT
BEGIN:VEVENT
DTSTART;TZID=UTC:20250212T180000
DTEND;TZID=UTC:20250212T180000
DTSTAMP:20260421T030127
CREATED:20250210T112646Z
LAST-MODIFIED:20250210T112646Z
UID:26950-1739383200-1739383200@aps.pt
SUMMARY:Palestra "«MAIS DO QUE PROMETIA A FORÇA HUMANA» - CRISE E SUPERAÇÃO NA LÍRICA E NA ÉPICA DE CAMÕES"\, por José Carlos Pereira
DESCRIPTION:
URL:https://aps.pt/event/palestra-mais-do-que-prometia-a-forca-humana-crise-e-superacao-na-lirica-e-na-epica-de-camoes-por-jose-carlos-pereira/
LOCATION:Porto\, Anfiteatro da Fundação António de Almeida
END:VEVENT
END:VCALENDAR