BEGIN:VCALENDAR
VERSION:2.0
PRODID:-//APS - ECPv6.15.20//NONSGML v1.0//EN
CALSCALE:GREGORIAN
METHOD:PUBLISH
X-WR-CALNAME:APS
X-ORIGINAL-URL:https://aps.pt
X-WR-CALDESC:Eventos para APS
REFRESH-INTERVAL;VALUE=DURATION:PT1H
X-Robots-Tag:noindex
X-PUBLISHED-TTL:PT1H
BEGIN:VTIMEZONE
TZID:UTC
BEGIN:STANDARD
TZOFFSETFROM:+0000
TZOFFSETTO:+0000
TZNAME:UTC
DTSTART:20240101T000000
END:STANDARD
END:VTIMEZONE
BEGIN:VEVENT
DTSTART;TZID=UTC:20250123T000000
DTEND;TZID=UTC:20250224T000000
DTSTAMP:20260421T025933
CREATED:20241126T152717Z
LAST-MODIFIED:20250121T102825Z
UID:26356-1737590400-1740355200@aps.pt
SUMMARY:Simpósio Internacional "Quo tenditis\, educatio? Escola e Conhecimento em Contextos Profissionais"
DESCRIPTION:O Simpósio “Quo tenditis\, educatio? Escola e Conhecimento em\nContextos Profissionais” que decorrerá nos dias 23 e 24 de janeiro de 2025\, na Universidade Lusófona\, informa que o prazo para inscrições será estendido até ao dia 21 de Janeiro de 2025. \nEsta primeira iniciativa será organizada no âmbito do projeto ACT4Wbeing – Tempos de mudança e mudança dos tempos: um  estudo das relações entre a autonomia curricular e o envolvimento e bem-estar dos professores (COFAC/ILIND/CeiED/1/2023) e terá como foco a apresentação dos seus primeiros resultados. \nMais informações em https://tinyurl.com/4za7p2ph
URL:https://aps.pt/event/simposio-internacional-quo-tenditis-educatio-escola-e-conhecimento-em-contextos-profissionais/
LOCATION:Lisboa\, Universidade Lusófona
END:VEVENT
BEGIN:VEVENT
DTSTART;TZID=UTC:20250217T140000
DTEND;TZID=UTC:20250217T140000
DTSTAMP:20260421T025933
CREATED:20250204T144439Z
LAST-MODIFIED:20250204T144439Z
UID:26858-1739800800-1739800800@aps.pt
SUMMARY:Webinar Internacional "Perspetivas de Género nos países da CPLP"
DESCRIPTION:O Webinar será uma oportunidade para reforçar estratégias e refletir sobre experiências e desafios na integração da perspetiva de género nos esforços de promoção da segurança e da paz nos países da CPLP. O evento desenvolve-se em dois eixos de debate: um primeiro painel centrar-se-á na Agenda Mulheres\, Paz e Segurança\, e nos planos nacionais de ação da Resolução 1325 destes países. E num segundo painel serão apresentados exemplos de práticas e iniciativas da promoção da igualdade de género neste âmbito. \nPara refletir sobre estas questões\, o Webinar contará com a participação de académicos\, profissionais e especialistas nesta matéria. \nParticipação no evento mediante inscrição prévia em https://www.idn.gov.pt/pt/Inscricoes/Paginas/Registo-Evento.aspx?Evento=71
URL:https://aps.pt/event/webinar-internacional-perspetivas-de-genero-nos-paises-da-cplp/
LOCATION:Evento online
END:VEVENT
END:VCALENDAR