BEGIN:VCALENDAR
VERSION:2.0
PRODID:-//APS - ECPv6.15.20//NONSGML v1.0//EN
CALSCALE:GREGORIAN
METHOD:PUBLISH
X-ORIGINAL-URL:https://aps.pt
X-WR-CALDESC:Eventos para APS
REFRESH-INTERVAL;VALUE=DURATION:PT1H
X-Robots-Tag:noindex
X-PUBLISHED-TTL:PT1H
BEGIN:VTIMEZONE
TZID:UTC
BEGIN:STANDARD
TZOFFSETFROM:+0000
TZOFFSETTO:+0000
TZNAME:UTC
DTSTART:20240101T000000
END:STANDARD
END:VTIMEZONE
BEGIN:VEVENT
DTSTART;TZID=UTC:20250123T000000
DTEND;TZID=UTC:20250224T000000
DTSTAMP:20260421T044625
CREATED:20241126T152717Z
LAST-MODIFIED:20250121T102825Z
UID:26356-1737590400-1740355200@aps.pt
SUMMARY:Simpósio Internacional "Quo tenditis\, educatio? Escola e Conhecimento em Contextos Profissionais"
DESCRIPTION:O Simpósio “Quo tenditis\, educatio? Escola e Conhecimento em\nContextos Profissionais” que decorrerá nos dias 23 e 24 de janeiro de 2025\, na Universidade Lusófona\, informa que o prazo para inscrições será estendido até ao dia 21 de Janeiro de 2025. \nEsta primeira iniciativa será organizada no âmbito do projeto ACT4Wbeing – Tempos de mudança e mudança dos tempos: um  estudo das relações entre a autonomia curricular e o envolvimento e bem-estar dos professores (COFAC/ILIND/CeiED/1/2023) e terá como foco a apresentação dos seus primeiros resultados. \nMais informações em https://tinyurl.com/4za7p2ph
URL:https://aps.pt/event/simposio-internacional-quo-tenditis-educatio-escola-e-conhecimento-em-contextos-profissionais/
LOCATION:Lisboa\, Universidade Lusófona
END:VEVENT
BEGIN:VEVENT
DTSTART;TZID=UTC:20250220T100000
DTEND;TZID=UTC:20250220T120000
DTSTAMP:20260421T044625
CREATED:20250127T155612Z
LAST-MODIFIED:20250127T155612Z
UID:26794-1740045600-1740052800@aps.pt
SUMMARY:"Ao Encontro das Ciências da Educação" | Dia Aberto para o Ensino Profissional
DESCRIPTION:Inscrições: até 6 de fevereiro \nDia 20 de fevereiro\, a partir das 10:00h\, o Departamento de Ciências da Educação da FPCEUP organiza um Dia Aberto para o Ensino Profissional intitulado “Ao Encontro das Ciências de Educação”. \nEsta atividade convida todas as pessoas interessadas a visitar a FPCEUP e a conhecer a Licenciatura em Ciências da Educação\, o que se estuda nesta licenciatura e quais as suas saídas profissionais. Proporcionaremos\, ainda\, um contacto direto com o dia-a-dia de uma Faculdade jovem\, dinâmica e acolhedora com a mostra de atividades que dão a conhecer o que se pode fazer na área das Ciências da Educação. \nEsta é também uma oportunidade para todos/as o/as estudantes que estejam a concluir o ensino secundário nos seguintes cursos do ensino e formação profissional de obterem informações sobre o concurso especial de acesso ao ensino superior ao qual se podem candidatar: \nÁrea de educação e formação: 761 – Serviços de Apoio a Crianças e Jovens: Técnico/a de Juventude; Animador/a Sociocultural; Técnico/a de Apoio Familiar e de Apoio à Comunidade;\nÁrea de educação e formação: 762 – Trabalho Social e Orientação Técnico/a de Ação Educativa: Técnico/a de Geriatria; Técnico/a de Apoio Psicossocial; Mediador/a Intercultural. \nMais informações em https://noticias.up.pt/fpceup/eventos/ao-encontro-das-ciencias-de-educacao/
URL:https://aps.pt/event/ao-encontro-das-ciencias-da-educacao-dia-aberto-para-o-ensino-profissional/
LOCATION:Porto\, Departamento de Ciências da Educação da FPCEUP
END:VEVENT
BEGIN:VEVENT
DTSTART;TZID=UTC:20250220T143000
DTEND;TZID=UTC:20250220T143000
DTSTAMP:20260421T044625
CREATED:20250204T144936Z
LAST-MODIFIED:20250204T144936Z
UID:26860-1740061800-1740061800@aps.pt
SUMMARY:Dia Mundial da Antropologia e Jornadas Europeias da Antropologia
DESCRIPTION:A APA e a Universidade de Coimbra promovem a celebração do duplo evento internacional Dia Mundial da Antropologia & Jornadas Europeias da Antropologia. O programa da cerimónia inclui a “Conferência Anual Raúl Iturra”\, proferida por Fernando Florêncio. \nTendo por anfitriã a Universidade de Coimbra – e nomeadamente o Departamento de Ciências da Vida da Faculdade de Ciências e Tecnologia -\, que nos abre as suas portas para acolher antropólogas e antropólogos de todo o país\, estudantes\, docentes e investigadores\, a cerimónia assinala igualmente os 140 anos da criação da primeira cátedra de Antropologia em Portugal (1885-2025). Serão entregues o Prémio APA Antropologia Biológica e a Bolsa de Apoio ao Trabalho de Campo e seguir-se-á a Festa da Antropologia\, com algumas surpresas por parte da nossa anfitriã. A cerimónia decorrerá no Anfiteatro I do Colégio de S. Bento (Universidade de Coimbra) a partir das 14h30. \nMais informações em https://apantropologia.org
URL:https://aps.pt/event/dia-mundial-da-antropologia-e-jornadas-europeias-da-antropologia/
LOCATION:Coimbra\, Anfiteatro 1 do Colégio de S.Bento – Universidade de Coimbra
END:VEVENT
BEGIN:VEVENT
DTSTART;TZID=UTC:20250220T180000
DTEND;TZID=UTC:20250220T180000
DTSTAMP:20260421T044625
CREATED:20250211T193148Z
LAST-MODIFIED:20250211T193148Z
UID:26970-1740074400-1740074400@aps.pt
SUMMARY:Apresentação do livro "Gingar na cidade. Bicicleta\, participação e transformação do território"
DESCRIPTION:Este livro\, publicado pela Livraria Tigre de Papel\, apresenta o projeto Gingada e explora as relações entre território\, participação e mobilidade\, sobretudo em bicicleta\, na freguesia de Marvila\, Lisboa.\nA primeira parte examina Marvila em profundidade\, abordando a história do desporto popular\, as transformações urbanas nas zonas ribeirinhas e industriais e a mobilização comunitária local (especialmente os grupos comunitários). A segunda parte destaca a bicicleta como instrumento de trabalho e inclusão social\, contextualizando e apresentando o projeto Gingada e outras iniciativas com afinidade temática na freguesia.\nOrganizado por Henrique Chaves e Inês Vieira\, parceiros na implementação do projeto Gingada\, e com a participação de vários autores\, este livro proporciona uma visão abrangente sobre mobilidade e desenvolvimento comunitário em territórios urbanos em transformação. \nGingada é um projeto com co-financiamento do programa BIP/ZIP (Câmara Municipal de Lisboa)\, promovido pela associação Rés do Chão (RC) e pelo Grupo Recreativo Janz a Associados (GRJA). Contou com uma grande diversidade de parceiros\, nomeadamente a Santa Casa da Misericórdia de Lisboa\, a Biblioteca de Marvila\, o CICS.NOVA\, o CeiED/Universidade Lusófona\, o Grupo Comunitário 4 Crescente e a Junta de Freguesia de Marvila (JFM). O livro contou ainda com apoio de outros projetos\, especialmente o projeto BIP/ZIP Roda Viva (promovido pela Associação Descalçada e tendo como parceiros Rimas ao Minuto/Kriativu\, R/C\, CeiED/Universidade Lusófona\, GRJA e JFM) e projetos de pesquisa financiados pela FCT. \nA participação é livre e não é necessário inscrever-se.\nEsperamos poder contar com a vossa presença!
URL:https://aps.pt/event/apresentacao-do-livro-gingar-na-cidade-bicicleta-participacao-e-transformacao-do-territorio/
LOCATION:Lisboa\, Biblioteca de Marvila
END:VEVENT
END:VCALENDAR