BEGIN:VCALENDAR
VERSION:2.0
PRODID:-//APS - ECPv6.15.20//NONSGML v1.0//EN
CALSCALE:GREGORIAN
METHOD:PUBLISH
X-WR-CALNAME:APS
X-ORIGINAL-URL:https://aps.pt
X-WR-CALDESC:Eventos para APS
REFRESH-INTERVAL;VALUE=DURATION:PT1H
X-Robots-Tag:noindex
X-PUBLISHED-TTL:PT1H
BEGIN:VTIMEZONE
TZID:UTC
BEGIN:STANDARD
TZOFFSETFROM:+0000
TZOFFSETTO:+0000
TZNAME:UTC
DTSTART:20240101T000000
END:STANDARD
END:VTIMEZONE
BEGIN:VEVENT
DTSTART;TZID=UTC:20250224T173000
DTEND;TZID=UTC:20250224T173000
DTSTAMP:20260421T030058
CREATED:20250217T204646Z
LAST-MODIFIED:20250217T204646Z
UID:27015-1740418200-1740418200@aps.pt
SUMMARY:Conferência "7 anos do Doutoramento em Estudos de Género"
DESCRIPTION:De modo a assinalar e celebrar este percurso\, o evento irá contar com a contribuição das reflexões de três doutoradas – Ana Carolina Ferraz\, Gabriela Canavilhas e Raquel Afonso –\, que irão abordar o impacto pessoal\, científico e social do trabalho realizado. O evento irá também destacar o impacto do programa na formação de investigadores/as e a sua contribuição no panorama académico português\, através da participação da Coordenação do Programa Doutoral e de representantes das Instituições envolvidas no consórcio. \nO acesso será aberto\, limitado ao número de lugares disponíveis.\nPor este motivo\, pedimos por favor que se inscreva até ao dia 20 de fevereiro através deste formulário: https://forms.gle/YgBczPzfWG4rHzLq6
URL:https://aps.pt/event/conferencia-7-anos-do-doutoramento-em-estudos-de-genero/
LOCATION:Lisboa\, Auditório Óscar Soares Barata do ISCSP-ULisboa
END:VEVENT
END:VCALENDAR