BEGIN:VCALENDAR
VERSION:2.0
PRODID:-//APS - ECPv6.15.20//NONSGML v1.0//EN
CALSCALE:GREGORIAN
METHOD:PUBLISH
X-WR-CALNAME:APS
X-ORIGINAL-URL:https://aps.pt
X-WR-CALDESC:Eventos para APS
REFRESH-INTERVAL;VALUE=DURATION:PT1H
X-Robots-Tag:noindex
X-PUBLISHED-TTL:PT1H
BEGIN:VTIMEZONE
TZID:UTC
BEGIN:STANDARD
TZOFFSETFROM:+0000
TZOFFSETTO:+0000
TZNAME:UTC
DTSTART:20240101T000000
END:STANDARD
END:VTIMEZONE
BEGIN:VEVENT
DTSTART;TZID=UTC:20250225T150000
DTEND;TZID=UTC:20250225T150000
DTSTAMP:20260421T030057
CREATED:20250225T104011Z
LAST-MODIFIED:20250225T104011Z
UID:27108-1740495600-1740495600@aps.pt
SUMMARY:1.ª Sessão de Trabalho do PhD Club | Sessão de informação sobre Bolsas de Doutoramento FCT
DESCRIPTION:Nesta sessão\, o PhD Club\, em colaboração com o Departamento de Sociologia\, pretende dar a oportunidades a todos/as os/as potenciais interessados/as em concorrer a uma bolsa de doutoramento no presente ano. Pretende-se esclarecer\, de uma forma geral e tendo em conta os procedimentos concursais dos últimos anos\, a estrutura do concurso\, os elementos de avaliação e algumas estratégias a adoptar no momento de elaboração de uma candidatura. \nA dinamização da sessão estará a cargo da/os docente/s Maria Isabel Dias\, Virgílio Borges Pereira e João Teixeira Lopes. \nO PhD Club convida todos/as aqueles/as que entendam ser do seu interesse a comparecer na Sala do Departamento de Sociologia (Torre A)\, ou via Zoom (credenciais e link para o acesso em baixo): \nTópico: Sessão de Trabalho – Bolsas de Doutoramento FCT\nHorário: 25 fev. 2025 03:00 da tarde Lisboa\nIngressar na reunião Zoom\nhttps://videoconf-colibri.zoom.us/j/91315383216?pwd=CHggScZoWEcPtvqZfeGGdYUMFMjl8y.1 \nID da reunião: 913 1538 3216\nSenha: 533522
URL:https://aps.pt/event/1-a-sessao-de-trabalho-do-phd-club-sessao-de-informacao-sobre-bolsas-de-doutoramento-fct/
LOCATION:Porto\, FLUP (Sala do Departamento de Sociologia) e online (Zoom)
END:VEVENT
BEGIN:VEVENT
DTSTART;TZID=UTC:20250225T170000
DTEND;TZID=UTC:20250225T170000
DTSTAMP:20260421T030057
CREATED:20250223T082702Z
LAST-MODIFIED:20250223T082702Z
UID:27103-1740502800-1740502800@aps.pt
SUMMARY:Mesa Redonda | "Democracia Representativa face aos populismos"
DESCRIPTION:Com a participação de José Gomes André (professor universitário)\, Margarida Davim (jornalista) e David Dinis (jornalista)\nA entrada é livre mas sujeita a inscrição prévia para: 216 045 938 ou aedargeral@gmail.com
URL:https://aps.pt/event/mesa-redonda-democracia-representativa-face-aos-populismos/
LOCATION:Lisboa\, Casa do Parlamento – Centro Interpretativo (Rua de S. Bento\, nº 148)
END:VEVENT
BEGIN:VEVENT
DTSTART;TZID=UTC:20250225T180000
DTEND;TZID=UTC:20250225T180000
DTSTAMP:20260421T030057
CREATED:20250225T103723Z
LAST-MODIFIED:20250225T103723Z
UID:27106-1740506400-1740506400@aps.pt
SUMMARY:2ª Sessão de RIFAS | "Avaliação e Transformação"
DESCRIPTION:Mais informações em https://drive.google.com/file/d/1hWa3IOCHvhYXiWpHtezY_tLW9t-Szerv/view
URL:https://aps.pt/event/2a-sessao-de-rifas-avaliacao-e-transformacao/
LOCATION:Evento online
END:VEVENT
END:VCALENDAR