BEGIN:VCALENDAR
VERSION:2.0
PRODID:-//APS - ECPv6.15.20//NONSGML v1.0//EN
CALSCALE:GREGORIAN
METHOD:PUBLISH
X-ORIGINAL-URL:https://aps.pt
X-WR-CALDESC:Eventos para APS
REFRESH-INTERVAL;VALUE=DURATION:PT1H
X-Robots-Tag:noindex
X-PUBLISHED-TTL:PT1H
BEGIN:VTIMEZONE
TZID:UTC
BEGIN:STANDARD
TZOFFSETFROM:+0000
TZOFFSETTO:+0000
TZNAME:UTC
DTSTART:20240101T000000
END:STANDARD
END:VTIMEZONE
BEGIN:VEVENT
DTSTART;TZID=UTC:20250227T193000
DTEND;TZID=UTC:20250227T193000
DTSTAMP:20260421T044624
CREATED:20250223T081601Z
LAST-MODIFIED:20250223T081601Z
UID:27098-1740684600-1740684600@aps.pt
SUMMARY:Conferência GEICS | "Teatro do oprimido: da arte à ação política"
DESCRIPTION:O encontro será dinamizado pela Professora Doutora Joana Cruz (CIIE-UP e FPCE-UP). \nO evento é gratuito\, mas carece de inscrição\, que poderá ser realizada em https://forms.gle/PdDEhQvVwzFF19mA7\nMediante solicitação\, poderá ser emitido certificado de participação.\nPara informação adicional\, por favor\, contactar geicsuminho@gmail.com ou consultar http://cics.uminho.pt/?p=13312&lang=pt
URL:https://aps.pt/event/conferencia-geics-teatro-do-oprimido-da-arte-a-acao-politica/
LOCATION:Evento online
END:VEVENT
END:VCALENDAR