BEGIN:VCALENDAR
VERSION:2.0
PRODID:-//APS - ECPv6.15.20//NONSGML v1.0//EN
CALSCALE:GREGORIAN
METHOD:PUBLISH
X-WR-CALNAME:APS
X-ORIGINAL-URL:https://aps.pt
X-WR-CALDESC:Eventos para APS
REFRESH-INTERVAL;VALUE=DURATION:PT1H
X-Robots-Tag:noindex
X-PUBLISHED-TTL:PT1H
BEGIN:VTIMEZONE
TZID:UTC
BEGIN:STANDARD
TZOFFSETFROM:+0000
TZOFFSETTO:+0000
TZNAME:UTC
DTSTART:20240101T000000
END:STANDARD
END:VTIMEZONE
BEGIN:VEVENT
DTSTART;TZID=UTC:20250306T170000
DTEND;TZID=UTC:20250306T170000
DTSTAMP:20260421T044404
CREATED:20250225T104858Z
LAST-MODIFIED:20250225T104858Z
UID:27111-1741280400-1741280400@aps.pt
SUMMARY:Conferência e Exposição "Representações do Trabalho"
DESCRIPTION:No próximo dia 6 de março\, pelas 17h00\, o Professor Carlos Manuel Gonçalves dará uma conferência intitulada “Representações do Trabalho”. \nA sessão de entrada livre decorrerá no Anfiteatro Nobre da FLUP. \nNeste mesmo dia\, pelas 18h00\, decorrerá a inauguração da exposição sobre o mesmo tema\, com a presença de José Pacheco Pereira. \nA exposição ficará patente ao público até 31 de maio de 2025\, na Biblioteca e hall das Salas de Reuniões (piso 2)\, da FLUP. \nConvite: https://noticias.up.pt/flup/wp-content/uploads/sites/12/2025/02/Representacoes-do-trabalho_convite.pdf\nCartaz: https://noticias.up.pt/flup/wp-content/uploads/sites/12/2025/02/Representacoes-do-trabalho_cartaz.pdf
URL:https://aps.pt/event/conferencia-e-exposicao-representacoes-do-trabalho/
LOCATION:Porto\, FLUP – Anfiteatro Nobre
END:VEVENT
END:VCALENDAR