BEGIN:VCALENDAR
VERSION:2.0
PRODID:-//APS - ECPv6.15.20//NONSGML v1.0//EN
CALSCALE:GREGORIAN
METHOD:PUBLISH
X-WR-CALNAME:APS
X-ORIGINAL-URL:https://aps.pt
X-WR-CALDESC:Eventos para APS
REFRESH-INTERVAL;VALUE=DURATION:PT1H
X-Robots-Tag:noindex
X-PUBLISHED-TTL:PT1H
BEGIN:VTIMEZONE
TZID:UTC
BEGIN:STANDARD
TZOFFSETFROM:+0000
TZOFFSETTO:+0000
TZNAME:UTC
DTSTART:20240101T000000
END:STANDARD
END:VTIMEZONE
BEGIN:VEVENT
DTSTART;TZID=UTC:20250310T180000
DTEND;TZID=UTC:20250311T200000
DTSTAMP:20260421T062436
CREATED:20250301T220731Z
LAST-MODIFIED:20250301T220731Z
UID:27136-1741629600-1741723200@aps.pt
SUMMARY:VI Encontro Anual da SEaD da SPCE
DESCRIPTION:Este evento\, com acesso livre\, contará com a ilustre participação do Professor Doutor António Dias de Figueiredo da Universidade de Coimbra\, entre outros especialistas na área (ver programa completo)\, e será transmitido também via Zoom/Youtube\, através dos links a serem disponibilizados posteriormente a todos os inscritos. \nFormulário para inscrição on-line: https://bit.ly/sead-vi-encontro-registo\nEncontre estas e outras informações no site da SEaD em: https://sead.spce.org.pt/vi-encontro/
URL:https://aps.pt/event/vi-encontro-anual-da-sead-da-spce/
LOCATION:Coimbra\, Delegação de Coimbra da Universidade Aberta e online
END:VEVENT
BEGIN:VEVENT
DTSTART;TZID=UTC:20250311T090000
DTEND;TZID=UTC:20250311T090000
DTSTAMP:20260421T062436
CREATED:20250310T122205Z
LAST-MODIFIED:20250310T122205Z
UID:27182-1741683600-1741683600@aps.pt
SUMMARY:Sustentabilidade 360º - 1.º Encontro de Sustentabilidade da ULisboa
DESCRIPTION:No dia 11 de março\, às 9h00\, a Universidade de Lisboa acolherá o evento ” Sustentabilidade 360º – 1.º Encontro de Sustentabilidade da ULisboa”\, uma iniciativa dedicada à apresentação de projetos\, ações e boas práticas desenvolvidas pelas Escolas da ULisboa. \nO encontro tem como principal objetivo promover uma discussão construtiva sobre a estratégia da ULisboa no âmbito da sustentabilidade e destacar boas práticas das Escolas apresentadas pelas Associações de Estudantes. \nDurante o evento\, será apresentada a Rede Sustentabilidade (RedeSUSTENTA) da ULisboa que visa fomentar a cooperação entre a comunidade académica da ULisboa\, por forma a promover uma resposta coordenada aos desafios prementes do desenvolvimento sustentável e a disseminação de soluções e boas práticas\, tendo em vista o cumprimento das metas nacionais e internacionais em matéria de sustentabilidade. \nO programa inclui uma mesa-redonda para debater o tema Sustentabilidade 360.º\nAs Conversas com Humor com Pedro Teixeira da Mota trarão momentos de boa disposição entre a comunidade académica. Haverá ainda um Showcooking protagonizado pelo Chef Marco Fonseca e pela nutricionista Tatiana Pereira\, que irão explorar soluções criativas e sustentáveis no âmbito da alimentação saudável\, seguido de um tempo de degustação. \nNo evento\, decorrerá ainda a entrega de prémios monetários\, distinguindo os melhores vídeos e cartazes das Associações de Estudantes alusivos às iniciativas de maior impacto no âmbito da sustentabilidade. \nEntrada livre\, sujeita a inscrição: https://docs.google.com/forms/d/1cW-MxWY62IOrv3NIMGUnnUeG2r42gfNbZZ4dieQU6TM/viewform?edit_requested=true\nMais informações em https://www.ulisboa.pt/evento/sustentabilidade-360o-1o-encontro-de-sustentabilidade-da-ulisboa
URL:https://aps.pt/event/sustentabilidade-360o-1-o-encontro-de-sustentabilidade-da-ulisboa/
LOCATION:Lisboa\, Reitoria da Universidade de Lisboa
END:VEVENT
END:VCALENDAR