BEGIN:VCALENDAR
VERSION:2.0
PRODID:-//APS - ECPv6.15.20//NONSGML v1.0//EN
CALSCALE:GREGORIAN
METHOD:PUBLISH
X-WR-CALNAME:APS
X-ORIGINAL-URL:https://aps.pt
X-WR-CALDESC:Eventos para APS
REFRESH-INTERVAL;VALUE=DURATION:PT1H
X-Robots-Tag:noindex
X-PUBLISHED-TTL:PT1H
BEGIN:VTIMEZONE
TZID:UTC
BEGIN:STANDARD
TZOFFSETFROM:+0000
TZOFFSETTO:+0000
TZNAME:UTC
DTSTART:20240101T000000
END:STANDARD
END:VTIMEZONE
BEGIN:VEVENT
DTSTART;TZID=UTC:20250319T000000
DTEND;TZID=UTC:20250320T000000
DTSTAMP:20260421T044431
CREATED:20250318T102257Z
LAST-MODIFIED:20250318T102257Z
UID:27234-1742342400-1742428800@aps.pt
SUMMARY:"Como construir uma cidade mais feminista?" | 2º Encontro TransNacional | TransFemina: Paisagens Interseccionais
DESCRIPTION:Nos dias 19 e 20 de março\, o projeto TransFemina vai receber o seu segundo Encontro TransNacional no Porto\, Portugal\, com conversas e instalações\, oficinas e passeios exploratórios da cidade. Com um programa desenhado maioritariamente a partir das 121 propostas submetidas à convocatória aberta\, este será um espaço de partilha\, reflexão e discussão de experiências e ideias inspiradoras.\n“Quanto espaço\, físico e simbólico\, ocupam as mulheres nas cidades?” Este questionamento foi o ponto de partida para o pensamento do TransFemina: Intersectional Landscapes\, um projeto de dois anos co-financiado pelo programa Europa Criativa e pela DGArtes\, que aprofunda\, crítica e criativamente\, sobre a invisibilidade das narrativas feministas e as desigualdades nos espaços públicos do Porto\, Barcelona e Modena.\nA base de criação do TransFemina está ancorada nos Laboratórios Locais que acontecem nas 3 cidades e envolvem mais de 80 participantes. Deste processo irão resultar ações performativas no espaço público\, caminhadas sonoras imersivas e uma fanzine\, que propõem outras e novas formas de (re)imaginar\, ocupar\, apropriar e ressignificar as cidades.\nTransFemina é uma organização entre coletivos feministas: PELE (Porto\, Portugal)\, Collettivo Amigdala (Modena\, Itália) e Col·lectiu Punt 6 (Barcelona\, Espanha).\nO Encontro TransNacional do Porto conta com o apoio do Instituto de Sociologia da Universidade do Porto\, da Junta de Freguesia do Bonfim e do coletivo pedreira.\nA entrada no Encontro é livre mediante inscrição prévia obrigatória através do preenchimento do formulário disponível. \nMais informações em https://www.apele.org/pt/projetos-em-curso/2-encontro-transnacional-transfemina/
URL:https://aps.pt/event/como-construir-uma-cidade-mais-feminista-2o-encontro-transnacional-transfemina-paisagens-interseccionais/
LOCATION:Porto\, Junta de Freguesia do Bonfim & Pedreira
END:VEVENT
END:VCALENDAR