BEGIN:VCALENDAR
VERSION:2.0
PRODID:-//APS - ECPv6.15.20//NONSGML v1.0//EN
CALSCALE:GREGORIAN
METHOD:PUBLISH
X-WR-CALNAME:APS
X-ORIGINAL-URL:https://aps.pt
X-WR-CALDESC:Eventos para APS
REFRESH-INTERVAL;VALUE=DURATION:PT1H
X-Robots-Tag:noindex
X-PUBLISHED-TTL:PT1H
BEGIN:VTIMEZONE
TZID:UTC
BEGIN:STANDARD
TZOFFSETFROM:+0000
TZOFFSETTO:+0000
TZNAME:UTC
DTSTART:20240101T000000
END:STANDARD
END:VTIMEZONE
BEGIN:VEVENT
DTSTART;TZID=UTC:20250320T000000
DTEND;TZID=UTC:20250321T000000
DTSTAMP:20260421T044430
CREATED:20241226T194553Z
LAST-MODIFIED:20241226T194553Z
UID:26582-1742428800-1742515200@aps.pt
SUMMARY:Conferência "A Justiça Restaurativa na Perspetiva das Vítimas: Experiências no Espaço Ibero-Americano"
DESCRIPTION:Nos dias 20 e 21 de março de 2025\, o Instituto Superior de Ciências Sociais e Politicas da Universidade de Lisboa (ISCSP)\, em Lisboa\, será palco da Conferência “A Justiça Restaurativa na Perspetiva das Vítimas: Experiências no Espaço Ibero-Americano” que reunirá especialistas\, profissionais\, investigadores e membros da sociedade civil de Portugal\, Espanha\, Brasil e outros países da América-Latina para uma profunda reflexão acerca da justiça restaurativa\, com foco nas experiências das vítimas de crime. \nEste evento\, que assinalará a constituição e dará a conhecer o Conselho Ibero-Americano de Justiça Restaurativa\, oferecerá um espaço de diálogo sobre temas essenciais\, incluindo o papel das vítimas nas práticas de justiça restaurativa\, bem como a forma como os Sistemas de Justiça percebem e integram essas práticas. A Conferência representará\, ainda\, uma oportunidade única para conhecer práticas inovadoras e experiências desenvolvidas no contexto ibero-americano\, contribuindo para o fortalecimento e desenvolvimento de abordagens de justiça restaurativa inclusivas e centradas nas necessidades das vítimas. \nO programa contará\, entre outros\, com a presença de representantes de entidades como a Associação Portuguesa de Apoio à Vítima (APAV)\, o Instituto de Reintegración Social de Euskadi (IRSE-EBI)\, Consciencia i Justicia\, o Fórum Europeu de Justiça Restaurativa e profissionais como Wendy O’Brien\, Responsável pela Prevenção da Criminalidade e Justiça Penal na Divisão de Assuntos de Tratados\, UNODC Viena\, Ivo Aertsen\, Professor no Instituto de Criminologia da KU Leuven\, Iñaki Subijana\, Juiz Presidente do Supremo Tribunal do País Basco\, Sónia Moreira Reis\, Professora Auxiliar Convidada do ISCSP-ULisboa/ Membro do CAPP\, Assistente Convidada da FD-ULisboa/ Membro do IDPCC/IDPCC\, Daniel Achutti do Fórum Latino-Americano de Justiça Restaurativa\, Fábio Heerdt\, Coordenador Centro Judiciário de Solução de Conflitos e Cidadania – Justiça Restaurativa de Portoalegre e Juiz no Tribunal de Justiça do Estado do Rio Grande do Sul\, e muitos/as outros/as. \nPara ficar a par de todas as novidades acerca da Conferência\, incluindo informação sobre a abertura de inscrições\, preencha o formulário abaixo deixando-nos o seu endereço de e-mail. Iremos contactá-lo/a diretamente com todas as informações necessárias.\nContamos consigo! \nFormulário: https://forms.office.com/Pages/ResponsePage.aspx?id=D9aFx1SF5UyZ1wm35s7uZnM3Q_MEbdROgXnDlIox8clUQUFHMU42SUZRMEhHWU5MTjNIRzEwTTE2Qy4u
URL:https://aps.pt/event/conferencia-a-justica-restaurativa-na-perspetiva-das-vitimas-experiencias-no-espaco-ibero-americano/
LOCATION:Lisboa\, Instituto Superior de Ciências Sociais e Politicas da Universidade de Lisboa (ISCSP)
END:VEVENT
END:VCALENDAR