BEGIN:VCALENDAR
VERSION:2.0
PRODID:-//APS - ECPv6.15.20//NONSGML v1.0//EN
CALSCALE:GREGORIAN
METHOD:PUBLISH
X-WR-CALNAME:APS
X-ORIGINAL-URL:https://aps.pt
X-WR-CALDESC:Eventos para APS
REFRESH-INTERVAL;VALUE=DURATION:PT1H
X-Robots-Tag:noindex
X-PUBLISHED-TTL:PT1H
BEGIN:VTIMEZONE
TZID:UTC
BEGIN:STANDARD
TZOFFSETFROM:+0000
TZOFFSETTO:+0000
TZNAME:UTC
DTSTART:20240101T000000
END:STANDARD
END:VTIMEZONE
BEGIN:VEVENT
DTSTART;TZID=UTC:20250321T083000
DTEND;TZID=UTC:20250321T083000
DTSTAMP:20260421T044524
CREATED:20250318T101937Z
LAST-MODIFIED:20250318T101937Z
UID:27232-1742545800-1742545800@aps.pt
SUMMARY:Dia do Pensamento Crítico na Universidade Lusófona
DESCRIPTION:A Universidade Lusófona convida todos os estudantes do ensino secundário e superior a participar no Dia do Pensamento Crítico\, que decorrerá no dia 21 de março de 2025. \nEste evento promete ser uma experiência envolvente e desafiante\, focada na reflexão\, questionamento e resolução de problemas do mundo real. \nAo longo do dia\, os participantes terão a oportunidade de analisar problemas\, avaliar propostas\, questionar informações e apresentar soluções criativas\, desenvolvendo competências essenciais para o futuro. \nInscrições em https://docs.google.com/forms/d/e/1FAIpQLSc0yzjtV2MI-zKVf1L1GpFw50V3_U3mhodOB56hS5o4JZQBVA/viewform
URL:https://aps.pt/event/dia-do-pensamento-critico-na-universidade-lusofona/
LOCATION:Lisboa\, Universidade Lusófona
END:VEVENT
BEGIN:VEVENT
DTSTART;TZID=UTC:20250321T180000
DTEND;TZID=UTC:20250321T180000
DTSTAMP:20260421T044524
CREATED:20250318T102658Z
LAST-MODIFIED:20250318T102658Z
UID:27237-1742580000-1742580000@aps.pt
SUMMARY:Le Monde Diplomatique - Edição Portuguesa | Ciclo Maneiras de Ver : O que significa o « consentimento » ?
DESCRIPTION:Conversa com \nMaria João Faustino (doutorada em Psicologia pela Universidade de Auckland e investigadora do Centro de Estudos Sociais da Universidade de Coimbra; coautora\, com Sílvia Roque\, Rita Santos e Júlia Garraio\, de #Metoo – Um segredo muito público) \nSara Araújo (investigadora do Centro de Estudos Sociais da Universidade de Coimbra e professora auxiliar convidada na Faculdade de Economia da mesma universidade) \nCom moderação de\nFernando Ramalho (livreiro da Tigre de Papel) \nAbrimos este espaço para parar e refletir sobre um tema tratado em cada número do Le Monde diplomatique – edição portuguesa. A escolha deste mês é um artigo de Clara Serra sobre a controvérsia dentro do campo feminista e jurídico em torno do significado da palavra «consentimento». \nProblematizar o conceito contribui para evitar soluções que\, aparentemente simples\, podem ter consequências políticas preocupantes. E permite pensar e articular os eixos género-classe e poder-desejo. \nConvidámos Maria João Faustino e Sara Araújo\, investigadoras do CES\, que estudam estes temas\, para abrir a conversa a partir do artigo «O que significa a palavra “consentimento”?» \nEntrada livre.\nLeia este texto no sítio internet: https://pt.mondediplo.com/o-que-significa-o-consentimento.html
URL:https://aps.pt/event/le-monde-diplomatique-edicao-portuguesa-ciclo-maneiras-de-ver-o-que-significa-o-consentimento/
LOCATION:Lisboa\, Livraria Tigre de Papel (Rua de Arroios\, n.º 25)
END:VEVENT
END:VCALENDAR