BEGIN:VCALENDAR
VERSION:2.0
PRODID:-//APS - ECPv6.15.20//NONSGML v1.0//EN
CALSCALE:GREGORIAN
METHOD:PUBLISH
X-WR-CALNAME:APS
X-ORIGINAL-URL:https://aps.pt
X-WR-CALDESC:Eventos para APS
REFRESH-INTERVAL;VALUE=DURATION:PT1H
X-Robots-Tag:noindex
X-PUBLISHED-TTL:PT1H
BEGIN:VTIMEZONE
TZID:UTC
BEGIN:STANDARD
TZOFFSETFROM:+0000
TZOFFSETTO:+0000
TZNAME:UTC
DTSTART:20240101T000000
END:STANDARD
END:VTIMEZONE
BEGIN:VEVENT
DTSTART;TZID=UTC:20250324T000000
DTEND;TZID=UTC:20250328T000000
DTSTAMP:20260421T044429
CREATED:20250324T153801Z
LAST-MODIFIED:20250325T102218Z
UID:27296-1742774400-1743120000@aps.pt
SUMMARY:8º Congreso Venezolano de Sociología
DESCRIPTION:Link de registo: https://us02web.zoom.us/meeting/register/FNh77yH5SVyp4QMpGT_HTg \n+info: https://asociacionvenezolanadesociologia.org/
URL:https://aps.pt/event/8o-congreso-venezolano-de-sociologia-2/
LOCATION:Evento online
END:VEVENT
END:VCALENDAR