BEGIN:VCALENDAR
VERSION:2.0
PRODID:-//APS - ECPv6.15.20//NONSGML v1.0//EN
CALSCALE:GREGORIAN
METHOD:PUBLISH
X-WR-CALNAME:APS
X-ORIGINAL-URL:https://aps.pt
X-WR-CALDESC:Eventos para APS
REFRESH-INTERVAL;VALUE=DURATION:PT1H
X-Robots-Tag:noindex
X-PUBLISHED-TTL:PT1H
BEGIN:VTIMEZONE
TZID:UTC
BEGIN:STANDARD
TZOFFSETFROM:+0000
TZOFFSETTO:+0000
TZNAME:UTC
DTSTART:20240101T000000
END:STANDARD
END:VTIMEZONE
BEGIN:VEVENT
DTSTART;TZID=UTC:20250409T163000
DTEND;TZID=UTC:20250409T173000
DTSTAMP:20260421T075144
CREATED:20250408T153855Z
LAST-MODIFIED:20250408T153855Z
UID:27424-1744216200-1744219800@aps.pt
SUMMARY:Aula Aberta SOCIOLOGIA DA MÚSICA | MESTRADO SOCIOLOGIA FLUP | "A era pós-revolucionária na Checoslováquia: os clubes de música Na Petynce e Delta"\, por Karolina Válová (Faculdade de Letras\, Universidade Carolina)
DESCRIPTION:
URL:https://aps.pt/event/aula-aberta-sociologia-da-musica-mestrado-sociologia-flup-a-era-pos-revolucionaria-na-checoslovaquia-os-clubes-de-musica-na-petynce-e-delta-por-karolina-valova-faculdade-de-letras-universi/
LOCATION:Porto\, Sala 306 da Faculdade de Letras da Universidade do Porto
END:VEVENT
END:VCALENDAR