BEGIN:VCALENDAR
VERSION:2.0
PRODID:-//APS - ECPv6.15.20//NONSGML v1.0//EN
CALSCALE:GREGORIAN
METHOD:PUBLISH
X-ORIGINAL-URL:https://aps.pt
X-WR-CALDESC:Eventos para APS
REFRESH-INTERVAL;VALUE=DURATION:PT1H
X-Robots-Tag:noindex
X-PUBLISHED-TTL:PT1H
BEGIN:VTIMEZONE
TZID:UTC
BEGIN:STANDARD
TZOFFSETFROM:+0000
TZOFFSETTO:+0000
TZNAME:UTC
DTSTART:20240101T000000
END:STANDARD
END:VTIMEZONE
BEGIN:VEVENT
DTSTART;TZID=UTC:20250410T123000
DTEND;TZID=UTC:20250410T123000
DTSTAMP:20260421T092117
CREATED:20250404T152815Z
LAST-MODIFIED:20250404T152815Z
UID:27411-1744288200-1744288200@aps.pt
SUMMARY:2.º seminário-almoço CICS 2025 | "Financiamento da ciência\, tecnologia e inovação no Brasil"
DESCRIPTION:Será lecionado pela Prof.ª Doutora Mariana de Moura Souza e moderado pelo Prof. Doutor Manuel Carlos Silva. \n“A discussão sobre de onde virá o financiamento necessário para sustentar um plano nacional de ciência\, tecnologia e inovação parte de uma realidade em\nque ainda somos um dos grandes países do mundo que investe pouco nessa área.\nO Brasil está há décadas patinando entre 1% e 1\,5% do PIB dispendidos em P&D enquanto a Coreia do Sul ultrapassou os 5%\, os EUA a 3\,5% e China e Alemanha\na 3% do PIB por paridade do poder de compra (OECD\, 2024). A recomposição do FNDCT\, no entanto\, ainda que seja muitíssimo importante para o Sistema de\nC&T brasileiro\, não é suficiente para nos levar ao patamar necessário de desenvolvimento comparável a outros países. Com estes recursos “novos”\,\nsomados ao aumento do dispêndio público – federal e estadual de 2023 e\, ainda que se mantenha o mesmo patamar de investimento empresarial\,\nchegaremos bem perto dos 2% demandados pela comunidade acadêmica organizada.\nMas isso não é suficiente para levar o Brasil para o século XXI. Em um momento em que o país está discutindo a Estratégia Nacional de Ciência\,\nTecnologia e Inovação para os próximos 10 anos\, precisamos ser mais ousados e definir como meta investir no mínimo 3% do PIB em CTI”. \nO evento é gratuito\, mas carece de inscrição\, que poderá ser realizada em https://forms.gle/eFqN8hbzhCSwbDpy7. \nMediante solicitação\, poderá ser emitido certificado de participação. \nTraga o seu contributo e junte-se a nós\, para um debate enriquecedor\, seguido de um momento de convívio e almoço partilhado. \nInformação adicional disponível em http://cics.uminho.pt/?p=13337&lang=pt.
URL:https://aps.pt/event/2-o-seminario-almoco-cics-2025-financiamento-da-ciencia-tecnologia-e-inovacao-no-brasil/
LOCATION:Braga\, Sala de Atos do ICS-UMinho e Online
END:VEVENT
END:VCALENDAR