BEGIN:VCALENDAR
VERSION:2.0
PRODID:-//APS - ECPv6.15.20//NONSGML v1.0//EN
CALSCALE:GREGORIAN
METHOD:PUBLISH
X-WR-CALNAME:APS
X-ORIGINAL-URL:https://aps.pt
X-WR-CALDESC:Eventos para APS
REFRESH-INTERVAL;VALUE=DURATION:PT1H
X-Robots-Tag:noindex
X-PUBLISHED-TTL:PT1H
BEGIN:VTIMEZONE
TZID:UTC
BEGIN:STANDARD
TZOFFSETFROM:+0000
TZOFFSETTO:+0000
TZNAME:UTC
DTSTART:20240101T000000
END:STANDARD
END:VTIMEZONE
BEGIN:VEVENT
DTSTART;TZID=UTC:20250411T143000
DTEND;TZID=UTC:20250411T143000
DTSTAMP:20260421T105419
CREATED:20250409T123813Z
LAST-MODIFIED:20250409T123813Z
UID:27446-1744381800-1744381800@aps.pt
SUMMARY:Seminário | Trabalho\, Sindicalismo e Globalização
DESCRIPTION:11 de abril de 2025\, 14h30 | Sala Keynes\, Faculdade de Economia da Universidade de Coimbra \nJacinto Santos – Presidente da UGT Coimbra \nModeração: Ana Paula Marques – Universidade do Minho \nOrganização\nDoutoramento em Sociologia: Relações de Trabalho\, Desigualdades Sociais e Sindicalismo\nDoutoramento em Sociologia\nSeção Temática “Trabalho\, Organizações e Profissões” da Associação Portuguesa de Sociologia
URL:https://aps.pt/event/seminario-trabalho-sindicalismo-e-globalizacao/
LOCATION:Faculdade de Economia da Universidade de Coimbra
END:VEVENT
BEGIN:VEVENT
DTSTART;TZID=UTC:20250411T150000
DTEND;TZID=UTC:20250411T160000
DTSTAMP:20260421T105419
CREATED:20250408T151131Z
LAST-MODIFIED:20250408T151131Z
UID:27421-1744383600-1744387200@aps.pt
SUMMARY:Aula Aberta SOCIOLOGIA DA COMUNICAÇÃO E DOS MEDIA FLUP | "A performance política de Madonna: pode a diva pop envelhecer?"\, por Thiago Soares (Universidade Federal de Pernambuco\, Brasil)
DESCRIPTION:Entrada livre.\nLink Zoom: https://videoconf-colibri.zoom.us/j/98214760029?pwd=BO9MXZ2DQTOMZWnWjqvFe0fzn31kNe.1\nID da reunião: 982 1476 0029\nSenha: 721404
URL:https://aps.pt/event/aula-aberta-sociologia-da-comunicacao-e-dos-media-flup-a-performance-politica-de-madonna-pode-a-diva-pop-envelhecer-por-thiago-soares-universidade-federal-de-pernambuco-brasil/
LOCATION:Porto\, Sala 106 da Faculdade de Letras da Universidade do Porto e online
END:VEVENT
END:VCALENDAR