BEGIN:VCALENDAR
VERSION:2.0
PRODID:-//APS - ECPv6.15.20//NONSGML v1.0//EN
CALSCALE:GREGORIAN
METHOD:PUBLISH
X-ORIGINAL-URL:https://aps.pt
X-WR-CALDESC:Eventos para APS
REFRESH-INTERVAL;VALUE=DURATION:PT1H
X-Robots-Tag:noindex
X-PUBLISHED-TTL:PT1H
BEGIN:VTIMEZONE
TZID:UTC
BEGIN:STANDARD
TZOFFSETFROM:+0000
TZOFFSETTO:+0000
TZNAME:UTC
DTSTART:20240101T000000
END:STANDARD
END:VTIMEZONE
BEGIN:VEVENT
DTSTART;TZID=UTC:20250412T150000
DTEND;TZID=UTC:20250412T150000
DTSTAMP:20260421T121039
CREATED:20250408T154305Z
LAST-MODIFIED:20250408T154305Z
UID:27426-1744470000-1744470000@aps.pt
SUMMARY:Exposição "O SALTO - Migrações e Exílios de Ontem e Hoje" / Conferência "Migrações e Inclusão"
DESCRIPTION:No âmbito do Protocolo de Colaboração celebrado entre a Associação dos Ex-Deputados da Assembleia da República (AEDAR) \, a Associação Movimento Cívico Não Apaguem a Memória (NAM) e com a participação da Associação de Exilados Políticos – AEP 61-74″ realiza-se no próximo dia 12 de abril de 2025\, às 15 horas\, uma iniciativa que envolverá a inauguração de uma exposição intitulada “O SALTO – Migrações e Exílios de Ontem e Hoje”\, a que se seguirá um conferência subordinada ao tema “Migrações e Inclusão” . \nEsta iniciativa terá lugar na Casa do Parlamento – Centro Interpretativo ( junto à Assembleia da República). \nA entrada é livre mas sujeita a inscrição prévia para os seguintes contactos:\naedargeral@gmail.com | aedar@ar.parlamento.pt | 934 371 653
URL:https://aps.pt/event/exposicao-o-salto-migracoes-e-exilios-de-ontem-e-hoje-conferencia-migracoes-e-inclusao/
LOCATION:Lisboa\, Casa do Parlamento – Centro Interpretativo
END:VEVENT
END:VCALENDAR