BEGIN:VCALENDAR
VERSION:2.0
PRODID:-//APS - ECPv6.15.20//NONSGML v1.0//EN
CALSCALE:GREGORIAN
METHOD:PUBLISH
X-WR-CALNAME:APS
X-ORIGINAL-URL:https://aps.pt
X-WR-CALDESC:Eventos para APS
REFRESH-INTERVAL;VALUE=DURATION:PT1H
X-Robots-Tag:noindex
X-PUBLISHED-TTL:PT1H
BEGIN:VTIMEZONE
TZID:UTC
BEGIN:STANDARD
TZOFFSETFROM:+0000
TZOFFSETTO:+0000
TZNAME:UTC
DTSTART:20240101T000000
END:STANDARD
END:VTIMEZONE
BEGIN:VEVENT
DTSTART;TZID=UTC:20250415T180000
DTEND;TZID=UTC:20250415T180000
DTSTAMP:20260421T152257
CREATED:20250415T084201Z
LAST-MODIFIED:20250415T084201Z
UID:27498-1744740000-1744740000@aps.pt
SUMMARY:1ª Sessão de Trabalho do PhD Club | 2025 | "Os enfoques qualitativos e as narrativas do envelhecimento"\, com Rute Lemos
DESCRIPTION:Rute Lemos é Doutorada em Sociologia pela FLUP. É investigadora na FLUP no projeto europeu LeTs-Care e investigadora integrada no IS-UP. \nNesta sessão\, explora-se o contributo das metodologias qualitativas na compreensão do envelhecimento nas sociedades contemporâneas\, com foco na técnica da entrevista. A partir de um trabalho de doutoramento\, iremos refletir sobre a preparação das entrevistas\, os desafios metodológicos e éticos envolvidos e as particularidades de abordar populações idosas sobre temas sensíveis\, como o abuso. As estratégias para a análise de dados qualitativos com recurso ao Nvivo também serão discutidas\, destacando o potencial deste software na organização e interpretação das narrativas. \nData e hora: 15 de abril\, 18h\nLocal (Híbrido): Sala 310\nLink: https://videoconf-colibri.zoom.us/j/97846804611?pwd=E0Uxbw8zxPmXGyGfmCx6F5tjbvSwaC.1\nID da reunião: 978 4680 4611\nSenha: 675910
URL:https://aps.pt/event/1a-sessao-de-trabalho-do-phd-club-2025-os-enfoques-qualitativos-e-as-narrativas-do-envelhecimento-com-rute-lemos/
LOCATION:Porto\, Sala 310 da Faculdade de Letras da Universidade do Porto e online
END:VEVENT
END:VCALENDAR