BEGIN:VCALENDAR
VERSION:2.0
PRODID:-//APS - ECPv6.15.20//NONSGML v1.0//EN
CALSCALE:GREGORIAN
METHOD:PUBLISH
X-ORIGINAL-URL:https://aps.pt
X-WR-CALDESC:Eventos para APS
REFRESH-INTERVAL;VALUE=DURATION:PT1H
X-Robots-Tag:noindex
X-PUBLISHED-TTL:PT1H
BEGIN:VTIMEZONE
TZID:UTC
BEGIN:STANDARD
TZOFFSETFROM:+0000
TZOFFSETTO:+0000
TZNAME:UTC
DTSTART:20240101T000000
END:STANDARD
END:VTIMEZONE
BEGIN:VEVENT
DTSTART;TZID=UTC:20250416T180000
DTEND;TZID=UTC:20250416T180000
DTSTAMP:20260421T165222
CREATED:20250415T084708Z
LAST-MODIFIED:20250415T084708Z
UID:27501-1744826400-1744826400@aps.pt
SUMMARY:Ciclo de conversas | Maneiras de Ver #3 | "Europa marcial\, uma bomba antissocial"
DESCRIPTION:Conversa com Luís Bernardo (investigador) e Pedro Caldeira Rodrigues (jornalista).\nModeração de Sandra Monteiro (diretora do Le Monde diplomatique – edição portuguesa). \nAbrimos este espaço para parar e refletir sobre um tema tratado em cada número do Le Monde diplomatique – edição portuguesa. \nA escolha deste mês é um artigo de Frédéric Lebaron e Pierre Rimbert «Europa marcial\, uma bomba antissocial» sobre o modo como um processo de rearmamento da Europa em grande escala se tem naturalizado nos discursos políticos\, em detrimento de uma prioridade para a emergência climática e para as políticas sociais. \nLeia este texto no sítio internet: https://pt.mondediplo.com/2025/04/europa-marcial-uma-bomba-antissocial.html
URL:https://aps.pt/event/ciclo-de-conversas-maneiras-de-ver-3-europa-marcial-uma-bomba-antissocial/
LOCATION:Lisboa\, Livraria Tigre de Papel (Rua de Arroios\, n.º 25)
END:VEVENT
END:VCALENDAR