BEGIN:VCALENDAR
VERSION:2.0
PRODID:-//APS - ECPv6.15.20//NONSGML v1.0//EN
CALSCALE:GREGORIAN
METHOD:PUBLISH
X-ORIGINAL-URL:https://aps.pt
X-WR-CALDESC:Eventos para APS
REFRESH-INTERVAL;VALUE=DURATION:PT1H
X-Robots-Tag:noindex
X-PUBLISHED-TTL:PT1H
BEGIN:VTIMEZONE
TZID:UTC
BEGIN:STANDARD
TZOFFSETFROM:+0000
TZOFFSETTO:+0000
TZNAME:UTC
DTSTART:20240101T000000
END:STANDARD
END:VTIMEZONE
BEGIN:VEVENT
DTSTART;TZID=UTC:20250422T160000
DTEND;TZID=UTC:20250422T160000
DTSTAMP:20260421T195024
CREATED:20250408T140032Z
LAST-MODIFIED:20250408T140032Z
UID:27419-1745337600-1745337600@aps.pt
SUMMARY:Lançamento do livro "Jovens e Educação Sexual em Portugal. Contextos\, Saberes e Práticas"\,
DESCRIPTION:Mais informações em https://www.ics.ulisboa.pt/evento/lancamento-do-livro-jovens-e-educacao-sexual-em-portugal-contextos-saberes-e-praticas
URL:https://aps.pt/event/lancamento-do-livro-jovens-e-educacao-sexual-em-portugal-contextos-saberes-e-praticas/
LOCATION:Lisboa\, Instituto de Ciências Sociais da Universidade de Lisboa e online
END:VEVENT
BEGIN:VEVENT
DTSTART;TZID=UTC:20250422T183000
DTEND;TZID=UTC:20250422T183000
DTSTAMP:20260421T195024
CREATED:20250324T160055Z
LAST-MODIFIED:20250324T160055Z
UID:27298-1745346600-1745346600@aps.pt
SUMMARY:Lançamento do livro "Os Demónios da Nossa Natureza. Porque é que o autoritarismo é natural e a democracia não?"\, de Paulo Finuras
DESCRIPTION:Prefácio de José Filipe Pinto.
URL:https://aps.pt/event/lancamento-do-livro-os-demonios-da-nossa-natureza-porque-e-que-o-autoritarismo-e-natural-e-a-democracia-nao-de-paulo-finuras/
LOCATION:Lisboa\, FNAC do Colombo
END:VEVENT
END:VCALENDAR