BEGIN:VCALENDAR
VERSION:2.0
PRODID:-//APS - ECPv6.15.20//NONSGML v1.0//EN
CALSCALE:GREGORIAN
METHOD:PUBLISH
X-WR-CALNAME:APS
X-ORIGINAL-URL:https://aps.pt
X-WR-CALDESC:Eventos para APS
REFRESH-INTERVAL;VALUE=DURATION:PT1H
X-Robots-Tag:noindex
X-PUBLISHED-TTL:PT1H
BEGIN:VTIMEZONE
TZID:UTC
BEGIN:STANDARD
TZOFFSETFROM:+0000
TZOFFSETTO:+0000
TZNAME:UTC
DTSTART:20240101T000000
END:STANDARD
END:VTIMEZONE
BEGIN:VEVENT
DTSTART;TZID=UTC:20250423T093000
DTEND;TZID=UTC:20250423T093000
DTSTAMP:20260421T210948
CREATED:20250422T195024Z
LAST-MODIFIED:20250422T195024Z
UID:27587-1745400600-1745400600@aps.pt
SUMMARY:Tecnofanias: Colóquio Internacional e Interuniversitário de Filosofia da Tecnologia
DESCRIPTION:Organização:\nInstituto de Ciências Sociais da Universidade de Lisboa\nInstituto de Filosofia da Universidade do Porto\nPraxis: Centro de Filosofia\, Política e Cultura da Universidade de Évora
URL:https://aps.pt/event/tecnofanias-coloquio-internacional-e-interuniversitario-de-filosofia-da-tecnologia/
LOCATION:Lisboa\, Biblioteca Nacional de Portugal (Sala de Formação)
END:VEVENT
BEGIN:VEVENT
DTSTART;TZID=UTC:20250423T150000
DTEND;TZID=UTC:20250423T170000
DTSTAMP:20260421T210948
CREATED:20250421T204503Z
LAST-MODIFIED:20250421T204503Z
UID:27570-1745420400-1745427600@aps.pt
SUMMARY:Mesa-Redonda/Debate "Liberdades Académicas no Portugal de Abril"
DESCRIPTION:Organização em parceria: CICS.NOVA – Centro Interdisciplinar de Ciências Sociais e OTC – Organização dos Trabalhadores Científicos \nParticipação livre – Presencial e Zoom \nLink: https://videoconf-colibri.zoom.us/j/89843491053?pwd=SW9wL3dFK1JFUlROcUUxdWpqazdPQT09 Password: 512740\nLocal: Auditório B1 (Torre B) (FCSH\, Avenida de Berna) Como chegar: https://maps.app.goo.gl/WrPeFBA9CMwM3ykj6 \nO evento vai ser gravado!\nPara mais informações: Site https://otc.pt/wp/2025/04/11/mesa-redonda-liberdades-academicas/ | Evento no Facebook: https://fb.me/e/3ewLMBkkq
URL:https://aps.pt/event/mesa-redonda-debate-liberdades-academicas-no-portugal-de-abril/
LOCATION:Lisboa\, Auditório B1 (Torre B) da Faculdade de Ciências Sociais e Humanas e online
END:VEVENT
BEGIN:VEVENT
DTSTART;TZID=UTC:20250423T170000
DTEND;TZID=UTC:20250423T170000
DTSTAMP:20260421T210948
CREATED:20250422T111917Z
LAST-MODIFIED:20250422T111917Z
UID:27573-1745427600-1745427600@aps.pt
SUMMARY:"O trabalho já não é o que nunca foi: mudanças e permanências no trabalho em Portugal". com José Soeiro
DESCRIPTION:Como olhar a sociedade portuguesa a partir do trabalho\, do que permanece e do que mudou nas últimas décadas?\nNesta sessão\, procurar-se-á sublinhar permanências e mudanças ocorridas na composição da classe trabalhadora e na estrutura ocupacional desde o 25 de abril de 1974 aos dias de hoje\, mas também analisar as transformações no regime de acumulação e no enquadramento sociojurídico do trabalho\, apresentando uma leitura diacrónica das principais disputas\, mudanças normativas e formas de organização coletiva em torno do trabalho e da democracia laboral. \nJosé Soeiro é sociólogo\, professor do Departamento de Sociologia da Universidade do Porto. As suas principais áreas de interesse são a sociologia do trabalho e das relações laborais\, a precariedade\, a ação coletiva e o sindicalismo\, os cuidados\, a intervenção através das artes e as políticas culturais. \nContamos com a vossa participação! \nData e hora: 23 de abril\, 17h\nLocal (Híbrido): Sala 310\nLink: https://us05web.zoom.us/j/9069422228?pwd=fLaXzKWLS77rK8fkF6y1jGqqCOwxla.1 \nID: 906 942 2228\nSenha: MDPk0e
URL:https://aps.pt/event/o-trabalho-ja-nao-e-o-que-nunca-foi-mudancas-e-permanencias-no-trabalho-em-portugal-com-jose-soeiro/
LOCATION:Porto\, Sala 310 do ISUP e online
END:VEVENT
BEGIN:VEVENT
DTSTART;TZID=UTC:20250423T193000
DTEND;TZID=UTC:20250423T193000
DTSTAMP:20260421T210948
CREATED:20250319T110507Z
LAST-MODIFIED:20250319T110625Z
UID:27256-1745436600-1745436600@aps.pt
SUMMARY:Ciclo de Conferências sobre a Relevância Social da Sociologia | Segunda sessão "Jovens e política: o que nos diz a Sociologia sobre esta relação?"\, com Benedita Portugal Melo (IE-ULisboa\, UIDEF)
DESCRIPTION:O Ciclo de Conferências sobre a Relevância Social da Sociologia do ISCSP-ULisboa regressa no 2.º semestre do ano letivo 2024-2025\, proporcionando um espaço de reflexão e partilha de conhecimento sobre temas de elevada pertinência social e científica. \nEsta iniciativa visa apresentar pesquisas recentes desenvolvidas por sociólogos/as portugueses\, abordando problemáticas inovadoras e mobilizando diferentes quadros teóricos\, metodológicos e referenciais empíricos\, dirigindo-se a estudantes\, docentes\, investigadores e ao público em geral. \nO ciclo de conferências conta com o envolvimento direto dos estudantes\, nomeadamente da Licenciatura em Sociologia (diurno e pós-laboral)\, na co-organização das sessões.
URL:https://aps.pt/event/ciclo-de-conferencias-sobre-a-relevancia-social-da-sociologia-segunda-sessao-jovens-e-politica-o-que-nos-diz-a-sociologia-sobre-esta-relacao-com-benedita-portugal-melo-ie-ulisboa-uidef/
LOCATION:Lisboa\, Auditório 6 do ISCSP-ULisboa
END:VEVENT
END:VCALENDAR