BEGIN:VCALENDAR
VERSION:2.0
PRODID:-//APS - ECPv6.15.20//NONSGML v1.0//EN
CALSCALE:GREGORIAN
METHOD:PUBLISH
X-ORIGINAL-URL:https://aps.pt
X-WR-CALDESC:Eventos para APS
REFRESH-INTERVAL;VALUE=DURATION:PT1H
X-Robots-Tag:noindex
X-PUBLISHED-TTL:PT1H
BEGIN:VTIMEZONE
TZID:UTC
BEGIN:STANDARD
TZOFFSETFROM:+0000
TZOFFSETTO:+0000
TZNAME:UTC
DTSTART:20240101T000000
END:STANDARD
END:VTIMEZONE
BEGIN:VEVENT
DTSTART;TZID=UTC:20250507T150000
DTEND;TZID=UTC:20250507T150000
DTSTAMP:20260422T070555
CREATED:20250505T092027Z
LAST-MODIFIED:20250505T092027Z
UID:27699-1746630000-1746630000@aps.pt
SUMMARY:Seminário "Políticas Públicas\, Educação e Comunidades Roma/Ciganas"
DESCRIPTION:Uma iniciativa que pretende refletir e dar visibilidade à investigação desenvolvida com e sobre as pessoas Roma/Ciganas\, procurando compreender de que forma as políticas públicas e as intervenções têm contribuído para a superação das desigualdades sociais que afetam estas comunidades.
URL:https://aps.pt/event/seminario-politicas-publicas-educacao-e-comunidades-roma-ciganas/
LOCATION:Lisboa\, Auditório 7 do ISCSP-ULisboa
END:VEVENT
END:VCALENDAR