BEGIN:VCALENDAR
VERSION:2.0
PRODID:-//APS - ECPv6.15.20//NONSGML v1.0//EN
CALSCALE:GREGORIAN
METHOD:PUBLISH
X-ORIGINAL-URL:https://aps.pt
X-WR-CALDESC:Eventos para APS
REFRESH-INTERVAL;VALUE=DURATION:PT1H
X-Robots-Tag:noindex
X-PUBLISHED-TTL:PT1H
BEGIN:VTIMEZONE
TZID:UTC
BEGIN:STANDARD
TZOFFSETFROM:+0000
TZOFFSETTO:+0000
TZNAME:UTC
DTSTART:20240101T000000
END:STANDARD
END:VTIMEZONE
BEGIN:VEVENT
DTSTART;TZID=UTC:20250509T000000
DTEND;TZID=UTC:20250510T000000
DTSTAMP:20260422T100045
CREATED:20250303T142556Z
LAST-MODIFIED:20250303T142556Z
UID:27142-1746748800-1746835200@aps.pt
SUMMARY:XIV Conferência Internacional - "Investigação\, Práticas e Contextos em Educação"
DESCRIPTION:O prazo de envio de propostas de comunicações foi alargado até ao dia 9 de Março. Toda a informação sobre o congresso está disponível na respectiva página: https://sites.ipleiria.pt/ipce2025/.
URL:https://aps.pt/event/xiv-conferencia-internacional-investigacao-praticas-e-contextos-em-educacao/
LOCATION:Leiria\, Escola Superior de Educação e Ciências Sociais do Instituto Politécnico de Leiria
END:VEVENT
BEGIN:VEVENT
DTSTART;TZID=UTC:20250509T090000
DTEND;TZID=UTC:20250509T090000
DTSTAMP:20260422T100045
CREATED:20250429T174733Z
LAST-MODIFIED:20250429T174733Z
UID:27625-1746781200-1746781200@aps.pt
SUMMARY:Conferência "Vigilância Eletrónica: Desafios Presentes e Futuros"
DESCRIPTION:Organizada pelo projeto E-Monitoring\, financiado pela Fundação para a Ciência e a Tecnologia no âmbito do programa Restart (2023.00030.RESTART) e sediado no Centro de Estudos de Comunicação e Sociedade da Universidade do Minho\, esta conferência propõe uma reflexão crítica sobre os desafios da vigilância eletrónica. \nQual é o estado atual da vigilância eletrónica\, a nível nacional e internacional? Como se antecipa o seu desenvolvimento face ao crescimento dos sistemas de inteligência artificial? Que desafios éticos\, sociais e políticos emergem da sua expansão em amplitude e alcance? Quais os impactos sociais\, familiares\, económicos e penais do cumprimento de penas e medidas sob vigilância eletrónica? Estas são algumas das questões em debate. \nO evento reunirá um conjunto diversificado de especialistas nacionais e internacionais\, entre os quais Mike Nellis\, Kristel Beyens\, Edna Erez\, Ricardo Campello e Nuno Caiado. \nA conferência incluirá ainda a apresentação dos resultados do projeto E-Monitoring e uma mesa-redonda dedicada à sua discussão. \nA participação é gratuita\, mas requer inscrição prévia através deste formulário: https://docs.google.com/forms/d/e/1FAIpQLSenxZsIwqjHmTjsTxu5XVJXDbb4pARnJHkqwyr50cCrBjAyXQ/viewform\nMais informações podem ser encontradas em https://www.cecs.uminho.pt/emonitoring/pt/conferencia-final/
URL:https://aps.pt/event/conferencia-vigilancia-eletronica-desafios-presentes-e-futuros-2/
LOCATION:Braga\, Universidade do Minho
END:VEVENT
END:VCALENDAR