BEGIN:VCALENDAR
VERSION:2.0
PRODID:-//APS - ECPv6.15.20//NONSGML v1.0//EN
CALSCALE:GREGORIAN
METHOD:PUBLISH
X-WR-CALNAME:APS
X-ORIGINAL-URL:https://aps.pt
X-WR-CALDESC:Eventos para APS
REFRESH-INTERVAL;VALUE=DURATION:PT1H
X-Robots-Tag:noindex
X-PUBLISHED-TTL:PT1H
BEGIN:VTIMEZONE
TZID:UTC
BEGIN:STANDARD
TZOFFSETFROM:+0000
TZOFFSETTO:+0000
TZNAME:UTC
DTSTART:20240101T000000
END:STANDARD
END:VTIMEZONE
BEGIN:VEVENT
DTSTART;TZID=UTC:20250516T090000
DTEND;TZID=UTC:20250516T110000
DTSTAMP:20260422T185425
CREATED:20250508T103418Z
LAST-MODIFIED:20250508T103418Z
UID:27778-1747386000-1747393200@aps.pt
SUMMARY:Aula Aberta “Movements of underprivileged groups in Thailand\, focusing on young people\, people living with HIV\, and sex workers”\, por Kangwan Fongkaew (Burapha University\, Tailândia)
DESCRIPTION:A moderação estará a cargo de Fernando Bessa Ribeiro (CICS.NOVA.UMinho e ICS-UMinho).\nA sessão abordará os movimentos sociais de grupos marginalizados na Tailândia — jovens\, pessoas que vivem com HIV e trabalhadoras do sexo — organizando-se em três momentos: passado\, presente e futuro. Através de exemplos e estudos de caso\, será discutida a evolução das perceções sociais\, as lutas atuais por direitos e justiça\, e as perspetivas para futuras mobilizações lideradas por estes grupos. \nInformação adicional disponível em http://cics.uminho.pt/?p=13399&lang=pt
URL:https://aps.pt/event/aula-aberta-movements-of-underprivileged-groups-in-thailand-focusing-on-young-people-people-living-with-hiv-and-sex-workers-por-kangwan-fongkaew-burapha-university-tailandia/
LOCATION:Braga\, Edifício 1 (Sala 1.22) do Instituto de Ciências Sociais da Universidade do Minho
END:VEVENT
BEGIN:VEVENT
DTSTART;TZID=UTC:20250516T110000
DTEND;TZID=UTC:20250516T173000
DTSTAMP:20260422T185425
CREATED:20250506T142845Z
LAST-MODIFIED:20250506T142845Z
UID:27717-1747393200-1747416600@aps.pt
SUMMARY:Seminário LusoGlobe | Universidade Lusófona | "Mapeando os Desafios Globais: Conhecimento e Ação em Destaque"
DESCRIPTION:Mais informações em https://lusoglobe.ulusofona.pt/agenda/mapping-global-challenges-knowledge-and-action-in-the-spotlight
URL:https://aps.pt/event/seminario-lusoglobe-universidade-lusofona-mapeando-os-desafios-globais-conhecimento-e-acao-em-destaque/
LOCATION:Lisboa\, Auditório José Araújo da Universidade Lusófona
END:VEVENT
BEGIN:VEVENT
DTSTART;TZID=UTC:20250516T163000
DTEND;TZID=UTC:20250516T163000
DTSTAMP:20260422T185425
CREATED:20250513T103035Z
LAST-MODIFIED:20250513T103035Z
UID:27858-1747413000-1747413000@aps.pt
SUMMARY:Aula Aberta | "O grunge e a moda: estilo juvenil e representações mediáticas"\, por Henrique Grimaldi Figueredo (Universidade Federal de Juiz de Fora\, Brasil)
DESCRIPTION:Organização: Paula Guerra\nEntrada livre.\nLink Zoom: https://videoconf-colibri.zoom.us/j/96544145209?pwd=tckq8ynawKuXkyeFxqvbpWtE9Z6S0A.1\nID da reunião: 965 4414 5209\nSenha: 486174
URL:https://aps.pt/event/aula-aberta-o-grunge-e-a-moda-estilo-juvenil-e-representacoes-mediaticas-por-henrique-grimaldi-figueredo-universidade-federal-de-juiz-de-fora-brasil/
LOCATION:Evento online
END:VEVENT
END:VCALENDAR