BEGIN:VCALENDAR
VERSION:2.0
PRODID:-//APS - ECPv6.15.20//NONSGML v1.0//EN
CALSCALE:GREGORIAN
METHOD:PUBLISH
X-WR-CALNAME:APS
X-ORIGINAL-URL:https://aps.pt
X-WR-CALDESC:Eventos para APS
REFRESH-INTERVAL;VALUE=DURATION:PT1H
X-Robots-Tag:noindex
X-PUBLISHED-TTL:PT1H
BEGIN:VTIMEZONE
TZID:UTC
BEGIN:STANDARD
TZOFFSETFROM:+0000
TZOFFSETTO:+0000
TZNAME:UTC
DTSTART:20240101T000000
END:STANDARD
END:VTIMEZONE
BEGIN:VEVENT
DTSTART;TZID=UTC:20250519T140000
DTEND;TZID=UTC:20250519T140000
DTSTAMP:20260422T233441
CREATED:20250513T095159Z
LAST-MODIFIED:20250513T095159Z
UID:27839-1747663200-1747663200@aps.pt
SUMMARY:"Oficina sobre Imigração: Aprendizagem em Serviço no Município de Vila Nova de Gaia"
DESCRIPTION:Esta iniciativa propõe um momento de debate e reflexão sobre os desafios e caminhos da integração de pessoas imigrantes\, com base no trabalho de investigação-ação desenvolvido por estudantes do Mestrado em Sociologia da Faculdade de Letras da Universidade do Porto\, em colaboração com o município de Vila Nova de Gaia. \nO programa inclui a apresentação de quatro propostas de intervenção nos domínios da saúde\, habitação\, emprego e juventude\, construídas a partir de uma escuta atenta às realidades locais. Será um momento de troca\, aprendizagem e construção conjunta de respostas. \nContaremos ainda com a presença da Professora Doutora Catarina Reis Oliveira\, especialista em políticas migratórias e Diretora do Observatório das Migrações entre 2004 e 2025\, que proferirá uma palestra intitulada “Políticas de integração de imigrantes com evidência? Diálogos entre política\, academia e estatísticas em Portugal”. \nA entrada é livre e aberta a todas as pessoas com interesse ou intervenção na área da interculturalidade\, em Vila Nova de Gaia e não só\, mas sujeita a inscrição. \nFormulário de inscrição: https://forms.office.com/e/n0Myh0CRAx
URL:https://aps.pt/event/oficina-sobre-imigracao-aprendizagem-em-servico-no-municipio-de-vila-nova-de-gaia/
LOCATION:Vila Nova de Gaia\, Auditório do Arquivo Municipal Sophia de Mello Breyner
END:VEVENT
BEGIN:VEVENT
DTSTART;TZID=UTC:20250519T150000
DTEND;TZID=UTC:20250519T150000
DTSTAMP:20260422T233441
CREATED:20250513T100813Z
LAST-MODIFIED:20250513T100813Z
UID:27850-1747666800-1747666800@aps.pt
SUMMARY:Aula Aberta | "Aqui dentro e lá fora: Trajetos etnográficos com jovens urbanos de territórios segregados"
DESCRIPTION:A sessão\, no âmbito da UC de Cultura\, Interação e Indivíduo da Licenciatura em Sociologia\, será dinamizada por Beatriz Lacerda\, doutoranda em Sociologia pela FLUP e bolseira da FCT no Projeto PERICREATIVITY. \nOrganização e moderação de Lígia Ferro.\nEntrada livre.
URL:https://aps.pt/event/aula-aberta-aqui-dentro-e-la-fora-trajetos-etnograficos-com-jovens-urbanos-de-territorios-segregados/
LOCATION:Porto\, Sala 106 da Faculdade de Letras da Universidade do Porto
END:VEVENT
END:VCALENDAR