BEGIN:VCALENDAR
VERSION:2.0
PRODID:-//APS - ECPv6.15.20//NONSGML v1.0//EN
CALSCALE:GREGORIAN
METHOD:PUBLISH
X-WR-CALNAME:APS
X-ORIGINAL-URL:https://aps.pt
X-WR-CALDESC:Eventos para APS
REFRESH-INTERVAL;VALUE=DURATION:PT1H
X-Robots-Tag:noindex
X-PUBLISHED-TTL:PT1H
BEGIN:VTIMEZONE
TZID:UTC
BEGIN:STANDARD
TZOFFSETFROM:+0000
TZOFFSETTO:+0000
TZNAME:UTC
DTSTART:20240101T000000
END:STANDARD
END:VTIMEZONE
BEGIN:VEVENT
DTSTART;TZID=UTC:20250522T000000
DTEND;TZID=UTC:20250523T000000
DTSTAMP:20260423T035112
CREATED:20250415T124700Z
LAST-MODIFIED:20250415T124700Z
UID:27503-1747872000-1747958400@aps.pt
SUMMARY:Conferência Internacional EDULOG 2025
DESCRIPTION:No atual panorama global de ensino superior\, onde prevalecem os modelos de competição\, e numa época de crescentes nacionalismos\, populismos e xenofobia que põem em causa a equidade e a responsabilidade social\, justifica-se uma abordagem transformadora da internacionalização que valorize a cooperação global. \nMais informações em https://mailchi.mp/5c486a67ac02/convite-conferncia-internacional-edulog-12848847?e=bd026df071
URL:https://aps.pt/event/conferencia-internacional-edulog-2025/
LOCATION:Porto\, Biblioteca Municipal Almeida Garrett
END:VEVENT
BEGIN:VEVENT
DTSTART;TZID=UTC:20250522T180000
DTEND;TZID=UTC:20250522T180000
DTSTAMP:20260423T035112
CREATED:20250520T085451Z
LAST-MODIFIED:20250520T085451Z
UID:27962-1747936800-1747936800@aps.pt
SUMMARY:Ciclo de conversas | Maneiras de Ver #4 | "A internacional dos censores"
DESCRIPTION:Conversa com André Carmo (geógrafo e professor)\, José Luís Garcia (investigador do ICS-UL e professor) e com moderação de Fernando Ramalho.\nEntrada livre. \nAbrimos este espaço para parar e refletir sobre um tema tratado em cada número do Le Monde diplomatique – edição portuguesa. A escolha deste mês é um breve editorial de Benoît Bréville\, «A internacional dos censores»\, publicado na edição de abril\, sobre o modo como uma perversa aliança se vai consolidando hoje globalmente\, juntando «autocratas\, democratas e burocratas»\, para normalizar práticas de censura e de limites às liberdades políticas\, de expressão\, de imprensa\, de produção intelectual e académica\, etc. \n«Um estranho eixo está a ganhar forma. Não é o do «Mal»\, que reuniria os «inimigos» do Ocidente. Nem um outro\, que iria de Donald Trump a Vladimir Putin. É uma aliança mais ampla\, tão concorrida quanto desconhecida: a internacional dos censores\, onde se encontram lado a lado autocratas\, democratas e burocratas.(…) Colocar mordaças nas pessoas tornou-se também aceitável na Europa. (…) A criminalização dos adversários políticos\, marca distintiva dos regimes autoritários\, vai-se apoderando dos Estados democráticos»\, escreveu Benoît Bréville. \nTambém em Portugal surgem novas mordaças: na edição de maio\, André Carmo mostra como nas instituições do ensino superior e investigação se tem vindo a degradar a liberdade de expressão. A par das limitações há décadas introduzidas pela viragem neoliberal nas condições de trabalho (precariedade\, desvalorização de carreiras\, falta de gestão democrática)\, multiplicam-se agora os ímpetos autoritários que transformam divergência de opinião em dissidência punível. Além disso\, a emergência das tecnociências e as ligações que se têm vindo a estabelecer entre estas e as várias dimensões das sociedades\, como tem sido analisado por José Luís Garcia\, tornam urgente debater as modalidades da redemocratização. \nLeia este texto no sítio internet: https://pt.mondediplo.com/a-internacional-dos-censores.html
URL:https://aps.pt/event/ciclo-de-conversas-maneiras-de-ver-4-a-internacional-dos-censores/
LOCATION:Lisboa\, Livraria Tigre de Papel (Rua de Arroios\, n.º 25)
END:VEVENT
BEGIN:VEVENT
DTSTART;TZID=UTC:20250522T183000
DTEND;TZID=UTC:20250522T183000
DTSTAMP:20260423T035112
CREATED:20250520T090616Z
LAST-MODIFIED:20250520T090616Z
UID:27964-1747938600-1747938600@aps.pt
SUMMARY:Seminário Internacional "Da Europa para o Brasil: Compreendendo o Ensino Superior em Portugal e o Processo de Bolonha"
DESCRIPTION:Com a dinamização de Carla Galego \nNo dia 22 de Maio\, às 18h30 (horário de Portugal; 14h30 no Brasil)\, realiza-se o Seminário Internacional intitulado “Da Europa para o Brasil: Compreendendo o Ensino Superior em Portugal e o Processo Bolonha”\, dinamizado por Carla Galego. \nO evento integra o ciclo de aulas abertas do Mestrado em Ciências da Educação\, promovido pela Academia Lusófona da Educação\, sob a coordenação de Alcina Martins. \nNão perca esta oportunidade de entender como funciona o sistema universitário europeu e o impacto do Processo de Bolonha! \nA participação é gratuita\, mas requer inscrição prévia em https://mkt.ceied.ulusofona.pt/go/84644599e76afa1–3176a64f9690b14006f30945e0faf91c07-e2e4F90enOy5e8oeblb
URL:https://aps.pt/event/seminario-internacional-da-europa-para-o-brasil-compreendendo-o-ensino-superior-em-portugal-e-o-processo-de-bolonha/
LOCATION:Evento online
END:VEVENT
BEGIN:VEVENT
DTSTART;TZID=UTC:20250522T183000
DTEND;TZID=UTC:20250522T200000
DTSTAMP:20260423T035112
CREATED:20250513T100453Z
LAST-MODIFIED:20250513T100453Z
UID:27846-1747938600-1747944000@aps.pt
SUMMARY:"Latin America-Europe Relations in Post-Liberal Times: Renewed Partnership or Increased Contestation?"
DESCRIPTION:The world is entering a turbulent geopolitical phase\, marked by the erosion of liberal international leadership and the resurgence of nationalism. Amid this growing uncertainty\, the European Union and Latin America navigate complex political and economic challenges. While global instability presents opportunities for closer bi-regional cooperation on trade\, climate\, and democratic governance\, enduring asymmetries\, regional fragmentations\, and the rise of populist and far-right movements on both sides of the Atlantic challenge their ability to act jointly. Can these shifting political landscapes be navigated to forge a more balanced and strategic partnership? And what does the legacy of interregional cooperation reveal about their capacity to shape global norms today? \nJoin editors and contributing authors of The Palgrave Handbook of EU–Latin American Relations to explore the future of this interregional partnership. \nRegister here: https://forms.office.com/Pages/ResponsePage.aspx?id=m1hzOUCetU6ADrC2OD0WIcRcNJt8NX1Jh2n2ymKD4JZUOFdEWjRUQUE2QVlHTE5DRjM3NDNKS1BWRi4u\n+info: https://mailing.kuleuven.be/r-2c482ef12a1c75ecb248b10196ad1c6a3139a96f9063559f
URL:https://aps.pt/event/latin-america-europe-relations-in-post-liberal-times-renewed-partnership-or-increased-contestation/
LOCATION:Evento online
END:VEVENT
END:VCALENDAR