BEGIN:VCALENDAR
VERSION:2.0
PRODID:-//APS - ECPv6.15.20//NONSGML v1.0//EN
CALSCALE:GREGORIAN
METHOD:PUBLISH
X-WR-CALNAME:APS
X-ORIGINAL-URL:https://aps.pt
X-WR-CALDESC:Eventos para APS
REFRESH-INTERVAL;VALUE=DURATION:PT1H
X-Robots-Tag:noindex
X-PUBLISHED-TTL:PT1H
BEGIN:VTIMEZONE
TZID:UTC
BEGIN:STANDARD
TZOFFSETFROM:+0000
TZOFFSETTO:+0000
TZNAME:UTC
DTSTART:20240101T000000
END:STANDARD
END:VTIMEZONE
BEGIN:VEVENT
DTSTART;TZID=UTC:20250527T090000
DTEND;TZID=UTC:20250527T130000
DTSTAMP:20260423T082659
CREATED:20250520T095057Z
LAST-MODIFIED:20250520T095057Z
UID:27968-1748336400-1748350800@aps.pt
SUMMARY:Korale European Meeting | Lisboa Com Vida
DESCRIPTION:We invite you to participate in the KORALE European Meeting | Lisboa Com Vida\, in-person or via streaming\, taking place on May 27th\, between 9:00 and 13:00.\nThe language of the meeting will be English. \nPlease see the Program here: https://lisboacomvida.scml.pt/eventos/encontro-europeu-korale-lisboa-com-vida/\nSign up here: https://forms.office.com/e/qWUwzxUmUK
URL:https://aps.pt/event/korale-european-meeting-lisboa-com-vida/
LOCATION:Lisboa\, Sala de Extrações da Santa Casa da Misericórdia de Lisboa
END:VEVENT
BEGIN:VEVENT
DTSTART;TZID=UTC:20250527T100000
DTEND;TZID=UTC:20250527T100000
DTSTAMP:20260423T082659
CREATED:20250508T140410Z
LAST-MODIFIED:20250508T140410Z
UID:27793-1748340000-1748340000@aps.pt
SUMMARY:Conversas com Valor NOVA FCSH | "Desinformação e Polarização em tempos de voto"
DESCRIPTION:As Conversas com Valor estão de regresso à NOVA FCSH sob o tema “Desinformação e Polarização em tempos de voto”. O evento terá lugar a 27 de maio\, às 10h00\, no Auditório B1\, no campus da Avenida de Berna e terá como convidados Germano Almeida\, comentador televisivo e especialista em assuntos internacionais e Sofia Branco\, Presidente da Associação Literacia para os Media e Jornalismo e Jornalista da Agência Lusa. \nNa edição deste ano o propósito das conversas será o impacto da desinformação nos processos eleitorais. Moderado por Dora Santos Silva\, docente do Departamento de Ciências da Comunicação\, o debate vai centrar-se nos desafios democráticos colocados pela desinformação e pela polarização\, tendo em conta o papel que as redes sociais e as notícias falsas ganham nos dias de hoje. Como se constrói\, atualmente\, a confiança política? Qual o papel dos media? Qual o papel dos partidos políticos\, dos influenciadores e dos cidadãos? \nEsta iniciativa gratuita e de entrada livre e destina-se a estudantes\, investigadores/as\, docentes\, jornalistas\, decisores/as políticos/as e toda a sociedade civil. \nPrograma e inscrições em https://www.fcsh.unl.pt/eventos/desinformacao-e-polarizacao-em-tempos-de-voto/
URL:https://aps.pt/event/conversas-com-valor-nova-fcsh-desinformacao-e-polarizacao-em-tempos-de-voto/
LOCATION:Lisboa\, Auditório B1 da FCSH (campus da Avenida de Berna)
END:VEVENT
END:VCALENDAR