BEGIN:VCALENDAR
VERSION:2.0
PRODID:-//APS - ECPv6.15.20//NONSGML v1.0//EN
CALSCALE:GREGORIAN
METHOD:PUBLISH
X-ORIGINAL-URL:https://aps.pt
X-WR-CALDESC:Eventos para APS
REFRESH-INTERVAL;VALUE=DURATION:PT1H
X-Robots-Tag:noindex
X-PUBLISHED-TTL:PT1H
BEGIN:VTIMEZONE
TZID:UTC
BEGIN:STANDARD
TZOFFSETFROM:+0000
TZOFFSETTO:+0000
TZNAME:UTC
DTSTART:20240101T000000
END:STANDARD
END:VTIMEZONE
BEGIN:VEVENT
DTSTART;TZID=UTC:20250604T140000
DTEND;TZID=UTC:20250604T140000
DTSTAMP:20260423T230144
CREATED:20250519T130911Z
LAST-MODIFIED:20250519T130911Z
UID:27945-1749045600-1749045600@aps.pt
SUMMARY:Seminário "As pressões competitivas na Universidade e no conhecimento"
DESCRIPTION:A revista Media e Jornalismo (ICNOVA) convida todas e todos a assistir e participar no Seminário As pressões competitivas na Universidade e no conhecimento: o caso das revistas científicas\, a realizar online\, no próximo dia 4 de junho a partir das 14h00. Acreditamos que será um momento de reflexão importante sobre a ciência\, a universidade e o conhecimento que estamos a produzir. Agradecemos\, ainda\, que possam partilhar e divulgar o evento pelas vossas redes e listas de contactos. \nA atual gestão managerial do ensino superior e da ciência exige produtivismo de publicações e obtenção de fundos por parte dos docentes\, investigadores e todos os que aspiram dedicar-se ao conhecimento na academia. Em que contexto das relações entre ensino superior\, ciência e economia é que surgiram essas exigências? Que tipo de predicados são requeridos aos docentes e investigadores? Quais são os argumentos usados para justificar o produtivismo científico? Qual é o desígnio conferido à ação de publicar e à de conseguir financiamentos? Há um modelo de docente-angariador de fundos-publicador projectado por parte dos organismos dirigentes do ensino superior e da ciência? \nO seminário As pressões competitivas na Universidade e no conhecimento: o caso das revistas científicas é organizado pela revista Media & Jornalismo\, aberto a toda a comunidade académica e\, muito em particular\, das Ciências da Comunicação\, e procura realizar uma reflexão aprofundada sobre as questões acima anunciadas e outras afins que incidem no modo como nas últimas décadas se pensa o ensino superior e a ciência. \nEstas são algumas das interrogações que nos movem – e que pretendemos explorar com espírito crítico. \nPartilhamos\, de seguida\, algumas informações e indicações práticas para o bom funcionamento do evento: \nO link da reunião é https://videoconf-colibri.zoom.us/j/8484379768?omn=98386512462\nID da reunião: 848 437 9768\nO seminário terá início às 14h00 em ponto.\nSolicitamos que mantenham os microfones desligados.
URL:https://aps.pt/event/seminario-as-pressoes-competitivas-na-universidade-e-no-conhecimento/
LOCATION:Evento online
END:VEVENT
BEGIN:VEVENT
DTSTART;TZID=UTC:20250604T140000
DTEND;TZID=UTC:20250604T140000
DTSTAMP:20260423T230144
CREATED:20250609T055904Z
LAST-MODIFIED:20250609T055904Z
UID:28180-1749045600-1749045600@aps.pt
SUMMARY:Seminário "As pressões competitivas na Universidade e no conhecimento"
DESCRIPTION:A revista Media e Jornalismo (ICNOVA) convida todas e todos a assistir e participar no Seminário As pressões competitivas na Universidade e no conhecimento: o caso das revistas científicas\, a realizar online\, no próximo dia 4 de junho a partir das 14h00. Acreditamos que será um momento de reflexão importante sobre a ciência\, a universidade e o conhecimento que estamos a produzir. Agradecemos\, ainda\, que possam partilhar e divulgar o evento pelas vossas redes e listas de contactos. \nA atual gestão managerial do ensino superior e da ciência exige produtivismo de publicações e obtenção de fundos por parte dos docentes\, investigadores e todos os que aspiram dedicar-se ao conhecimento na academia. Em que contexto das relações entre ensino superior\, ciência e economia é que surgiram essas exigências? Que tipo de predicados são requeridos aos docentes e investigadores? Quais são os argumentos usados para justificar o produtivismo científico? Qual é o desígnio conferido à ação de publicar e à de conseguir financiamentos? Há um modelo de docente-angariador de fundos-publicador projectado por parte dos organismos dirigentes do ensino superior e da ciência? \nO seminário As pressões competitivas na Universidade e no conhecimento: o caso das revistas científicas é organizado pela revista Media & Jornalismo\, aberto a toda a comunidade académica e\, muito em particular\, das Ciências da Comunicação\, e procura realizar uma reflexão aprofundada sobre as questões acima anunciadas e outras afins que incidem no modo como nas últimas décadas se pensa o ensino superior e a ciência. \nEstas são algumas das interrogações que nos movem – e que pretendemos explorar com espírito crítico. \nPartilhamos\, de seguida\, algumas informações e indicações práticas para o bom funcionamento do evento: \nO link da reunião é https://videoconf-colibri.zoom.us/j/8484379768?omn=98386512462\nID da reunião: 848 437 9768 \nO seminário terá início às 14h00 em ponto. \nSolicitamos que mantenham os microfones desligados.
URL:https://aps.pt/event/seminario-as-pressoes-competitivas-na-universidade-e-no-conhecimento-2/
LOCATION:Evento online
END:VEVENT
END:VCALENDAR