BEGIN:VCALENDAR
VERSION:2.0
PRODID:-//APS - ECPv6.15.20//NONSGML v1.0//EN
CALSCALE:GREGORIAN
METHOD:PUBLISH
X-WR-CALNAME:APS
X-ORIGINAL-URL:https://aps.pt
X-WR-CALDESC:Eventos para APS
REFRESH-INTERVAL;VALUE=DURATION:PT1H
X-Robots-Tag:noindex
X-PUBLISHED-TTL:PT1H
BEGIN:VTIMEZONE
TZID:UTC
BEGIN:STANDARD
TZOFFSETFROM:+0000
TZOFFSETTO:+0000
TZNAME:UTC
DTSTART:20240101T000000
END:STANDARD
END:VTIMEZONE
BEGIN:VEVENT
DTSTART;TZID=UTC:20250606T093000
DTEND;TZID=UTC:20250606T093000
DTSTAMP:20260423T230937
CREATED:20250527T090312Z
LAST-MODIFIED:20250527T090312Z
UID:28038-1749202200-1749202200@aps.pt
SUMMARY:Conferência "Security Challenges Connecting Perspectives from the Arctic to Central Atlantic"
DESCRIPTION:A adesão da Suécia e da Finlândia NATO proporcionou uma oportunidade sem precedentes para aprofundar a colaboração nórdica em matéria de segurança e defesa\, trazendo um enfoque operacional aos esforços coletivos com o objetivo de contribuir para uma defesa europeia coletiva que beneficie aliados e parceiros no espaço Euro-Atlântico. \nA política do Ártico é estrategicamente importante para os Países aliados\, devendo reforçar a cooperação com uma política de defesa mais robusta no Atlântico Central\, tendo esta sido identificada como uma das áreas prioritárias de cooperação no seio da Aliança Atlântica. \nEsta Conferência irá dar destaque às perspetivas comuns sobre a política de segurança e defesa fomentando uma visão mais abrangente e avisada sobre os desafios que se deparam e as possibilidades de cooperação na Europa e no Atlântico. \nParticipação no evento mediante inscrição prévia: https://www.idn.gov.pt/pt/Inscricoes/Paginas/Registo-Evento.aspx?Evento=74
URL:https://aps.pt/event/conferencia-security-challenges-connecting-perspectives-from-the-arctic-to-central-atlantic/
LOCATION:Lisboa\, Instituto da Defesa Nacional
END:VEVENT
END:VCALENDAR