BEGIN:VCALENDAR
VERSION:2.0
PRODID:-//APS - ECPv6.15.20//NONSGML v1.0//EN
CALSCALE:GREGORIAN
METHOD:PUBLISH
X-WR-CALNAME:APS
X-ORIGINAL-URL:https://aps.pt
X-WR-CALDESC:Eventos para APS
REFRESH-INTERVAL;VALUE=DURATION:PT1H
X-Robots-Tag:noindex
X-PUBLISHED-TTL:PT1H
BEGIN:VTIMEZONE
TZID:UTC
BEGIN:STANDARD
TZOFFSETFROM:+0000
TZOFFSETTO:+0000
TZNAME:UTC
DTSTART:20240101T000000
END:STANDARD
END:VTIMEZONE
BEGIN:VEVENT
DTSTART;TZID=UTC:20250618T090000
DTEND;TZID=UTC:20250618T090000
DTSTAMP:20260423T230646
CREATED:20250616T140225Z
LAST-MODIFIED:20250616T140225Z
UID:28222-1750237200-1750237200@aps.pt
SUMMARY:Serão doze pesquisadores(as) de instituições brasileiras (UFF\, UNIP\, UFBa\, UFPE e UFJF) e portuguesas (Universidade Nova de Lisboa\, Universidade de Lisboa\, Universidade do Porto -IS-UP - e UniAlgarve) abordando diversos temas do universo digital lusófono.
DESCRIPTION:Serão doze pesquisadores(as) de instituições brasileiras (UFF\, UNIP\, UFBa\, UFPE e UFJF) e portuguesas (Universidade Nova de Lisboa\, Universidade de Lisboa\, Universidade do Porto -IS-UP – e UniAlgarve) abordando diversos temas do universo digital lusófono.
URL:https://aps.pt/event/serao-doze-pesquisadoresas-de-instituicoes-brasileiras-uff-unip-ufba-ufpe-e-ufjf-e-portuguesas-universidade-nova-de-lisboa-universidade-de-lisboa-universidade-do-porto-is-up-e-unialgarve/
LOCATION:Lisboa\, Faculdade de Ciências Sociais e Humanas da Universidade Nova de Lisboa
END:VEVENT
END:VCALENDAR