BEGIN:VCALENDAR
VERSION:2.0
PRODID:-//APS - ECPv6.15.20//NONSGML v1.0//EN
CALSCALE:GREGORIAN
METHOD:PUBLISH
X-WR-CALNAME:APS
X-ORIGINAL-URL:https://aps.pt
X-WR-CALDESC:Eventos para APS
REFRESH-INTERVAL;VALUE=DURATION:PT1H
X-Robots-Tag:noindex
X-PUBLISHED-TTL:PT1H
BEGIN:VTIMEZONE
TZID:UTC
BEGIN:STANDARD
TZOFFSETFROM:+0000
TZOFFSETTO:+0000
TZNAME:UTC
DTSTART:20240101T000000
END:STANDARD
END:VTIMEZONE
BEGIN:VEVENT
DTSTART;TZID=UTC:20250625T000000
DTEND;TZID=UTC:20250627T000000
DTSTAMP:20260423T231006
CREATED:20250218T103647Z
LAST-MODIFIED:20250218T103647Z
UID:27023-1750809600-1750982400@aps.pt
SUMMARY:XII ESFR Congress "Families across Space and Time"
DESCRIPTION:O ESFR European Society of Family Relations é uma associação científica interdisciplinar que tem por objectivo o estudo sobre as famílias e as relações familiares.\nNeste contexto de promoção do conhecimento sobre esta temática\, realiza com regularidade um congresso internacional. \nCoube à Universidade da Madeira a organização de XII Congress of the European Society on Family Relations “Families across Space and Time”\, que terá lugar de 25 a 27 de junho de 2025\, na Universidade da Madeira\, Funchal.\nGostaríamos muito de contar com a vossa presença e apelamos à divulgação desta informação por todos os vossos colaboradores\, estudantes e outros interessados.\nContamos com todos vós!
URL:https://aps.pt/event/xii-esfr-congress-families-across-space-and-time/
LOCATION:Funchal\, Universidade da Madeira
END:VEVENT
BEGIN:VEVENT
DTSTART;TZID=UTC:20250626T000000
DTEND;TZID=UTC:20250627T000000
DTSTAMP:20260423T231006
CREATED:20250623T091057Z
LAST-MODIFIED:20250624T083743Z
UID:28282-1750896000-1750982400@aps.pt
SUMMARY:Colóquio "ReliMM - A Religião nas Múltiplas Modernidades"
DESCRIPTION:Encontra-se já disponível o Programa científico do Colóquio “ReliMM – A Religião nas Múltiplas Modernidades”\, que reúne investigadores/as que estudam a religião e as religiões no contexto das múltiplas modernidades\, com vista a contribuir para uma aproximação interdisciplinar dos que partilham esta problemática de pesquisa\, facilitando a criação de contextos de circulação e cooperação em rede. \nO Colóquio tem como oradores/as investigadores/as em diferentes fases da sua carreira científica\, promovendo de um modo especial a participação daqueles/as que estão numa fase inicial. Esta abertura de diálogo e partilha científicas interdisciplinares a várias gerações confere ao evento um caráter de salutar discussão em torno de reflexões e resultados de trabalhos de pesquisa. \nA 10ª edição do Colóquio é acolhida pelo Instituto de Sociologia da Universidade do Porto (IS-UP) e decorre no Porto\, FLUP\, nos dias 26 e 27 de junho.\nA entrada é livre! \nMais informações em: https://isociologia.up.pt/eventos/coloquio-religiao-nas-multiplas-modernidades-10a-edicao
URL:https://aps.pt/event/mais-informacoes-em-https-isociologia-up-pt-eventos-coloquio-religiao-nas-multiplas-modernidades-10a-edicao/
LOCATION:Porto\, Faculdade de Letras da Universidade do Porto
END:VEVENT
BEGIN:VEVENT
DTSTART;TZID=UTC:20250626T153000
DTEND;TZID=UTC:20250626T153000
DTSTAMP:20260423T231006
CREATED:20250603T084247Z
LAST-MODIFIED:20250603T084247Z
UID:28132-1750951800-1750951800@aps.pt
SUMMARY:"Educação e Futuro"
DESCRIPTION:A Fundação Belmiro de Azevedo convida-o/a a estar presente no evento ‘Educação e Futuro’\, que irá decorrer no dia 26 de junho\, no Técnico Innovation Center\, em Lisboa\, pelas 15h30. \nEste evento\, marcado pela apresentação pública do relatório ‘Balanço Anual da Educação 2025’\, terá também um momento de reflexão estratégica e plural\, que contará com a participação de especialistas e ex-Ministros da Educação.\nContamos consigo\, ! \nRegisto em https://balancoeducacao.edulog.pt/
URL:https://aps.pt/event/educacao-e-futuro/
LOCATION:Lisboa\, Técnico Innovation Center
END:VEVENT
BEGIN:VEVENT
DTSTART;TZID=UTC:20250626T180000
DTEND;TZID=UTC:20250626T180000
DTSTAMP:20260423T231006
CREATED:20250624T084051Z
LAST-MODIFIED:20250624T084051Z
UID:28287-1750960800-1750960800@aps.pt
SUMMARY:Ciclo de conversas | Maneiras de Ver #5 | "Cabos submarinos e os riscos submersos para a soberania"
DESCRIPTION:Conversa com Ana Carolina Haddad e moderada por Luís Bernardo. \nNo dia 28 de abril\, Portugal viu-se confrontado\, tal como Espanha e parte do sul de França\, com um corte na rede de eletricidade\, telecomunicações e até água. A base material das infraestruturas críticas\, bem como as questões ligadas à sua propriedade e regulação\, são decisivas na organização da sociedade. Dessas infraestruturas fazem parte cabos submarinos e ecossistemas de Internet. Do centro de dados de Sines às ligações intercontinentais\, Portugal está estrategicamente localizado no centro destes investimentos. Com que escrutínio público? \nA quinta conversa do ciclo Maneiras de Ver será em torno do texto publicado no número de Maio do Le Monde diplomatique – edição portuguesa\, «Cabos submarinos e os riscos submersos para a soberania»\, de Ana Carolina Haddad. A conversa será moderada por Luís Bernardo\, do conselho editorial do jornal. \nLeia este texto no sítio internet: https://pt.mondediplo.com/2025/06/cabos-submarinos-e-os-riscos-submersos-para-a-soberania.html
URL:https://aps.pt/event/ciclo-de-conversas-maneiras-de-ver-5-cabos-submarinos-e-os-riscos-submersos-para-a-soberania/
LOCATION:Lisboa\, Livraria Tigre de Papel (Rua de Arroios\, n.º 25)
END:VEVENT
END:VCALENDAR