BEGIN:VCALENDAR
VERSION:2.0
PRODID:-//APS - ECPv6.15.20//NONSGML v1.0//EN
CALSCALE:GREGORIAN
METHOD:PUBLISH
X-WR-CALNAME:APS
X-ORIGINAL-URL:https://aps.pt
X-WR-CALDESC:Eventos para APS
REFRESH-INTERVAL;VALUE=DURATION:PT1H
X-Robots-Tag:noindex
X-PUBLISHED-TTL:PT1H
BEGIN:VTIMEZONE
TZID:UTC
BEGIN:STANDARD
TZOFFSETFROM:+0000
TZOFFSETTO:+0000
TZNAME:UTC
DTSTART:20240101T000000
END:STANDARD
END:VTIMEZONE
BEGIN:VEVENT
DTSTART;TZID=UTC:20250703T000000
DTEND;TZID=UTC:20250704T000000
DTSTAMP:20260423T230941
CREATED:20250701T152740Z
LAST-MODIFIED:20250701T152740Z
UID:28349-1751500800-1751587200@aps.pt
SUMMARY:2.º Encontro do Núcleo Relações-em-Contexto | "Olhares sobre a PHDA"
DESCRIPTION:Este encontro é especialmente dedicado a Psicólogos da Educação\, mas está aberto a toda a comunidade. Compromete-se a ser um espaço de partilha\, reflexão e de troca de experiências. \nA participação é gratuita\, mas sujeita a inscrição obrigatória através do formulário: https://docs.google.com/forms/d/e/1FAIpQLSdQuBsqNicE9fX0jDj4WfHJVhzzaqZhK-ioiBIbO62qgN3gxw/viewform \nPROGRAMA \n3 de julho\, Auditório 1 \n14:30 > 16:00 | Mesa redonda “PHDA sob múltiplos olhares”\nBárbara Guedes\, Psicóloga\, Brainstorm – Associação Portuguesa de PHDA\nCarolina Vieira\, mãe de uma criança com PHDA\nInês Homem de Melo\, Médica Psiquiatra\, Clínica do Quinto Andar\nModeração: Diana Alves\, Faculdade de Psicologia e Ciências da Educação da Universidade do Porto \n4 de julho\, Sala 250 \n09:00 > 10:30 | Workshop “Camaleão EmoJI – Emoções no Jardim de Infância – projeto no âmbito das competências socioemocionais”\nMónica Leal\, Maria João Guerra e Isabel Pinto\, Psicólogas\, Agrupamento de Escolas Dr. Costa Matos \n11:00 > 12:30 | Workshop “Serviço de Psicologia e Orientação: Reflexão sobre intervenções de nível universal e PHDA”\nTeresa Jesus e Marisa Fonseca\, Psicólogas\, Agrupamento de Escolas Dr. Manuel Laranjeira
URL:https://aps.pt/event/2-o-encontro-do-nucleo-relacoes-em-contexto-olhares-sobre-a-phda/
LOCATION:Porto\, Faculdade de Psicologia e de Ciências da Educação da Universidade do Porto
END:VEVENT
END:VCALENDAR