BEGIN:VCALENDAR
VERSION:2.0
PRODID:-//APS - ECPv6.15.20//NONSGML v1.0//EN
CALSCALE:GREGORIAN
METHOD:PUBLISH
X-WR-CALNAME:APS
X-ORIGINAL-URL:https://aps.pt
X-WR-CALDESC:Eventos para APS
REFRESH-INTERVAL;VALUE=DURATION:PT1H
X-Robots-Tag:noindex
X-PUBLISHED-TTL:PT1H
BEGIN:VTIMEZONE
TZID:UTC
BEGIN:STANDARD
TZOFFSETFROM:+0000
TZOFFSETTO:+0000
TZNAME:UTC
DTSTART:20240101T000000
END:STANDARD
END:VTIMEZONE
BEGIN:VEVENT
DTSTART;TZID=UTC:20250901T120000
DTEND;TZID=UTC:20250901T120000
DTSTAMP:20260424T015859
CREATED:20250812T094808Z
LAST-MODIFIED:20250812T094808Z
UID:28597-1756728000-1756728000@aps.pt
SUMMARY:Webinar "Trump and the Shifting Order of Global Jurisprudence: Responses of Intersectionality Towards Social and Economic Justice"
DESCRIPTION:O evento decorre na plataforma Teams e conta com a intervenção de Daniel Ketcher (Professor Auxiliar na Universidade de Lynn\, EUA\, e investigador visitante do CIJ.\nAnabela Costa Leão\, investigadora do CIJ\, desempenha o papel de discussant\, enquanto Graça Enes\, investigadora do CIJ\, é responsável pela moderação da sessão. \nLink de acesso ao webinar:\nID da Reunião: 357 889 785 925 8\nCódigo de acesso: KT6Mh3kE\nhttps://teams.microsoft.com/l/meetup-join/19%3ameeting_Mzg1MjI1NzMtN2ZjMi00MTRlLTkwNDUtMmVjMWFlNTIxZDk5%40thread.v2/0?context={%22Tid%22%3a%22b7821bc8-67cc-447b-b579-82f7854174fc%22%2c%22Oid%22%3a%225d443744-5e3f-4869-a5ee-1ce7ad2c53b2%22} \nPoderá visualizar o respetivo programa em https://filesender.up.pt/?s=download&token=b8582fe3-15eb-46aa-bb9c-b97650555d8c
URL:https://aps.pt/event/webinar-trump-and-the-shifting-order-of-global-jurisprudence-responses-of-intersectionality-towards-social-and-economic-justice/
LOCATION:Evento online
END:VEVENT
END:VCALENDAR