BEGIN:VCALENDAR
VERSION:2.0
PRODID:-//APS - ECPv6.15.20//NONSGML v1.0//EN
CALSCALE:GREGORIAN
METHOD:PUBLISH
X-WR-CALNAME:APS
X-ORIGINAL-URL:https://aps.pt
X-WR-CALDESC:Eventos para APS
REFRESH-INTERVAL;VALUE=DURATION:PT1H
X-Robots-Tag:noindex
X-PUBLISHED-TTL:PT1H
BEGIN:VTIMEZONE
TZID:UTC
BEGIN:STANDARD
TZOFFSETFROM:+0000
TZOFFSETTO:+0000
TZNAME:UTC
DTSTART:20240101T000000
END:STANDARD
END:VTIMEZONE
BEGIN:VEVENT
DTSTART;TZID=UTC:20250904T150000
DTEND;TZID=UTC:20250904T183000
DTSTAMP:20260424T063251
CREATED:20250729T095247Z
LAST-MODIFIED:20250729T095247Z
UID:28551-1756998000-1757010600@aps.pt
SUMMARY:Sessão Pública | Dia Mundial da Saúde Sexual
DESCRIPTION:A Universidade do Porto e a Faculdade de Psicologia e de Ciências da Educação da Universidade do Porto (FPCEUP) celebram o Dia Mundial da Saúde Sexual com uma sessão pública organizada em parceria com a World Association for Sexual Health (WAS). \nO programa inclui a presença de representantes de organizações internacionais\, como a Organização Mundial da Saúde e agências das Nações Unidas\, bem como entidades governamentais portuguesas. \nDurante a sessão será assinado um protocolo de colaboração entre a Universidade do Porto e a Associação Mundial de Saúde Sexual\, que dará origem ao Observatório Mundial de Saúde Sexual\, com sede na Universidade do Porto. \nA entrada é livre e aberta ao público até ao limite de lotação da sala. \nInscrições até 29 de agosto no formulário em https://forms.office.com/pages/responsepage.aspx?id=yBuCt8xne0S1eYL3hUF0_IG29nKUuBRCm-NMWBawEyFUQkxJWUwwRlpFUUJLTTZUQzVURFMwVDFQRS4u&route=shorturl
URL:https://aps.pt/event/sessao-publica-dia-mundial-da-saude-sexual/
LOCATION:Porto\, Reitoria da Universidade do Porto
END:VEVENT
END:VCALENDAR