BEGIN:VCALENDAR
VERSION:2.0
PRODID:-//APS - ECPv6.15.20//NONSGML v1.0//EN
CALSCALE:GREGORIAN
METHOD:PUBLISH
X-WR-CALNAME:APS
X-ORIGINAL-URL:https://aps.pt
X-WR-CALDESC:Eventos para APS
REFRESH-INTERVAL;VALUE=DURATION:PT1H
X-Robots-Tag:noindex
X-PUBLISHED-TTL:PT1H
BEGIN:VTIMEZONE
TZID:UTC
BEGIN:STANDARD
TZOFFSETFROM:+0000
TZOFFSETTO:+0000
TZNAME:UTC
DTSTART:20250101T000000
END:STANDARD
END:VTIMEZONE
BEGIN:VEVENT
DTSTART;TZID=UTC:20260423T000000
DTEND;TZID=UTC:20260424T000000
DTSTAMP:20260423T022643
CREATED:20260417T091407Z
LAST-MODIFIED:20260417T091407Z
UID:30407-1776902400-1776988800@aps.pt
SUMMARY:Evento internacional "Desarquivar a Democracia"
DESCRIPTION:Organizado pela Fundação Mário Soares e Maria Barroso e subordinado ao tema “Desarquivar a Democracia: Jovens\, memória pós-colonial e a construção da democracia em Portugal”\, o evento reunirá participantes de vários países europeus\, incluindo investigadores\, representantes institucionais e\, sobretudo\, jovens. \nO programa decorrerá em três espaços distintos (Museu do Aljube\, Fundação Mário Soares e Maria Barroso e Padrão dos Descobrimentos) e incluirá debates\, workshops\, testemunhos e visitas a lugares de memória. \nPelo seu enfoque na relação entre memória democrática\, legados pós-coloniais e os desafios contemporâneos à democracia\, acreditamos que esta iniciativa poderá revestir interesse para a associação a que preside\, bem como para os seus membros. \nA participação é aberta\, podendo os interessados inscrever-se na totalidade do evento ou apenas em momentos específicos do programa. \nPrograma: https://fmsoaresbarroso.pt/uploads/FREI_International_Event_in_Lisbon_Public_Programme_8800a68c47.pdf\nInscrições: https://forms.gle/kaVxJ55hcXNzWfYK7
URL:https://aps.pt/event/evento-internacional-desarquivar-a-democracia/
LOCATION:Lisboa\, Museu do Aljube\, Fundação Mário Soares e Maria Barroso e Padrão dos Descobrimentos
END:VEVENT
BEGIN:VEVENT
DTSTART;TZID=UTC:20260423T103000
DTEND;TZID=UTC:20260423T103000
DTSTAMP:20260423T022643
CREATED:20260421T155634Z
LAST-MODIFIED:20260421T155634Z
UID:30451-1776940200-1776940200@aps.pt
SUMMARY:Webinar "Europe in Polycrisis. Precarious Lives and Emerging Regimes of Vulnerability"
DESCRIPTION:Feel free to join and to ask further information to the organizer\, Olga Salido Cortès (olga.salido@cps.ucm.es).
URL:https://aps.pt/event/webinar-europe-in-polycrisis-precarious-lives-and-emerging-regimes-of-vulnerability/
LOCATION:Evento online
END:VEVENT
END:VCALENDAR