BEGIN:VCALENDAR
VERSION:2.0
PRODID:-//APS - ECPv6.15.20//NONSGML v1.0//EN
CALSCALE:GREGORIAN
METHOD:PUBLISH
X-WR-CALNAME:APS
X-ORIGINAL-URL:https://aps.pt
X-WR-CALDESC:Eventos para APS
REFRESH-INTERVAL;VALUE=DURATION:PT1H
X-Robots-Tag:noindex
X-PUBLISHED-TTL:PT1H
BEGIN:VTIMEZONE
TZID:UTC
BEGIN:STANDARD
TZOFFSETFROM:+0000
TZOFFSETTO:+0000
TZNAME:UTC
DTSTART:20250101T000000
END:STANDARD
END:VTIMEZONE
BEGIN:VEVENT
DTSTART;TZID=UTC:20260424T140000
DTEND;TZID=UTC:20260424T180000
DTSTAMP:20260424T015919
CREATED:20260421T160008Z
LAST-MODIFIED:20260421T160008Z
UID:30453-1777039200-1777053600@aps.pt
SUMMARY:XXIV DIÁLOGOS SOBRE EDUCAÇÃO | Homenagem Teresa Sarmento\, Emília Vilarinho e Manuel António Silva
DESCRIPTION:Inscrição: https://bit.ly/Dialogos2026
URL:https://aps.pt/event/xxiv-dialogos-sobre-educacao-homenagem-teresa-sarmento-emilia-vilarinho-e-manuel-antonio-silva/
LOCATION:Braga\, Auditório Multimédia do Instituto de Educação da Universidade do Minho
END:VEVENT
BEGIN:VEVENT
DTSTART;TZID=UTC:20260424T180000
DTEND;TZID=UTC:20260424T180000
DTSTAMP:20260424T015919
CREATED:20260417T093834Z
LAST-MODIFIED:20260417T093834Z
UID:30413-1777053600-1777053600@aps.pt
SUMMARY:"Pacote Laboral e Reforma do Estado\, duas mudanças desastrosas."
DESCRIPTION:Conversa com Sebastião Santana e José Feliciano Costa\, com moderação por Sandra Monteiro.\nEntrada livre. \nA realização em 11 de Dezembro último de uma greve geral com uma adesão histórica forçou a entrada no espaço mediático de debates sobre o carácter socialmente regressivo das propostas do governo de alteração da legislação laboral. Menos discutida tem sido a Reforma do Estado que está em curso\, em vários ministérios centrais ao Estado de direito democrático (Saúde\, Educação…) e que anuncia uma profunda\, e desastrosa\, reconfiguração das capacidades e funções do Estado e da Administração Pública. \nNesta sessão partimos do artigo publicado no número de Março da edição portuguesa do Le Monde diplomatique ‘Pacote Laboral e Reforma do Estado\, duas mudanças desastrosas’\, de Sebastião Santana\, coordenador da Frente Comum de Sindicatos da Administração Pública. Além do autor do artigo\, estará também connosco José Feliciano Costa\, secretário-geral da FENPROF. A moderação ficará a cargo de Sandra Monteiro\, directora do Le Monde diplomatique – edição portuguesa.
URL:https://aps.pt/event/pacote-laboral-e-reforma-do-estado-duas-mudancas-desastrosas/
LOCATION:Lisboa\, Livraria Tigre de Papel (Rua de Arroios\, n.º 25)
END:VEVENT
END:VCALENDAR