BEGIN:VCALENDAR
VERSION:2.0
PRODID:-//APS - ECPv6.15.20//NONSGML v1.0//EN
CALSCALE:GREGORIAN
METHOD:PUBLISH
X-ORIGINAL-URL:https://aps.pt
X-WR-CALDESC:Eventos para APS
REFRESH-INTERVAL;VALUE=DURATION:PT1H
X-Robots-Tag:noindex
X-PUBLISHED-TTL:PT1H
BEGIN:VTIMEZONE
TZID:UTC
BEGIN:STANDARD
TZOFFSETFROM:+0000
TZOFFSETTO:+0000
TZNAME:UTC
DTSTART:20240101T000000
END:STANDARD
END:VTIMEZONE
BEGIN:VEVENT
DTSTART;TZID=UTC:20250630T000000
DTEND;TZID=UTC:20250702T000000
DTSTAMP:20260423T231050
CREATED:20250318T110424Z
LAST-MODIFIED:20250318T110424Z
UID:27239-1751241600-1751414400@aps.pt
SUMMARY:V Encontro Internacional Todas as Artes | Todos os Nomes
DESCRIPTION:Chamada para resumos: até 15 de Abril de 2025 \nReunindo pesquisadores brasileiros\, portugueses e de outras nacionalidades\, o V Encontro Internacional da Rede Todas as Artes | Todos os Nomes\, que terá lugar na cidade do Porto\, nos dias 30 de junho e 1 e 2 de julho de 2025\, terá como mote o papel da Inteligência Artificial na contemporaneidade\, nomeadamente em relação à criação artística e no campo das políticas culturais e de outras pesquisas nas ciências sociais. \nDando seguimento ao interesse de quase duas centenas de investigadores que têm participado nas antecedentes edições no quadro das ciências sociais\, artes e humanidades\, é nosso intento exportar e refletir o avanço da inteligência artificial (IA) e as transformações profundas que está a operar nos campos da arte\, da cultura e da sociedade\, criando possibilidades e desafios para a criatividade e para a expressão humana. \nDesta feita\, o V Encontro Internacional Todas as Artes\, propõe ser um espaço de reflexão e de diálogo interdisciplinar sobre os modos como a IA reconfigura os limites da produção artística\, dos processos criativos e das relações sociais\, questionando paradigmas éticos\, políticos e económicos. \nContacto: todasartes.congresso@gmail.com\nInformação e submissão de propostas em https://todasartes.eventqualia.net/pt/inicio/
URL:https://aps.pt/event/v-encontro-internacional-todas-as-artes-todos-os-nomes/
LOCATION:Porto\, Faculdade de Letras da Universidade do Porto
END:VEVENT
BEGIN:VEVENT
DTSTART;TZID=UTC:20250701T093000
DTEND;TZID=UTC:20250701T120000
DTSTAMP:20260423T231050
CREATED:20250623T092648Z
LAST-MODIFIED:20250623T092648Z
UID:28284-1751362200-1751371200@aps.pt
SUMMARY:Webinar "NATO after the Hague Summit: Deterring and Defending for the Future"
DESCRIPTION:O webinar realiza-se em inglês\, e abordará diversas questões importantes. Como irá a NATO e\, em particular\, os seus aliados europeus garantir o reforço das suas defesas – nos domínios da proteção das infraestruturas submarinas críticas\, da defesa digital e da guerra tecnológica\, entre outros – e fortalecer a unidade transatlântica? Como melhorar a interligação entre as estratégias dos flancos Norte e Sul\, reforçando ao mesmo tempo as parcerias estratégicas globais da NATO com a Austrália\, Coreia do Sul\, Japão e a Nova Zelândia? \nO webinar reúne especialistas em segurança internacional\, que irão debater os principais temas que foram abordados na cimeira da Organização do Tratado do Atlântico Norte na Haia. \nTeremos todo o gosto em contar com a sua participação no nosso webinar.\nInscrições: https://www.idn.gov.pt/pt/Inscricoes/Paginas/Registo-Evento.aspx?Evento=75
URL:https://aps.pt/event/webinar-nato-after-the-hague-summit-deterring-and-defending-for-the-future/
LOCATION:Lisboa\, Instituto de Defesa Nacional
END:VEVENT
BEGIN:VEVENT
DTSTART;TZID=UTC:20250703T000000
DTEND;TZID=UTC:20250703T000000
DTSTAMP:20260423T231050
CREATED:20250617T153005Z
LAST-MODIFIED:20250617T153005Z
UID:28236-1751500800-1751500800@aps.pt
SUMMARY:«Novas Demografias» | 3ª Conferência Itinerante | Por Ricardo Vieira
DESCRIPTION:A formação realizar-se-á no Instituto Politécnico de Leiria e a distância\, e as inscrições decorrem até ao dia 2 de julho. \nA sessão será a distância na plataforma ZOOM do Centro de Formação da SPCE. \nAs inscrições estão disponíveis em: https://docs.google.com/forms/d/e/1FAIpQLSeS3R7oQoz14HEwGKIjlOdn5MOFBDuNXfIK05pb0HEpfreyTg/viewform
URL:https://aps.pt/event/novas-demografias-3a-conferencia-itinerante-por-ricardo-vieira/
LOCATION:Leiria\, Instituto Politécnico de Leiria e online
END:VEVENT
BEGIN:VEVENT
DTSTART;TZID=UTC:20250703T000000
DTEND;TZID=UTC:20250704T000000
DTSTAMP:20260423T231050
CREATED:20250701T152740Z
LAST-MODIFIED:20250701T152740Z
UID:28349-1751500800-1751587200@aps.pt
SUMMARY:2.º Encontro do Núcleo Relações-em-Contexto | "Olhares sobre a PHDA"
DESCRIPTION:Este encontro é especialmente dedicado a Psicólogos da Educação\, mas está aberto a toda a comunidade. Compromete-se a ser um espaço de partilha\, reflexão e de troca de experiências. \nA participação é gratuita\, mas sujeita a inscrição obrigatória através do formulário: https://docs.google.com/forms/d/e/1FAIpQLSdQuBsqNicE9fX0jDj4WfHJVhzzaqZhK-ioiBIbO62qgN3gxw/viewform \nPROGRAMA \n3 de julho\, Auditório 1 \n14:30 > 16:00 | Mesa redonda “PHDA sob múltiplos olhares”\nBárbara Guedes\, Psicóloga\, Brainstorm – Associação Portuguesa de PHDA\nCarolina Vieira\, mãe de uma criança com PHDA\nInês Homem de Melo\, Médica Psiquiatra\, Clínica do Quinto Andar\nModeração: Diana Alves\, Faculdade de Psicologia e Ciências da Educação da Universidade do Porto \n4 de julho\, Sala 250 \n09:00 > 10:30 | Workshop “Camaleão EmoJI – Emoções no Jardim de Infância – projeto no âmbito das competências socioemocionais”\nMónica Leal\, Maria João Guerra e Isabel Pinto\, Psicólogas\, Agrupamento de Escolas Dr. Costa Matos \n11:00 > 12:30 | Workshop “Serviço de Psicologia e Orientação: Reflexão sobre intervenções de nível universal e PHDA”\nTeresa Jesus e Marisa Fonseca\, Psicólogas\, Agrupamento de Escolas Dr. Manuel Laranjeira
URL:https://aps.pt/event/2-o-encontro-do-nucleo-relacoes-em-contexto-olhares-sobre-a-phda/
LOCATION:Porto\, Faculdade de Psicologia e de Ciências da Educação da Universidade do Porto
END:VEVENT
BEGIN:VEVENT
DTSTART;TZID=UTC:20250707T150000
DTEND;TZID=UTC:20250707T150000
DTSTAMP:20260423T231050
CREATED:20250616T140457Z
LAST-MODIFIED:20250701T193855Z
UID:28225-1751900400-1751900400@aps.pt
SUMMARY:Em Andamento. Pesquisas em Sociologia. Apresentação dos trabalhos dos doutorandos
DESCRIPTION:Uma organização do curso de Doutoramento em Sociologia do Departamento de Sociologia da FLUP\, em colaboração com o Instituto de Sociologia da Universidade do Porto. \nA edição deste ano conta também com uma conferência de encerramento proferida pelo Professor Doutor Seth M. Holmes (University of California Berkeley & ICREA\, Universitat de Barcelona) intitulada “Food Circuits: The Invisibilization of Connections Between Migrants and Societies\, Humans and Environments”.  \nA apresentação do Professor Seth M. Holmes estará a cargo do Professor João Queirós\, coordenador do subgrupo Recomposições Sociais e Territórios do Instituto de Sociologia da Universidade do Porto.
URL:https://aps.pt/event/uma-organizacao-do-curso-de-doutoramento-em-sociologia-do-departamento-de-sociologia-da-flup-em-colaboracao-com-o-instituto-de-sociologia-da-universidade-do-porto-a-edicao-deste-ano-conta-tambem-co/
LOCATION:Porto\, Anfiteatro Nobre da Faculdade de Letras da Universidade do Porto (FLUP)
END:VEVENT
BEGIN:VEVENT
DTSTART;TZID=UTC:20250708T133000
DTEND;TZID=UTC:20250708T133000
DTSTAMP:20260423T231050
CREATED:20250708T082545Z
LAST-MODIFIED:20250708T082616Z
UID:28373-1751981400-1751981400@aps.pt
SUMMARY:Encontros DICA - Divulgar\, Inovar\, Colaborar\, Aprender (Lisboa)
DESCRIPTION:Programa: https://www.cnedu.pt/content/DICA/DICA_2025/Programa_DICA_8_julho__Lisboa.pdf\nInscrição: https://docs.google.com/forms/d/1AaLaw6mc-d0SmdnrKGH8JjveQk9FHBXRLEpVCPnLBsY/edit
URL:https://aps.pt/event/encontros-dica-divulgar-inovar-colaborar-aprender/
LOCATION:Lisboa\, Salão Nobre da Escola Superior de Educação do Instituto Politécnico de Lisboa
END:VEVENT
BEGIN:VEVENT
DTSTART;TZID=UTC:20250710T181500
DTEND;TZID=UTC:20250710T181500
DTSTAMP:20260423T231050
CREATED:20250630T130422Z
LAST-MODIFIED:20250630T130422Z
UID:28327-1752171300-1752171300@aps.pt
SUMMARY:Apresentação do livro "O Regresso à Europa – A Posição Internacional da Democracia Portuguesa"
DESCRIPTION:Terá lugar a 10 de julho\, pelas 18h15\, no Instituto da Defesa Nacional\, a apresentação do livro do Professor Doutor Carlos Gaspar\, “O Regresso à Europa – A Posição Internacional da Democracia Portuguesa”. A obra\, n.º 47 da coleção Atena\, analisa o reposicionamento internacional de Portugal com o fim do império colonial e a terceira vaga de democratização no mundo\, iniciada no nosso país. Para o autor\, “a crise revolucionária em Portugal é\, simultaneamente\, uma crise típica da primeira fase da Guerra Fria\, no sentido em que se trata da última tentativa histórica de tomada de poder por um Partido Comunista na Europa\, e uma crise da nova fase de détente\, em que estão em causa não só o status quo europeu\, como as balanças periféricas perturbadas pela transferência de poderes nas colónias portuguesas”. \nA apresentação da obra ficará a cargo do Professor Doutor Nuno Severiano Teixeira. \nParticipação no evento mediante inscrição prévia em https://www.idn.gov.pt/pt/Inscricoes/Paginas/Registo-Evento.aspx?Evento=76
URL:https://aps.pt/event/apresentacao-do-livro-o-regresso-a-europa-a-posicao-internacional-da-democracia-portuguesa/
LOCATION:Lisboa\, Instituto da Defesa Nacional
END:VEVENT
BEGIN:VEVENT
DTSTART;TZID=UTC:20250711T110000
DTEND;TZID=UTC:20250711T110000
DTSTAMP:20260423T231050
CREATED:20250707T152239Z
LAST-MODIFIED:20250707T152239Z
UID:28370-1752231600-1752231600@aps.pt
SUMMARY:Sessão aberta do Seminário de Investigação do Doutoramento em Criminologia | conferência "Publishing and the Changing Digital Landscape: AI\, Open Access and Open Science"\, por Kyle Treiber (University of Cambridge)
DESCRIPTION:Convidam-se todos/as os/as estudantes e investigadores/as da FDUP\, do CIJ e da U. Porto a participar nesta reflexão sobre os desafios e transformações da publicação científica no contexto digital atual. \nA sessão é presencial\, gratuita e aberta ao público\, não sendo necessária inscrição prévia. \nPoderá visualizar o cartaz da sessão em https://filesender.up.pt/?s=download&token=67eabb99-0f68-4795-8bbb-b8c6bd110b9a
URL:https://aps.pt/event/sessao-aberta-do-seminario-de-investigacao-do-doutoramento-em-criminologia-conferencia-publishing-and-the-changing-digital-landscape-ai-open-access-and-open-science-por-kyle-treiber-universi/
LOCATION:Porto\, Sala 1.27 da Faculdade de Direito da Universidade do Porto
END:VEVENT
BEGIN:VEVENT
DTSTART;TZID=UTC:20250711T133000
DTEND;TZID=UTC:20250711T133000
DTSTAMP:20260423T231050
CREATED:20250708T082702Z
LAST-MODIFIED:20250708T082702Z
UID:28377-1752240600-1752240600@aps.pt
SUMMARY:Encontros DICA - Divulgar\, Inovar\, Colaborar\, Aprender (Viseu)
DESCRIPTION:Programa: https://www.cnedu.pt/content/DICA/DICA_2025/Programa_DICA_Viseu_11julho.pdf\nInscrição: https://docs.google.com/forms/d/1mXn61lB8FitVaY-hUXbXTshcci-pfgeJVWFiI_UkV6o/edit
URL:https://aps.pt/event/encontros-dica-divulgar-inovar-colaborar-aprender-viseu/
LOCATION:Viseu\, Auditório da Escola Superior de Tecnologia e Gestão do Instituto Politécnico de Viseu
END:VEVENT
BEGIN:VEVENT
DTSTART;TZID=UTC:20250711T180000
DTEND;TZID=UTC:20250711T180000
DTSTAMP:20260423T231050
CREATED:20250708T084008Z
LAST-MODIFIED:20250708T084008Z
UID:28380-1752256800-1752256800@aps.pt
SUMMARY:Ciclo Maneiras de Ver : "A guerra\, o trauma e a saúde mental"\, conversa com Ana Matos Pires e Luísa Sales\, com moderação por Fernando Ramalho
DESCRIPTION:Um dos impactos mais devastadores de qualquer cenário de guerra é sobre a saúde mental dos envolvidos: as populações\, de uma forma geral\, e muito particularmente os soldados expostos directamente aos combates. \nNesta sexta sessão do ciclo Maneiras de Ver partimos de um texto de Caroline Thirion\, «A psiquiatria desarmada na Ucrânia»\, publicado na edição de Junho do Le Monde diplomatique e centrado na exposição prolongada dos civis soldados ucranianos à guerra\, para uma abordagem mais genérica da relação entre o crescimento dos distúrbios mentais em contexto de guerra e as dificuldades de resposta da medicina psiquiátrica. \nContaremos com a participação de Ana Matos Pires e Luísa Sales\, ambas psiquiatras. A conversa será moderada por Fernando Ramalho\, livreiro da Tigre de Papel. \nEntrada livre.\nLeia este texto em https://pt.mondediplo.com/2025/07/a-guerra-o-trauma-e-a-saude-mental.html
URL:https://aps.pt/event/ciclo-maneiras-de-ver-a-guerra-o-trauma-e-a-saude-mental-conversa-com-ana-matos-pires-e-luisa-sales-com-moderacao-por-fernando-ramalho/
LOCATION:Lisboa\, Livraria Tigre de Papel (Rua de Arroios\, n.º 25)
END:VEVENT
BEGIN:VEVENT
DTSTART;TZID=UTC:20250714T183000
DTEND;TZID=UTC:20250714T183000
DTSTAMP:20260423T231050
CREATED:20250713T180829Z
LAST-MODIFIED:20250713T180829Z
UID:28397-1752517800-1752517800@aps.pt
SUMMARY:Lançamento do livro "Bourdieu e os Seus Livros. Exercícios práticos de leitura"
DESCRIPTION:Obra organizada por Virgílio Borges Pereira\, investigador do Instituto de Sociologia da Universidade do Porto (IS-UP)\, e coeditada pelo IS-UP e pela U.Porto Press\, na sua coleção Transversal. \nSão 20 contributos de especialistas das ciências sociais – incluindo diferentes especialidades sociológicas – que debatem dez livros da vasta obra de Pierre Bourdieu\, sociólogo francês e autor de um grande número de clássicos da sociologia. \nA apresentação pública deste livro está marcada para 14 de julho\, a partir das 18h30\, no Auditório da Casa Comum\, na Reitoria da U.Porto (à Praça Gomes Teixeira). \nSofia Cruz\, Professora Associada com Agregação da Faculdade de Economia da U.Porto e investigadora integrada do Instituto de Sociologia da U.Porto\, e Lucas Page Pereira\, investigador da École Normale Supérieure Paris-Saclay – Université Paris-Saclay\, são os oradores convidados para apresentar a obra.\nA sessão contará\, ainda\, com intervenções de Fátima Vieira\, Vice-Reitora da U.Porto para a Cultura\, Museus e responsável pela U.Porto Press\, e Virgílio Borges Pereira. \nA entrada é livre.
URL:https://aps.pt/event/lancamento-do-livro-bourdieu-e-os-seus-livros-exercicios-praticos-de-leitura/
LOCATION:Porto\, Auditório da Casa Comum – Reitoria da Universidade do Porto (à Praça Gomes Teixeira)
END:VEVENT
BEGIN:VEVENT
DTSTART;TZID=UTC:20250716T180000
DTEND;TZID=UTC:20250716T180000
DTSTAMP:20260423T231050
CREATED:20250709T085754Z
LAST-MODIFIED:20250709T085754Z
UID:28390-1752688800-1752688800@aps.pt
SUMMARY:Lanche + Tertúlia : « A maioria parlamentar\, o regime constitucional e o futuro »
DESCRIPTION:A nova configuração parlamentar resultante das eleições de maio permite às direitas operar profunda uma alteração regressiva do regime constitucional. Com ou sem revisão da Constituição\, o quadro normativo que vigora desde o 25 de Abril poderá sofrer um importante retrocesso conservador. Propostas de alterações na área económica\, social e não só ameaçam criar mais desigualdades num país já particularmente desigual e pobre. \nA democracia\, apesar de todas as suas falhas\, tem assentado num quadro de princípios e valores que podem estar mais do que nunca em perigo. Como imaginar e construir um futuro em que a diversidade igualitária e a justiça social\, apoiadas em direitos universais e serviços públicos\, resistam às ilusões que conservadores e neoliberais tentam impor à sociedade\, em particular a todos quantos estão a ser deixados para trás? \nConvidamos todos os nossos leitores a participar neste debate. Receção a partir das 18h00\, seguida de lanche ajantarado antes de começar a tertúlia com os nossos convidados.\nOradores \nAna Rodrigues Jurista e docente universitária (EDUM)\nSergio Maia Tavares Marques Jurista\nVicente Ferreira Economista\nModeração \nEugénia Pires (economista\, Le Monde diplomatique – edição portuguesa)
URL:https://aps.pt/event/lanche-tertulia-a-maioria-parlamentar-o-regime-constitucional-e-o-futuro/
LOCATION:Lisboa\, SPGL (Rua Fialho de Almeida\, n.º 3)
END:VEVENT
BEGIN:VEVENT
DTSTART;TZID=UTC:20250717T143000
DTEND;TZID=UTC:20250717T143000
DTSTAMP:20260423T231050
CREATED:20250715T193412Z
LAST-MODIFIED:20250715T193412Z
UID:28400-1752762600-1752762600@aps.pt
SUMMARY:"Estratégias contra o Anticiganismo: Uma Experiência Política"\, por Ismael Cortés
DESCRIPTION:Ismael Cortés\, de origem cigana\, é atualmente professor associado\, investigador doutorado em Estudos Internacionais sobre Paz\, Conflitos e Desenvolvimento e antigo deputado do Congresso de deputados de Espanha. \nO comentário será feito por Tânia Oliveira\, mediadora intercultural de formação e formadora de História e Cultura Cigana. \nA palestra será transmitida\, também\, por zoom\, com seguinte link de acesso: \nTópico: Palestra Estratégias contra o Anticiganismo: Uma Experiência Política\nHorário: 17 jul. 2025\, 14h30\,\nIngressar na reunião Zoom:\nhttps://videoconf-colibri.zoom.us/j/99758286393?pwd=h2nf6mEACxQ223zi5el1TyZK5vR2T4.1 \nID da reunião: 997 5828 6393\nSenha: 604247 \nTeremos todo o gosto em contar com a vossa presença neste evento! Confirmem\, por favor\, a vossa presença e modalidade em que estarão (presencialmente ou online) até dia 15 de julho para os seguintes e-mails: encc2426@gmail.com (e-mail do Projeto); inesbarbosa@letras.up.pt (Coordenadora do Projeto); obaax@iscte-iul.pt e pinheirosapi@gmail.com (bolseiras de investigação do Projeto) \nPoderão\, também\, seguir a nossa página no instagram (user: encc24_26) e partilhar a publicação: https://www.instagram.com/encc24_26/p/DL-0N1EMkwG/.
URL:https://aps.pt/event/estrategias-contra-o-anticiganismo-uma-experiencia-politica-por-ismael-cortes/
LOCATION:Figueira da Foz\, Quartel da Imagem
END:VEVENT
BEGIN:VEVENT
DTSTART;TZID=UTC:20250723T000000
DTEND;TZID=UTC:20250726T000000
DTSTAMP:20260423T231050
CREATED:20241208T215900Z
LAST-MODIFIED:20241208T215900Z
UID:26457-1753228800-1753488000@aps.pt
SUMMARY:Congresso Europeu da International Auto Biography Association 2025 (IABA) | "Escrita de Vida e Transformação Social"
DESCRIPTION:+info: https://www.ces.uc.pt/pt/agenda-noticias/agenda-de-eventos/2025/iabacoimbra
URL:https://aps.pt/event/congresso-europeu-da-international-auto-biography-association-2025-iaba-escrita-de-vida-e-transformacao-social/
LOCATION:Coimbra\, Faculdade de Letras da Universidade de Coimbra
END:VEVENT
END:VCALENDAR